BEGIN:VCALENDAR
VERSION:2.0
PRODID:-//The Velvet Note - ECPv6.15.20//NONSGML v1.0//EN
CALSCALE:GREGORIAN
METHOD:PUBLISH
X-WR-CALNAME:The Velvet Note
X-ORIGINAL-URL:https://thevelvetnote.com
X-WR-CALDESC:Events for The Velvet Note
REFRESH-INTERVAL;VALUE=DURATION:PT1H
X-Robots-Tag:noindex
X-PUBLISHED-TTL:PT1H
BEGIN:VTIMEZONE
TZID:America/New_York
BEGIN:DAYLIGHT
TZOFFSETFROM:-0500
TZOFFSETTO:-0400
TZNAME:EDT
DTSTART:20240310T070000
END:DAYLIGHT
BEGIN:STANDARD
TZOFFSETFROM:-0400
TZOFFSETTO:-0500
TZNAME:EST
DTSTART:20241103T060000
END:STANDARD
BEGIN:DAYLIGHT
TZOFFSETFROM:-0500
TZOFFSETTO:-0400
TZNAME:EDT
DTSTART:20250309T070000
END:DAYLIGHT
BEGIN:STANDARD
TZOFFSETFROM:-0400
TZOFFSETTO:-0500
TZNAME:EST
DTSTART:20251102T060000
END:STANDARD
BEGIN:DAYLIGHT
TZOFFSETFROM:-0500
TZOFFSETTO:-0400
TZNAME:EDT
DTSTART:20260308T070000
END:DAYLIGHT
BEGIN:STANDARD
TZOFFSETFROM:-0400
TZOFFSETTO:-0500
TZNAME:EST
DTSTART:20261101T060000
END:STANDARD
BEGIN:DAYLIGHT
TZOFFSETFROM:-0500
TZOFFSETTO:-0400
TZNAME:EDT
DTSTART:20270314T070000
END:DAYLIGHT
BEGIN:STANDARD
TZOFFSETFROM:-0400
TZOFFSETTO:-0500
TZNAME:EST
DTSTART:20271107T060000
END:STANDARD
END:VTIMEZONE
BEGIN:VEVENT
DTSTART;TZID=America/New_York:20251231T190000
DTEND;TZID=America/New_York:20260101T123000
DTSTAMP:20260421T191152
CREATED:20251102T111411Z
LAST-MODIFIED:20251225T051305Z
UID:31470-1767207600-1767270600@thevelvetnote.com
SUMMARY:New Year's Eve at The Velvet Note!  *** SOLD OUT!!   SOLD OUT!!  SOLD OUT!! ***
DESCRIPTION:TWO SHOWS: 7:00PM AND 9:30PM. It’s a new year\, and what could be better than great live music\, food\, spirits and company in the warmth and comfort of a beautiful living room? The Velvet Note welcomes you to our annual New Year’s eve gala! This year’s festivities star singing star Toni Redd with an outstanding band. And you can choose the early dinner show\, or the later midnight show–it’s up to you! Your entry fee includes seating\, concert\, champagne toast\, party favors and a dessert tasting plate. Food and additional beverages are a la carte and served until 12:30am.    To buy seats please CLICK THE “BUY NOW” BUTTON BELOW!
URL:https://thevelvetnote.com/event/new-years-eve-at-the-velvet-note-2/
LOCATION:The Velvet Note Main Stage\, 4075 Old Milton Parkway\, Alpharetta\, 30005\, United States
ATTACH;FMTTYPE=image/jpeg:https://thevelvetnote.com/wp-content/uploads/2025/11/Add-a-heading-6.jpg
END:VEVENT
BEGIN:VEVENT
DTSTART;TZID=America/New_York:20260101T200000
DTEND;TZID=America/New_York:20260101T230000
DTSTAMP:20260421T191152
CREATED:20251224T212833Z
LAST-MODIFIED:20260101T225523Z
UID:31711-1767297600-1767308400@thevelvetnote.com
SUMMARY:Open Mic Jam Hosted by Saxophonist Dwan Bosman   ****SOLD OUT!!  SOLD  OUT!!   SOLD OUT!!  SOLD OUT!!  ***
DESCRIPTION:ONE SHOW ONLY: 8:00pm. Georgia’s LONGEST-RUNNING OPEN MIC JAM is at The Velvet Note\, and you are invited! Open Mic is a little like Karaoke\, but much\, much better\, with full bar and kitchen\, too. Tonight is special– with a full cast of characters in our house band\, including Saxophonist Dwan Bosman! Come out and listen to or jam with our extraordinary house band\, or take the stage all on your own. Bring your talent\, bring date\, bring your instrument\, bring your clapping hands\, and join the fun. Often attended by club owner Tamara Fuller and she’s always on the hunt for talent!
URL:https://thevelvetnote.com/event/open-mic-jam-hosted-by-saxophonist-dwan-bosman-3/
LOCATION:The Velvet Note Main Stage\, 4075 Old Milton Parkway\, Alpharetta\, 30005\, United States
ATTACH;FMTTYPE=image/jpeg:https://thevelvetnote.com/wp-content/uploads/2025/10/DwanBosman.Feb2025-21-scaled.jpeg
END:VEVENT
BEGIN:VEVENT
DTSTART;TZID=America/New_York:20260102T200000
DTEND;TZID=America/New_York:20260102T230000
DTSTAMP:20260421T191152
CREATED:20251225T182043Z
LAST-MODIFIED:20251225T182120Z
UID:31717-1767384000-1767394800@thevelvetnote.com
SUMMARY:Timeless Classics Starring Ashley Perrymond and Featuring Larry Wilson
DESCRIPTION:Ashley Perrymond delivers rich\, expressive vocals that blend soulful jazz phrasing with emotional depth — the kind of performance that stays with you long after the last note.  She’s not just singing standards — she embodies them. With original interpretations and a personal connection to the material\, this candlelight performance sets feel fresh\, intimate\, and unforgettable night of musical magic.
URL:https://thevelvetnote.com/event/timeless-classics-starring-ashley-perrymond-and-featuring-larry-wilson/
LOCATION:The Velvet Note Main Stage\, 4075 Old Milton Parkway\, Alpharetta\, 30005\, United States
ATTACH;FMTTYPE=image/jpeg:https://thevelvetnote.com/wp-content/uploads/2025/12/copy_91EDA857-D33E-4FD6-A482-04E44E4604EE.jpeg
END:VEVENT
BEGIN:VEVENT
DTSTART;TZID=America/New_York:20260103T193000
DTEND;TZID=America/New_York:20260103T230000
DTSTAMP:20260421T191152
CREATED:20251226T172943Z
LAST-MODIFIED:20260103T191850Z
UID:31720-1767468600-1767481200@thevelvetnote.com
SUMMARY:Benno Marmur Celebrates Legendary Guitarist Grant Green
DESCRIPTION:SHOWTIMES: 7:30PM (SOLD OUT) AND 9:30PM (AVAILABLE). The guitar event of the season! Get ready for a rare\, soulful\, and deeply authentic jazz experience as Benno Marmur joins forces with Grant Green Jr. to celebrate the music of the legendary Grant Green. This isn’t a tribute from afar—it’s a living continuation of a sound that shaped modern jazz. Expect deep grooves\, blues-drenched phrasing\, and that unmistakable Green swagger\, delivered with reverence\, fire\, and personal lineage. If you love jazz that swings hard\, feels good\, and tells the truth\, this is a night you don’t want to miss.
URL:https://thevelvetnote.com/event/benno-marmur-celebrates-legendary-guitarist-grant-green/
LOCATION:The Velvet Note Main Stage\, 4075 Old Milton Parkway\, Alpharetta\, 30005\, United States
ATTACH;FMTTYPE=image/jpeg:https://thevelvetnote.com/wp-content/uploads/2025/12/Benno-Marmur.jpg
END:VEVENT
BEGIN:VEVENT
DTSTART;TZID=America/New_York:20260108T200000
DTEND;TZID=America/New_York:20260108T230000
DTSTAMP:20260421T191152
CREATED:20260104T152541Z
LAST-MODIFIED:20260104T152541Z
UID:31728-1767902400-1767913200@thevelvetnote.com
SUMMARY:January 8th:  Open Mic Jam Hosted by Saxophonist Dwan Bosman
DESCRIPTION:ONE SHOW ONLY: 8:00pm. Georgia’s LONGEST-RUNNING OPEN MIC JAM is at The Velvet Note\, and you are invited! Open Mic is a little like Karaoke\, but much\, much better\, with full bar and kitchen\, too. Tonight is special– with a full cast of characters in our house band\, including Saxophonist Dwan Bosman! Come out and listen to or jam with our extraordinary house band\, or take the stage all on your own. Bring your talent\, bring date\, bring your instrument\, bring your clapping hands\, and join the fun. Often attended by club owner Tamara Fuller and she’s always on the hunt for talent!
URL:https://thevelvetnote.com/event/january-8th-open-mic-jam-hosted-by-saxophonist-dwan-bosman/
LOCATION:The Velvet Note Main Stage\, 4075 Old Milton Parkway\, Alpharetta\, 30005\, United States
ATTACH;FMTTYPE=image/jpeg:https://thevelvetnote.com/wp-content/uploads/2025/12/Copy-of-Add-a-heading-4.jpg
END:VEVENT
BEGIN:VEVENT
DTSTART;TZID=America/New_York:20260109T193000
DTEND;TZID=America/New_York:20260109T230000
DTSTAMP:20260421T191152
CREATED:20260104T173257Z
LAST-MODIFIED:20260104T173258Z
UID:31730-1767987000-1767999600@thevelvetnote.com
SUMMARY:Jazz and R&B Songstress Xina with The Misha Stefanuk Band
DESCRIPTION:SHOWTIMES:  7:30PM AND 9:30PM.  Xina Marie is a captivating jazz and soul vocalist known for her rich tone\, emotional depth\, and magnetic stage presence. Blending classic jazz sensibility with contemporary soul\, R&B\, and blues influences\, Xtina brings a modern voice to timeless music—one that feels both deeply rooted and refreshingly current. Her performances are intimate yet powerful\, marked by effortless phrasing\, dynamic control\, and an instinctive connection with her audience. Whether interpreting jazz standards or delivering soulful originals\, Xtina Marie doesn’t just sing songs—she tells stories\, inviting listeners into moments of vulnerability\, joy\, and reflection.
URL:https://thevelvetnote.com/event/jazz-and-rb-songstress-xina-with-the-misha-stefanuk-band/
LOCATION:The Velvet Note Main Stage\, 4075 Old Milton Parkway\, Alpharetta\, 30005\, United States
ATTACH;FMTTYPE=image/jpeg:https://thevelvetnote.com/wp-content/uploads/2026/01/859739774158560370.jpeg
END:VEVENT
BEGIN:VEVENT
DTSTART;TZID=America/New_York:20260110T193000
DTEND;TZID=America/New_York:20260110T230000
DTSTAMP:20260421T191152
CREATED:20260106T043420Z
LAST-MODIFIED:20260106T043420Z
UID:31733-1768073400-1768086000@thevelvetnote.com
SUMMARY:Toni Byrd & Al Smith-- The Art of the Song
DESCRIPTION:SHOWTIMES:  7:30pm & 9:30pm.   Toni Byrd and Al Smith come together for an evening that blends velvet-smooth vocals with deep\, soul-driven rhythm. Toni Byrd’s expressive phrasing and emotional intelligence invite you straight into the heart of each song\, while Al Smith’s masterful touch on the keys provides a groove that is both elegant and irresistible. Together\, they create a sound that feels intimate\, seasoned\, and alive—perfectly balancing sophistication and warmth for a night of jazz that lingers long after the final note.
URL:https://thevelvetnote.com/event/toni-byrd-al-smith-the-art-of-the-song/
LOCATION:The Velvet Note Main Stage\, 4075 Old Milton Parkway\, Alpharetta\, 30005\, United States
ATTACH;FMTTYPE=image/jpeg:https://thevelvetnote.com/wp-content/uploads/2026/01/0.jpeg
END:VEVENT
BEGIN:VEVENT
DTSTART;TZID=America/New_York:20260111T190000
DTEND;TZID=America/New_York:20260111T210000
DTSTAMP:20260421T191152
CREATED:20260106T071057Z
LAST-MODIFIED:20260109T222245Z
UID:31736-1768158000-1768165200@thevelvetnote.com
SUMMARY:Bluesman Albert White
DESCRIPTION:ONE SHOW ONLY: 7:00pm. Albert White is a veteran blues guitarist\, singer\, and bandleader whose sound blends deep Southern blues roots with the soul\, funk\, and jazz influences of his Atlanta upbringing. A commanding performer with a razor-sharp guitar style and a voice steeped in lived experience\, White has spent decades honing a groove that is both polished and emotionally raw. His music reflects the lineage of classic blues while remaining unmistakably modern—tight\, expressive\, and driven by feel rather than flash. Beyond the stage\, Albert White is widely respected as a mentor and collaborator within the Southeast blues community\, known for elevating the musicians around him and honoring the tradition he carries forward. Whether leading his own band or anchoring a room with stripped-down authenticity\, White delivers performances that connect deeply with audiences—equal parts storytelling\, musicianship\, and soul. His shows are not just concerts; they are reminders of why the blues endures.
URL:https://thevelvetnote.com/event/bluesman-albert-white/
LOCATION:The Velvet Note Main Stage\, 4075 Old Milton Parkway\, Alpharetta\, 30005\, United States
ATTACH;FMTTYPE=image/webp:https://thevelvetnote.com/wp-content/uploads/2026/01/Albert-White-web.jpeg.webp
END:VEVENT
BEGIN:VEVENT
DTSTART;TZID=America/New_York:20260115T200000
DTEND;TZID=America/New_York:20260115T230000
DTSTAMP:20260421T191152
CREATED:20260106T085433Z
LAST-MODIFIED:20260115T220617Z
UID:31739-1768507200-1768518000@thevelvetnote.com
SUMMARY:Open Mic Jam Hosted by Saxophonist Dwan Bosman.  *** CANCELLED DUE TO EQUIPMENT INSTALLATION *****
DESCRIPTION:ONE SHOW ONLY: 8:00pm. Georgia’s LONGEST-RUNNING OPEN MIC JAM is at The Velvet Note\, and you are invited! Open Mic is a little like Karaoke\, but much\, much better\, with full bar and kitchen\, too. Tonight is special– with a full cast of characters in our house band\, including Saxophonist Dwan Bosman! Come out and listen to or jam with our extraordinary house band\, or take the stage all on your own. Bring your talent\, bring date\, bring your instrument\, bring your clapping hands\, and join the fun. Often attended by club owner Tamara Fuller and she’s always on the hunt for talent!
URL:https://thevelvetnote.com/event/open-mic-jam-hosted-by-saxophonist-dwan-bosman-4/
LOCATION:The Velvet Note Main Stage\, 4075 Old Milton Parkway\, Alpharetta\, 30005\, United States
ATTACH;FMTTYPE=image/jpeg:https://thevelvetnote.com/wp-content/uploads/2025/12/Copy-of-Add-a-heading-4.jpg
END:VEVENT
BEGIN:VEVENT
DTSTART;TZID=America/New_York:20260116T193000
DTEND;TZID=America/New_York:20260117T230000
DTSTAMP:20260421T191152
CREATED:20251208T201332Z
LAST-MODIFIED:20251225T051206Z
UID:31648-1768591800-1768690800@thevelvetnote.com
SUMMARY:The Birthday Celebration of Sade with Band Adu *** SOLD OUT!!  SOLD OUT!!  ***
DESCRIPTION:Sade Adu (born Helen Folasade Adu on January 16\, 1959\, in Ibadan\, Nigeria) is a British-Nigerian singer\, songwriter\, and style icon whose warm\, velvety voice and understated elegance helped define the sound of sophisticated pop and soul in the 1980s and beyond. Raised in Essex\, England\, she studied fashion design before joining the Latin-soul band Pride\, where her distinctive vocal presence led to the formation of the group Sade. Their 1984 debut album Diamond Life became an international phenomenon\, earning critical acclaim and launching timeless hits such as “Smooth Operator” and “Your Love Is King.” Known for blending jazz\, soul\, R&B\, and quiet-storm influences with emotional restraint and lyrical depth\, Sade has earned four Grammy Awards\, and has sold more than 75 million records worldwide\, making her one of the best-selling recording artists of all time. Despite her fame\, Sade has remained famously private\, releasing albums sparingly and touring selectively\, which has only deepened her mystique and enduring influence.   \n\n\n\nAcross two magical nights\, The Velvet Note celebrates the birthday of Sade on January 16th and 17th. The eight-piece ensemble Band Adu brings mastery and musical fun to this celebration of Sade’s most beloved music. Audiences can’t get enough–reserve your seats now!
URL:https://thevelvetnote.com/event/the-birthday-celebration-of-sade-with-band-adu/
LOCATION:The Velvet Note Main Stage\, 4075 Old Milton Parkway\, Alpharetta\, 30005\, United States
ATTACH;FMTTYPE=image/jpeg:https://thevelvetnote.com/wp-content/uploads/2025/12/Copy-of-Add-a-subheading-2.jpg
END:VEVENT
BEGIN:VEVENT
DTSTART;TZID=America/New_York:20260118T183000
DTEND;TZID=America/New_York:20260118T220000
DTSTAMP:20260421T191152
CREATED:20260106T160300Z
LAST-MODIFIED:20260118T030055Z
UID:31741-1768761000-1768773600@thevelvetnote.com
SUMMARY:Roman Street!
DESCRIPTION:SHOWTIMES: 6:30PM AND 8:30PM. Roman Street is an internationally trained instrumental band based out of the Mobile\, AL area specializing in improvisational fusion of Classical\, Gypsy and Contemporary Jazz\, Latin\, Funk\, and Nuevo Flamenco. A departure from the over-produced music that is out there today\, they keep it simple—the beautifully  organic sound of acoustic instruments played by talented people who love what they are doing. \n\n\n\nRoman Street has opened concerts/festivals for international sensations George Benson\, The Gipsy Kings\, Ziggy Marley\, Boney James\, Dave Koz\, The Rippingtons\, Earl Klugh\, Jesse Cook\, Maroon 5 and the Preservation Hall Jazz Band.  They have alsoenjoyed International airplay on over 100 stations including Sirius XM Watercolors Satellite Radio and Music Choice Cable TV.
URL:https://thevelvetnote.com/event/roman-street/
LOCATION:The Velvet Note Main Stage\, 4075 Old Milton Parkway\, Alpharetta\, 30005\, United States
ATTACH;FMTTYPE=image/jpeg:https://thevelvetnote.com/wp-content/uploads/2018/09/RomanStreet5.jpg
END:VEVENT
BEGIN:VEVENT
DTSTART;TZID=America/New_York:20260122T200000
DTEND;TZID=America/New_York:20260122T230000
DTSTAMP:20260421T191152
CREATED:20260118T051238Z
LAST-MODIFIED:20260118T051416Z
UID:31767-1769112000-1769122800@thevelvetnote.com
SUMMARY:Thursday\, January 22nd:  Open Mic Jam Hosted by Singer Cheyenne
DESCRIPTION:ONE SHOW ONLY: 8:00pm. Georgia’s LONGEST-RUNNING OPEN MIC JAM is at The Velvet Note\, and you are invited! Open Mic is a little like Karaoke\, but much\, much better\, with full bar and kitchen\, too. Tonight is special– with a full cast of characters in our house band\, including host Cheyenne! Come out and listen to or jam with our extraordinary house band\, or take the stage all on your own. Bring your talent\, bring date\, bring your instrument\, bring your clapping hands\, and join the fun. Often attended by club owner Tamara Fuller and she’s always on the hunt for talent!
URL:https://thevelvetnote.com/event/thursday-january-22nd-open-mic-jam-hosted-by-singer-cheyenne/
LOCATION:The Velvet Note Main Stage\, 4075 Old Milton Parkway\, Alpharetta\, 30005\, United States
ATTACH;FMTTYPE=image/jpeg:https://thevelvetnote.com/wp-content/uploads/2025/11/Add-a-heading-8.jpg
END:VEVENT
BEGIN:VEVENT
DTSTART;TZID=America/New_York:20260123T193000
DTEND;TZID=America/New_York:20260123T230000
DTSTAMP:20260421T191152
CREATED:20260109T163908Z
LAST-MODIFIED:20260123T224041Z
UID:31745-1769196600-1769209200@thevelvetnote.com
SUMMARY:Friday\, January 23rd:  Magnetic Jazz Violinist Ken Ford *** SOLD OUT!!  SOLD OUT!!  SOLD OUT!!  SOLD OUT!!  ***
DESCRIPTION:SHOWTIMES: 7:30PM AND 9:30PM. Ken Ford is a genre-defying jazz violinist whose electrifying sound bridges straight-ahead jazz\, fusion\, R&B\, and classical technique with fearless improvisation. During the early years of his career\, Ken lived a dual life:he earned a degree in Computer Information Systems and secured a position at a major technology firm is an IT Programmer; but at night\, Ken’s passion with the violin landed him in some of Atlanta’s hottest jazz spots.   Finding himself unemployed in the mid 90s and with the backing of his family\, Ken took a leap of faith to pursue his music fulltime\, putting 100% of his energy into the success of his career. Ken refers to these times as “the turning point\,” and it was full speed ahead.  \n\n\n\nKnown for his rich tone\, rhythmic authority\, and magnetic stage presence\, Ford treats the violin as a full-range voice—capable of swinging\, soaring\, and speaking with deep emotional clarity. His first appearance at The Velvet Note marks a meaningful milestone: an intimate debut in a listening room celebrated for its close artist-audience connection\, where nuance matters and every note is heard. For Ford\, stepping onto The Velvet Note stage is not just another performance—it’s an invitation to strip the music down to its essence\, engage directly with listeners\, and let the violin tell its story without barriers.  \n\n\n\nKen has performed with a remarkable roster of celebrated artists across genres—including Bruno Mars\, Chaka Khan\, Maxwell\, Ledisi\, Wyclef Jean\, CeeLo Green\, Erykah Badu\, Jill Scott\, Brian Culbertson\, and the late Barry White—underscoring his versatility and respect among his peers. 
URL:https://thevelvetnote.com/event/friday-january-23rd-magnetic-jazz-violinist-ken-ford/
LOCATION:The Velvet Note Main Stage\, 4075 Old Milton Parkway\, Alpharetta\, 30005\, United States
ATTACH;FMTTYPE=image/png:https://thevelvetnote.com/wp-content/uploads/2026/01/KF-Sharp.png
END:VEVENT
BEGIN:VEVENT
DTSTART;TZID=America/New_York:20260124T000000
DTEND;TZID=America/New_York:20260125T235959
DTSTAMP:20260421T191152
CREATED:20260124T160216Z
LAST-MODIFIED:20260124T160224Z
UID:31789-1769212800-1769385599@thevelvetnote.com
SUMMARY:Saturday and Sunday\, January 24th & 25th:  CLOSED Due to The Anticipation of Inclement Weather
DESCRIPTION:
URL:https://thevelvetnote.com/event/saturday-and-sunday-january-24th-25th-closed-due-to-the-anticipation-of-inclement-weather/
END:VEVENT
BEGIN:VEVENT
DTSTART;TZID=America/New_York:20260129T200000
DTEND;TZID=America/New_York:20260129T230000
DTSTAMP:20260421T191152
CREATED:20260120T192757Z
LAST-MODIFIED:20260120T192758Z
UID:31776-1769716800-1769727600@thevelvetnote.com
SUMMARY:Thursday\, January 29th:  Open Mic Jam Hosted by Saxophonist Dwan Bosman
DESCRIPTION:ONE SHOW ONLY: 8:00pm. Georgia’s LONGEST-RUNNING OPEN MIC JAM is at The Velvet Note\, and you are invited! Open Mic is a little like Karaoke\, but much\, much better\, with full bar and kitchen\, too. Tonight is special– with a full cast of characters in our house band\, including Saxophonist Dwan Bosman! Come out and listen to or jam with our extraordinary house band\, or take the stage all on your own. Bring your talent\, bring date\, bring your instrument\, bring your clapping hands\, and join the fun. Often attended by club owner Tamara Fuller and she’s always on the hunt for talent!
URL:https://thevelvetnote.com/event/thursday-january-29th-open-mic-jam-hosted-by-saxophonist-dwan-bosman/
ATTACH;FMTTYPE=image/jpeg:https://thevelvetnote.com/wp-content/uploads/2025/12/Copy-of-Add-a-heading-4.jpg
END:VEVENT
BEGIN:VEVENT
DTSTART;TZID=America/New_York:20260130T193000
DTEND;TZID=America/New_York:20260130T230000
DTSTAMP:20260421T191152
CREATED:20260125T183640Z
LAST-MODIFIED:20260125T183837Z
UID:31794-1769801400-1769814000@thevelvetnote.com
SUMMARY:January 30th:  Andre Bernard and Groove Therapy
DESCRIPTION:SHOWTIMES: 7:30PM AND 9:30PM. Known for his distinctive vocals and vibrant showmanship\, Andre Bernard delivers a rich blend of soul\, R&B\, and smooth jazz that captivates every crowd. Born in New York City\, Trumpeter and Bandleader Andre leads the Groove Therapy Band in some of the most unique\, genre-bender selections you’ve ever heard. After watching our guests lean into his music\, it became clear they weren’t craving spectacle; they were craving presence. For people who don’t just want to hear music\, but want to feel changed by it. Whether he’s crooning a classic or giving you something new\, Andre Bernard and his band Groove Therapy always bring the perfect vibe.
URL:https://thevelvetnote.com/event/january-30th-andre-bernard-and-groove-therapy/
LOCATION:The Velvet Note Main Stage\, 4075 Old Milton Parkway\, Alpharetta\, 30005\, United States
ATTACH;FMTTYPE=image/jpeg:https://thevelvetnote.com/wp-content/uploads/2025/08/Unknown.jpeg
END:VEVENT
END:VCALENDAR