BEGIN:VCALENDAR
VERSION:2.0
PRODID:-//The Velvet Note - ECPv6.15.20//NONSGML v1.0//EN
CALSCALE:GREGORIAN
METHOD:PUBLISH
X-ORIGINAL-URL:https://thevelvetnote.com
X-WR-CALDESC:Events for The Velvet Note
REFRESH-INTERVAL;VALUE=DURATION:PT1H
X-Robots-Tag:noindex
X-PUBLISHED-TTL:PT1H
BEGIN:VTIMEZONE
TZID:America/New_York
BEGIN:DAYLIGHT
TZOFFSETFROM:-0500
TZOFFSETTO:-0400
TZNAME:EDT
DTSTART:20240310T070000
END:DAYLIGHT
BEGIN:STANDARD
TZOFFSETFROM:-0400
TZOFFSETTO:-0500
TZNAME:EST
DTSTART:20241103T060000
END:STANDARD
BEGIN:DAYLIGHT
TZOFFSETFROM:-0500
TZOFFSETTO:-0400
TZNAME:EDT
DTSTART:20250309T070000
END:DAYLIGHT
BEGIN:STANDARD
TZOFFSETFROM:-0400
TZOFFSETTO:-0500
TZNAME:EST
DTSTART:20251102T060000
END:STANDARD
BEGIN:DAYLIGHT
TZOFFSETFROM:-0500
TZOFFSETTO:-0400
TZNAME:EDT
DTSTART:20260308T070000
END:DAYLIGHT
BEGIN:STANDARD
TZOFFSETFROM:-0400
TZOFFSETTO:-0500
TZNAME:EST
DTSTART:20261101T060000
END:STANDARD
END:VTIMEZONE
BEGIN:VEVENT
DTSTART;TZID=America/New_York:20250405T193000
DTEND;TZID=America/New_York:20250405T230000
DTSTAMP:20260422T072829
CREATED:20250324T171037Z
LAST-MODIFIED:20250324T171038Z
UID:30696-1743881400-1743894000@thevelvetnote.com
SUMMARY:Saturday\, April 5th:  Trent Patten and Louis Heriveaux
DESCRIPTION:SHOWTIMES: 7:30PM AND 9:30PM. Louis Heriveaux is the first-call pianist for many notable musicians such as Jimmy Heath and Ralph Peterson\, to name a few. After being impressed by Louis’ musical integrity in his approach to Jazz piano\, Donald Brown immediately called Kenny Garrett\, and referred Louis to him\, for upcoming\, gigs. Louis has appeared as a member of The Russell Gunn Quartet\, featuring vocalist Dionne Farris. Louis’ name is becoming more and more familiar to the top names in Jazz as he continues to appear on the local Jazz scene in Atlanta\, as well as on the national and international Jazz scene. \n\n\n\nBorn and raised in Minnesota\, multi-instrumentalist Trent Patten was introduced to music at a young age. Both his parents being musicians\, it was natural for him to have an interest in music. Trent started playing the trumpet when he was 10\, but didn’t have an interest in jazz until he was 17 when he attended the Hilton Head Jazz Camp. It was here that he met some of his mentors and friends that really inspired him to make others feel inspired through music\, as they did to him. Around this time\, Trent moved to the Southeast area where he started becoming very active in the local music scene\, going out to see music and meet musicians and playing gigs wherever he could. \n\n\n\nDuring this time he played with countless jazz musicians such as Kevin Bales and Joe Gransden. He has also opened for very well known jazz musicians\, such as Arturo Sandoval\, Monty Alexander\, the Count Basie Orchestra and Quentin Baxter. After a couple years of living here\, he decided to study trumpet at Coastal Carolina University with Dr. Matthew White. After spending a year there\, he had an opportunity to study in Atlanta at Georgia State University with Dr. Gordon Vernick. Trent now lives in Atlanta and has been playing all around the city reaching people with his music wherever he can.
URL:https://thevelvetnote.com/event/saturday-april-5th-trent-patten-and-louis-heriveaux/
LOCATION:The Velvet Note Main Stage\, 4075 Old Milton Parkway\, Alpharetta\, 30005\, United States
ATTACH;FMTTYPE=image/jpeg:https://thevelvetnote.com/wp-content/uploads/2025/03/Add-a-subheading-31.jpg
END:VEVENT
BEGIN:VEVENT
DTSTART;TZID=America/New_York:20250406T193000
DTEND;TZID=America/New_York:20250406T220000
DTSTAMP:20260422T072829
CREATED:20250319T051539Z
LAST-MODIFIED:20250319T051541Z
UID:30683-1743967800-1743976800@thevelvetnote.com
SUMMARY:Sunday\, April 6th:  Sunday Night Blues Starring The ATL BLues Cartel
DESCRIPTION:SHOWTIME: Doors open at 7pm. Music from 7:30pm – 10pm. The Atlanta area’s only fully-invitational blues jam session kicks off this month at The Velvet Note! The killah house band is comprised of blues band leaders from across the wide\, all performing together and tearin’ it up. This is pre-workweek pick-me-up you’ve been waiting and hoping for.
URL:https://thevelvetnote.com/event/sunday-april-6th-sunday-night-blues-starring-the-atl-blues-cartel/
LOCATION:The Velvet Note Main Stage\, 4075 Old Milton Parkway\, Alpharetta\, 30005\, United States
ATTACH;FMTTYPE=image/png:https://thevelvetnote.com/wp-content/uploads/2025/03/IMG_8429-2.png
END:VEVENT
BEGIN:VEVENT
DTSTART;TZID=America/New_York:20250410T200000
DTEND;TZID=America/New_York:20250410T230000
DTSTAMP:20260422T072829
CREATED:20250410T155229Z
LAST-MODIFIED:20250410T155230Z
UID:30705-1744315200-1744326000@thevelvetnote.com
SUMMARY:Thursday\, April 10th:  Open Mic Jam
DESCRIPTION:ONE SHOW ONLY: 8:00pm. Georgia’s LONGEST-RUNNING OPEN MIC JAM is at The Velvet Note\, and you are invited! Open Mic is a little like Karaoke\, but much\, much better\, with full bar and kitchen\, too. Tonight is special– with a full cast of characters in our house band\, including host Nijah Poteat! Come out and listen to or jam with our extraordinary house band\, or take the stage all on your own. Bring your talent\, bring date\, bring your instrument\, bring your clapping hands\, and join the fun. Often attended by club owner Tamara Fuller and she’s always on the hunt for talent!
URL:https://thevelvetnote.com/event/thursday-april-10th-open-mic-jam/
LOCATION:The Velvet Note Main Stage\, 4075 Old Milton Parkway\, Alpharetta\, 30005\, United States
ATTACH;FMTTYPE=image/jpeg:https://thevelvetnote.com/wp-content/uploads/2025/04/got-jam.jpg
END:VEVENT
BEGIN:VEVENT
DTSTART;TZID=America/New_York:20250411T193000
DTEND;TZID=America/New_York:20250412T230000
DTSTAMP:20260422T072829
CREATED:20250317T184629Z
LAST-MODIFIED:20250317T184630Z
UID:30673-1744399800-1744498800@thevelvetnote.com
SUMMARY:Friday and Saturday\, April 11th & 12th:  2024 Winner of International Blues Challenge-- Joe Waters
DESCRIPTION:FRIDAY AND SATURDAY SHOWTIMES:  7:30PM AND 9:30PM.   Joe Waters is a multitalented musician out of Dayton\, Ohio who plays blues\, funk\, folk and Americana music. Joe is a singer and a songwriter. He writes original music and her lso pays homage to original blues artist by signing old blues standards and deep cuts. \n\n\n\nHis love for playing music started when he was 5 years old after his parents bought him a harmonica from the Cracker Barrel gift shop. Joe dedicated himself to learning not only the harmonica but the guitar\, drums\, jaw-harp and vocals and as well. \n\n\n\nThis talented and skilled young man has poured his heart and soul into his music for past 20+ years\, and he has received well-deserved acknowledgment for his hard work and dedication. He has taken first place in two major Blues Music Contests: \n\n\n\n*** First Place Winner\, 2022 Telluride Blues Challenge in Telluride\, Colorado \n\n\n\n*** First Place Winner\, 2024 International Blues Challenge in Memphis Tennessee
URL:https://thevelvetnote.com/event/friday-and-saturday-april-11th-12th-2024-winner-of-international-blues-challenge-joe-waters/
LOCATION:The Velvet Note Main Stage\, 4075 Old Milton Parkway\, Alpharetta\, 30005\, United States
ATTACH;FMTTYPE=image/png:https://thevelvetnote.com/wp-content/uploads/2025/03/Copy-of-live.png
END:VEVENT
BEGIN:VEVENT
DTSTART;TZID=America/New_York:20250413T183000
DTEND;TZID=America/New_York:20250413T220000
DTSTAMP:20260422T072829
CREATED:20250319T155049Z
LAST-MODIFIED:20250319T155050Z
UID:30685-1744569000-1744581600@thevelvetnote.com
SUMMARY:Sunday\, April 13th:  The Kate McGarry Quartet
DESCRIPTION:SHOWTIMES: 6:30PM AND 8:30PM. With 8 critically acclaimed albums and 3 GRAMMY nominations\, vocalist Kate McGarry is recognized as a jazz artist who brings authenticity and vitality to every song regardless of genre. The Wall St. Journal calls her music\, “austere and elegant\, an exceptionally appealing blend of folk and jazz.” The New York Times pronounced her singing\, “astute and sensitive.” She has toured and recorded with jazz illuminati Fred Hersch\, Kurt Elling\, Maria Schneider\, John Hollenbeck\, Billy Childs\, Luciana Souza\, Theo Bleckmann\, and TONY Award Winner Jason Robert Brown. \n\n\n\nDuring her decade in NYC\, McGarry served as a Lincoln Center Teaching Artist\, U.S. State Department Jazz Ambassador\, and Jazz Arts faculty member at The Manhattan School of Music. Downbeat’s 2016 Critics Poll named McGarry the #1 Rising Star Female Jazz Vocalist. She has been featured on iconic NPR shows such as Jazz Set w/DeeDee Bridgwater\, Piano Jazz w/Marion McPartland\, All Things Considered\, as well as a host of nationally syndicated radio shows.
URL:https://thevelvetnote.com/event/sunday-april-13th-the-kate-mcgarry-quartet/
LOCATION:The Velvet Note Main Stage\, 4075 Old Milton Parkway\, Alpharetta\, 30005\, United States
ATTACH;FMTTYPE=image/jpeg:https://thevelvetnote.com/wp-content/uploads/2025/03/NI1C0747-2-copy-1.jpeg
END:VEVENT
BEGIN:VEVENT
DTSTART;TZID=America/New_York:20250417T200000
DTEND;TZID=America/New_York:20250417T230000
DTSTAMP:20260422T072829
CREATED:20250410T171233Z
LAST-MODIFIED:20250410T171253Z
UID:30708-1744920000-1744930800@thevelvetnote.com
SUMMARY:Thursday\, April 17th:  Open Mic Jam and Sheila's Birthday!
DESCRIPTION:ONE SHOW ONLY: 8:00pm. The Velvet Note’s Most Popular Guest Server is having a birthday\, and YOU ARE INVITED! Open Mic is a little like Karaoke\, but much\, much better\, with full bar and kitchen\, too. Tonight is special– with a full cast of characters in our house band\, including host Nijah Poteat! Come out and listen to or jam with our extraordinary house band\, or take the stage all on your own. Also\, help us celebrate Sheila’s Birthday! Bring your talent\, bring date\, bring your instrument\, bring your clapping hands\, and join the fun. Often attended by club owner Tamara Fuller and she’s always on the hunt for talent!
URL:https://thevelvetnote.com/event/thursday-april-17th-open-mic-jam-and-sheilas-birthday/
ATTACH;FMTTYPE=image/jpeg:https://thevelvetnote.com/wp-content/uploads/2025/04/0-1-1.jpeg
END:VEVENT
BEGIN:VEVENT
DTSTART;TZID=America/New_York:20250418T193000
DTEND;TZID=America/New_York:20250419T230000
DTSTAMP:20260422T072829
CREATED:20250320T212742Z
LAST-MODIFIED:20250320T212742Z
UID:30688-1745004600-1745103600@thevelvetnote.com
SUMMARY:Friday & Saturday\, April 18th and 19th:
DESCRIPTION:Award-winning singer and actress Toni Byrd pays delivers an unforgettable performance in remembrance of GRAMMY-Winning singer and pianist Roberta Flack\, who passed away on February 24\, 2025. Fans and admirers join us for this iconic artist’s work\, beautifully translated by Toni and her band. Laugh\, cry\, sing along….join us for a musical remembrance of Roberta Flack. Also starring Rod Harris\, Jr. (guitar)\, Maury Allums (piano) and Charles Nesbitt\, III (drums).
URL:https://thevelvetnote.com/event/friday-saturday-april-18th-and-19th/
LOCATION:The Velvet Note Main Stage\, 4075 Old Milton Parkway\, Alpharetta\, 30005\, United States
ATTACH;FMTTYPE=image/jpeg:https://thevelvetnote.com/wp-content/uploads/2025/03/Add-a-heading-30.jpg
END:VEVENT
BEGIN:VEVENT
DTSTART;TZID=America/New_York:20250424T200000
DTEND;TZID=America/New_York:20250424T230000
DTSTAMP:20260422T072829
CREATED:20250318T042244Z
LAST-MODIFIED:20250421T225729Z
UID:30679-1745524800-1745535600@thevelvetnote.com
SUMMARY:Thursday\, April 24th:  Open Mic Jam
DESCRIPTION:ONE SHOW ONLY: 8:00pm. Georgia’s LONGEST-RUNNING OPEN MIC JAM is at The Velvet Note\, and you are invited! Open Mic is a little like Karaoke\, but much\, much better\, with full bar and kitchen\, too. Tonight is special– with a full cast of characters in our house band\, including host Nijah Poteat! Come out and listen to or jam with our extraordinary house band\, or take the stage all on your own. Bring your talent\, bring date\, bring your instrument\, bring your clapping hands\, and join the fun. Often attended by club owner Tamara Fuller and she’s always on the hunt for talent!
URL:https://thevelvetnote.com/event/thursday-april-3rd-open-mic-jam/
LOCATION:The Velvet Note Main Stage\, 4075 Old Milton Parkway\, Alpharetta\, 30005\, United States
ATTACH;FMTTYPE=image/jpeg:https://thevelvetnote.com/wp-content/uploads/2025/04/got-jam.jpg
END:VEVENT
BEGIN:VEVENT
DTSTART;TZID=America/New_York:20250425T193000
DTEND;TZID=America/New_York:20250425T230000
DTSTAMP:20260422T072829
CREATED:20250422T085550Z
LAST-MODIFIED:20250424T143942Z
UID:30718-1745609400-1745622000@thevelvetnote.com
SUMMARY:Friday\, April 25th:  The Piano Bar Sessions
DESCRIPTION:SHOWTIMES: 7:30PM AND 9:30PM. With Xina\, Misha Stefanuk and Andre Manga. This is what the weekend is all about. Finish work and dive into your favorite cocktail in your favorite little jazz club\, transformed into a piano bar. Live music\, a piano player and a saucy singer are some of the most treasured elements of the entertainment world\, and we’ve got it! Pianist Misha Stefanuk\, Bassist Andre Manga and Singer Xina. Join us!
URL:https://thevelvetnote.com/event/friday-april-25th-the-piano-bar-sessions/
LOCATION:The Velvet Note Main Stage\, 4075 Old Milton Parkway\, Alpharetta\, 30005\, United States
ATTACH;FMTTYPE=image/png:https://thevelvetnote.com/wp-content/uploads/2025/04/IMG_9423.png
END:VEVENT
BEGIN:VEVENT
DTSTART;TZID=America/New_York:20250426T193000
DTEND;TZID=America/New_York:20250426T230000
DTSTAMP:20260422T072829
CREATED:20250423T070109Z
LAST-MODIFIED:20250423T070110Z
UID:30726-1745695800-1745708400@thevelvetnote.com
SUMMARY:Saturday\, April 26th:  Trumpeter Yamin Mustafa
DESCRIPTION:SHOWTIMES:  7:30PM AND 9:30PM.  Yamin Mustafa is an accomplished musician/stage performer and proud Sinfonian. He’s had the pleasure of working with some of the greats in film and music\, and he’s loved the time he had teaching music at a special needs\, literacy school in Hollywood\, Florida. \n\n\n\nAdding to his collection of film\, discography\, stage performances and teaching\, He is currently touring with the BBKing Allstars\, Drumline Live\, Blackhat Music and his own band ‘The Order’.
URL:https://thevelvetnote.com/event/saturday-april-26th-trumpeter-yamin-mustafa/
LOCATION:The Velvet Note Main Stage\, 4075 Old Milton Parkway\, Alpharetta\, 30005\, United States
ATTACH;FMTTYPE=image/jpeg:https://thevelvetnote.com/wp-content/uploads/2025/04/artworks-000067827251-g5weci-t500x500.jpeg
END:VEVENT
BEGIN:VEVENT
DTSTART;TZID=America/New_York:20250427T190000
DTEND;TZID=America/New_York:20250427T210000
DTSTAMP:20260422T072829
CREATED:20250422T164010Z
LAST-MODIFIED:20250422T164628Z
UID:30721-1745780400-1745787600@thevelvetnote.com
SUMMARY:Sunday\, April 27th:  The JAS Quartet
DESCRIPTION:ONE SHOW ONLY– 7:00 pm! James was born December 28 1953 in New York. He started studying piano at the age of 8 at the Peabody Conservatory of Music in Baltimore. He’s been a professional musician for over 45 years and have composed music for television\, films\, theater\, dance and have performed concerts and club dates in North America\, South America\, Europe and Asia both solo and with numerous groups ranging in styles from jazz\, rock\, pop\, classical\, early\, new-age and blue-grass. He has recently composed and arranged music for several biopic films about early jazz and rock performers.
URL:https://thevelvetnote.com/event/sunday-april-27th-the-jas-quartet/
LOCATION:The Velvet Note Main Stage\, 4075 Old Milton Parkway\, Alpharetta\, 30005\, United States
ATTACH;FMTTYPE=image/jpeg:https://thevelvetnote.com/wp-content/uploads/2025/04/THe-james-schneiDEr-quartet.jpg
END:VEVENT
END:VCALENDAR