BEGIN:VCALENDAR
VERSION:2.0
PRODID:-//The Velvet Note - ECPv6.15.20//NONSGML v1.0//EN
CALSCALE:GREGORIAN
METHOD:PUBLISH
X-WR-CALNAME:The Velvet Note
X-ORIGINAL-URL:https://thevelvetnote.com
X-WR-CALDESC:Events for The Velvet Note
REFRESH-INTERVAL;VALUE=DURATION:PT1H
X-Robots-Tag:noindex
X-PUBLISHED-TTL:PT1H
BEGIN:VTIMEZONE
TZID:America/New_York
BEGIN:DAYLIGHT
TZOFFSETFROM:-0500
TZOFFSETTO:-0400
TZNAME:EDT
DTSTART:20230312T070000
END:DAYLIGHT
BEGIN:STANDARD
TZOFFSETFROM:-0400
TZOFFSETTO:-0500
TZNAME:EST
DTSTART:20231105T060000
END:STANDARD
BEGIN:DAYLIGHT
TZOFFSETFROM:-0500
TZOFFSETTO:-0400
TZNAME:EDT
DTSTART:20240310T070000
END:DAYLIGHT
BEGIN:STANDARD
TZOFFSETFROM:-0400
TZOFFSETTO:-0500
TZNAME:EST
DTSTART:20241103T060000
END:STANDARD
BEGIN:DAYLIGHT
TZOFFSETFROM:-0500
TZOFFSETTO:-0400
TZNAME:EDT
DTSTART:20250309T070000
END:DAYLIGHT
BEGIN:STANDARD
TZOFFSETFROM:-0400
TZOFFSETTO:-0500
TZNAME:EST
DTSTART:20251102T060000
END:STANDARD
END:VTIMEZONE
BEGIN:VEVENT
DTSTART;TZID=America/New_York:20240904T190000
DTEND;TZID=America/New_York:20240904T223000
DTSTAMP:20260422T165829
CREATED:20240903T173725Z
LAST-MODIFIED:20240903T225645Z
UID:30287-1725476400-1725489000@thevelvetnote.com
SUMMARY:Wednesday and Thursday\, September 4th & 5th:  GRAMMY Winner Lionel Cole
DESCRIPTION:WEDNESDAY AND THURSDAY SHOWTIMES: 7:00pm and 9:00pm. As the only son of the legendary Freddy Cole (and nephew of the Great Nat King Cole and cousin of Natalie Cole)\, Lionel Cole encapsulates the best of the swingy\, velvety sound of the great Cole family\, featuring many original arrangements adapted to the era and genre. \n\n\n\nLionel is an American soul with a jazz heart and blues attitude. He’s platinum selling\, award winning\, Fulbright lecturer\, a highly-rated finalist on NBC’s The Voice\, as well as an internationally acclaimed entertainer\, Los Angeles music doctor\, high- profile multi-instrumentalist. He possesses a smooth baritone voice from the new generation of the iconic “Cole” Family. In this fundraising performance\, Lionel will sing tunes from the catalogs of Stevie Wonder\, Wilson Pickett\, Motown hits\, and others\, including his own compositions. \n\n\n\nHis shows feature the great songs of the Jazz age as well as the Pop and Soul music of the day that changed his life\, all played with a Jazz sensibility and that signature Cole flair for arrangement.
URL:https://thevelvetnote.com/event/wednesday-and-thursday-september-4th-5th-grammy-winner-lionel-cole/
LOCATION:The Velvet Note Main Stage\, 4075 Old Milton Parkway\, Alpharetta\, 30005\, United States
ATTACH;FMTTYPE=image/jpeg:https://thevelvetnote.com/wp-content/uploads/2024/09/Unknown.jpeg
END:VEVENT
BEGIN:VEVENT
DTSTART;TZID=America/New_York:20240904T190000
DTEND;TZID=America/New_York:20240905T230000
DTSTAMP:20260422T165829
CREATED:20240805T043005Z
LAST-MODIFIED:20240827T140129Z
UID:30159-1725476400-1725577200@thevelvetnote.com
SUMMARY:Wednesday\, September 4th & 5th:  American Idol Winner Ruben Studdard! *** CALL AT 855.5.VELVET ***
DESCRIPTION:WEDNESDAY AND THURSDAY SHOWTIMES:  7:00PM AND 9:00PM.  Join us for The Velvet Note’s Exclusive\, Celebrity-Studded Gala\, Starring American Idol Winner Ruben Studdard! \n\n\n\nWatch Ruben’s message HERE. \n\n\n\nChristopher Ruben Studdard (born September 12\, 1978)\, is an American R&B\, popand gospel singer. He rose to fame as winner of the second season of American Idol and received a Grammy Award nomination for Best Male R&B Vocal Performance for “Superstar”.  \n\n\n\nIn the years following Idol\, Ruben has released six studio albums\, including his platinum-selling debut\, Soulful\, and the top-selling gospel follow-up\, I Need an Angel. He is most well-known for his recording career\, which has produced hits including “Flying Without Wings”\, “Sorry 2004”\, and “Change Me”.  Ruben has also segued into television and stage work. Most notably\, he toured with Robin Givens in the comedy-drama I Need a Hug\, and starred as Fats Waller in a national tour revival of Ain’t Misbehavin\, which spawned a Grammy-nominated soundtrack. \n\n\n\nRuben continues to tour in various avenues – most primarily with his band\, performing his catalogue of music plus a few timeless classics.  In 2023\, Ruben will embark on a national tour with close friend and fellow American Idol alum Clay Aiken\, as the duo celebrate the 20th anniversary of their run on Idol.
URL:https://thevelvetnote.com/event/wednesday-september-4th-5th-american-idol-winner-ruben-studdard/
LOCATION:The Velvet Note Main Stage\, 4075 Old Milton Parkway\, Alpharetta\, 30005\, United States
ATTACH;FMTTYPE=image/jpeg:https://thevelvetnote.com/wp-content/uploads/2024/08/Ruben-Studdard-Press-photo3.jpg
END:VEVENT
BEGIN:VEVENT
DTSTART;TZID=America/New_York:20240906T193000
DTEND;TZID=America/New_York:20240906T230000
DTSTAMP:20260422T165829
CREATED:20230404T215259Z
LAST-MODIFIED:20240401T225139Z
UID:28864-1725651000-1725663600@thevelvetnote.com
SUMMARY:Friday\, September 6th:  Roman Street
DESCRIPTION:SHOWTIMES: 7:30pm and 9:30pm. These top fan favorites are back at The Velvet Note –with their quartet–for an evening of great festivity and song! \n\n\n\nBrothers Noah and Josh Thompson put their guitars together to form Roman Street. Since the college years\, this brotherly jam session has developed into a Billboard/iTunes charting band who many have dubbed ‘the next generation’ of Jazz Fusion. Roman Street\, named for an old roman street in the Alps where they studied guitar\, is an internationally trained instrumental band specializing in improvisational fusion of Classical\, Gypsy and Contemporary Jazz\, Latin\, and Nuevo Flamenco. A departure from the over-produced music that is out there today\, they keep it simple—the beautifully organic sound of acoustic instruments played by talented people who love what they are doing. Whether performing as a guitar duo\, or with a backing band\, Roman Street astounds with music that appeals to fans of many genres. \n\n\n\nVIP Seating also available– call 855.5.VELVET
URL:https://thevelvetnote.com/event/friday-june-23rd-roman-street/
LOCATION:The Velvet Note Main Stage\, 4075 Old Milton Parkway\, Alpharetta\, 30005\, United States
ATTACH;FMTTYPE=image/jpeg:https://thevelvetnote.com/wp-content/uploads/2022/07/2FB0D56A-D2E0-436B-8BF1-7BE0276875B8.jpeg
END:VEVENT
BEGIN:VEVENT
DTSTART;TZID=America/New_York:20240907T193000
DTEND;TZID=America/New_York:20240907T230000
DTSTAMP:20260422T165829
CREATED:20240902T011917Z
LAST-MODIFIED:20240902T011942Z
UID:30243-1725737400-1725750000@thevelvetnote.com
SUMMARY:Saturday\, September 7th:  Soul and Hip-Hop Band Sonic Communion
DESCRIPTION:SHOWTIMES:  7:30PM AND 9:30PM.    SONIC COMMUNION is a 4-piece soul and hip hop band based in Atlanta\, ga. the group features a drummer\, bassist\, keyboardist and a dynamic vocalist named Deion\, blending soulful melodies with hip hop rhythms to create a sound that’s both fresh and timeless. Known for their smooth grooves and captivating live performances\, SONIC COMMUNION brings together the best of both genres\, delivering a musical experience that’s both emotionally powerful and rhythmically engaging. They’ve become a standout act in the Atlanta music scene\, drawing fans with their authentic sound and tight musicianship.
URL:https://thevelvetnote.com/event/saturday-september-7th-soul-and-hip-hop-band-sonic-communion/
LOCATION:The Velvet Note Main Stage\, 4075 Old Milton Parkway\, Alpharetta\, 30005\, United States
ATTACH;FMTTYPE=image/jpeg:https://thevelvetnote.com/wp-content/uploads/2024/09/Untitled-design-145.jpg
END:VEVENT
BEGIN:VEVENT
DTSTART;TZID=America/New_York:20240908T183000
DTEND;TZID=America/New_York:20240908T220000
DTSTAMP:20260422T165829
CREATED:20240831T173407Z
LAST-MODIFIED:20240901T184056Z
UID:30221-1725820200-1725832800@thevelvetnote.com
SUMMARY:Sunday\, September 8th:  The Birthday Celebration of John Coltrane
DESCRIPTION:SHOWTIMES:   6:30PM AND 8:30PM.  September is Coltrane’s birthday month\, and we are here for it\, as we’ve been for over a decade. This year\, GRAMMY-winning saxophonist Kebbi Williams leads his band in an anthology of Coltrane’s works\, especially those from the latter part of his career (Crescent\, Expression\, etc.). \n\n\n\nGrammy award winning tenor saxophonist Kebbi Williams is one of contemporary music’s whirlwind improvisers. The imaginative multi-instrumentalist/ composer/producer/arranger/teacher resists categorization. His innovative sound dives\, blends and jumpstarts all music genres. Kebbi bends it to his will with his robust\, distinct blasts.  His playing and compositions create a sound that is uniquely and undeniably his own. Avant-garde jazz\, hip-hop\, Afro-beat\, gospel\, electronica\, classical and fiery rock are all loops that Kebbi interweaves with passion and edge.  \n\n\n\nThe Atlanta native received both an undergraduate degree and Master’s in Jazz Studies from prestigious Howard University. At the age of 22\, he won the Jazz Instrumental Soloist Category (college division) award from Downbeat Magazine. Kebbi launched his professional career as a much in demand studio and touring musician.  OutKast\, the legendary Donald Byrd\, Cee-lo Green\, Mos Def\, drummer Jeff “Tain” Watts\, Bilal\, Oteil Burbridge\, Me’Shell Ndegeocello\, Russell Gunn\, Julie Dexter and iconic Betty Carter are among the elite musicians and vocalists who jumped off Kebbi’s unique horn. He is also an original member and presently touring for the ninth year with the Tedeschi Trucks Band (with whom he won the Grammy in 2012 in the Blues Album category.) 
URL:https://thevelvetnote.com/event/sunday-september-8th-the-birthday-celebration-of-john-coltrane/
LOCATION:The Velvet Note Main Stage\, 4075 Old Milton Parkway\, Alpharetta\, 30005\, United States
ATTACH;FMTTYPE=image/jpeg:https://thevelvetnote.com/wp-content/uploads/2024/08/John-Coltrane.jpg
END:VEVENT
BEGIN:VEVENT
DTSTART;TZID=America/New_York:20240913T193000
DTEND;TZID=America/New_York:20240913T230000
DTSTAMP:20260422T165829
CREATED:20240901T221601Z
LAST-MODIFIED:20240904T004605Z
UID:30237-1726255800-1726268400@thevelvetnote.com
SUMMARY:Friday\, September 13th:  John "JSaxx" Watkins
DESCRIPTION:SHOWTIMES: 7:30PM AND 9:30PM. John Watkins\, a.k.a. “JSaxx”\, was born in Cleveland Ohio He developed his love for music at the early age of 8 by listening to his father Rev. John C. Watkins\, his uncle Lamar Gaines and his grandfather Charles Pace. Following in his family’s footsteps J Saxx picked up the saxophone and never put it down. Having the opportunity to enroll into the Cleveland School of Arts\, allowed J Saxx to expand his knowledge of wind instruments as well as music theory and music production. \n\n\n\nSome of J Saxx earlier influences stemmed from local sensations like Russell Thompson\, Kenny Legrand and Eddie Baccus\, Jr. to National recording artist Cannonball Adderley\, John Coltrane\, Grover Washington Jr.\,Charlie Parker\, Miles Davis\, Everett Harp\, Kirk Whalum\, Gerald Albright\, Cecil Rucker\, Eric Gould\, Michael Becker\, Joshua Redman\, Kenny \n\n\n\nGarrett\, David Sandborn\, Kenny G\, and Thelonius Monk. After Leading his band Notes and Sounds performing at several events as well as TV programs like FOX8 morning show\, Jazz saxophonist and recording artist John “J Saxx” Watkins is launched his solo career. \n\n\n\nJohns sound truly represents that common fabric that unifies all music across many mediums\, from traditional Jazz to old school R&B\, pop to fusion/rock; music that reaches all generations and age groups from both ends of the spectrum. They present new platform laced with a familiar touch of the old\, connecting all genres of music through one unified platform. J Saxx has shared the stage with the Whispers\, GC Cameron and the Temptations\, performed at the Black Heritage Festival in Kentucky\, he has also performed musical production play starring movie actor Leon.
URL:https://thevelvetnote.com/event/friday-september-13th-j-saxx-and-the-common-ground/
LOCATION:The Velvet Note Main Stage\, 4075 Old Milton Parkway\, Alpharetta\, 30005\, United States
ATTACH;FMTTYPE=image/jpeg:https://thevelvetnote.com/wp-content/uploads/2024/09/356905804_769012085227830_2599613449759662463_n-1.jpeg
END:VEVENT
BEGIN:VEVENT
DTSTART;TZID=America/New_York:20240914T193000
DTEND;TZID=America/New_York:20240914T230000
DTSTAMP:20260422T165829
CREATED:20240901T233914Z
LAST-MODIFIED:20240901T233914Z
UID:30240-1726342200-1726354800@thevelvetnote.com
SUMMARY:Saturday\, September 14th:  Singer Karen Bryant
DESCRIPTION:SHOWTIMES:  7:30PM AND 9:30PM.     Karen Bryant is an exciting\, entertaining and engaging entertainer. This singer-songwriter has a warm\, passionate spirit and a powerful\, soulful voice. Her vocal stylings are influenced by various artists of many genres and a strong belief in a positive message in music. \n\n\n\nKaren is a featured vocalist at various events and venues throughout the Atlanta Metropolitan area as well as nationally and internationally. Her musical journey has also afforded her the opportunity to share stages with Jazz vocalist Maysa\, R&B singer Evelyn “Champagne” King\, trumpeter Tom Browne\, keyboardist Bobby Lyle\, saxophonist Marion Meadows\, guitarist Eric Essix and the legendary\, Multi-Grammy Award winning band The Yellowjackets just to name a Few. She also performed on the local stage at the Atlanta Jazz Festival and at the Caribbean Sea Jazz Festival in Aruba. Karen has several original recordings including a solo project appropriately entitled “Now It’s Time”… for it is truly her time to shine.
URL:https://thevelvetnote.com/event/saturday-september-14th-singer-karen-bryant/
LOCATION:The Velvet Note Main Stage\, 4075 Old Milton Parkway\, Alpharetta\, 30005\, United States
ATTACH;FMTTYPE=image/jpeg:https://thevelvetnote.com/wp-content/uploads/2024/09/Screen-Shot-2023-11-28-at-4.34.49-AM.jpeg
END:VEVENT
BEGIN:VEVENT
DTSTART;TZID=America/New_York:20240919T200000
DTEND;TZID=America/New_York:20240919T230000
DTSTAMP:20260422T165829
CREATED:20240902T215639Z
LAST-MODIFIED:20240913T144727Z
UID:30280-1726776000-1726786800@thevelvetnote.com
SUMMARY:Thursday\, September 19th:  Open Mic Jam!
DESCRIPTION:ONE SHOW ONLY: 8:00pm. Georgia’s LONGEST-RUNNING OPEN MIC JAM is at The Velvet Note\, and you are invited! Open Mic is a little like Karaoke\, but much\, much better\, with full bar and kitchen\, too. Come out and listen to or jam with our extraordinary house band\, or take the stage all on your own. Bring your skills\, bring date\, bring your instrument\, bring your clapping hands\, and join the fun. Hosted by club owner Tamara Fuller and she’s always on the hunt for new talent!
URL:https://thevelvetnote.com/event/thursday-september-12th-open-mic-jam/
LOCATION:The Velvet Note Main Stage\, 4075 Old Milton Parkway\, Alpharetta\, 30005\, United States
ATTACH;FMTTYPE=image/jpeg:https://thevelvetnote.com/wp-content/uploads/2024/09/Add-a-subheading-26.jpg
END:VEVENT
BEGIN:VEVENT
DTSTART;TZID=America/New_York:20240920T193000
DTEND;TZID=America/New_York:20240920T230000
DTSTAMP:20260422T165829
CREATED:20240901T183545Z
LAST-MODIFIED:20240902T203416Z
UID:30234-1726860600-1726873200@thevelvetnote.com
SUMMARY:Friday\, September 20th: Billboard #1 Artist Slim Gambill
DESCRIPTION:SHOWTIMES: 7:30pm and 9:30pm. He started rocking out as a kid\, found jazz early and wound up playing in a country band. \n\n\n\nClearly\, Jason “Slim” Gambill is not one to be constrained by limitations. Or expectations. \n\n\n\nThe Nebraska-born\, Colorado-raised guitarist is\, of course\, best known for his 13 years of working with country hitmakers Lady A\, a key adjunct in the trio’s rise to multi-platinum\, award-winning fame thanks to his hot licks and his trademark two-foot-long braids. But Gambill draws from a deep musical well\, and his recent albums — FAKE JAZZ & THEME SONGS\, LCD — as well as his buoyant new single “Up” and music that’s to come are the work of someone with endless ambition and no boundaries on his ambitions or imagination.
URL:https://thevelvetnote.com/event/friday-september-20th-jazz-and-country-guitarist-slim-gambill-2/
LOCATION:The Velvet Note Main Stage\, 4075 Old Milton Parkway\, Alpharetta\, 30005\, United States
ATTACH;FMTTYPE=image/jpeg:https://thevelvetnote.com/wp-content/uploads/2024/09/slimgambill120-photocredit-hodgesusry-copy.jpeg
END:VEVENT
BEGIN:VEVENT
DTSTART;TZID=America/New_York:20240921T193000
DTEND;TZID=America/New_York:20240921T230000
DTSTAMP:20260422T165829
CREATED:20240902T114643Z
LAST-MODIFIED:20240904T000837Z
UID:30256-1726947000-1726959600@thevelvetnote.com
SUMMARY:Saturday\, September 21st:  The Mark Adams Trio
DESCRIPTION:SHOWTIMES: 7:30PM AND 9:30PM. “Live Life with Passion” is Mark Adams’ motto for the new Jazz generation. Adams served as the music director for the legendary producer/composer Roy Ayers for thirty years.   This Baltimore native\, son of professional musicians\, and world class Jazz and Soul pianist began music training at five years old when Velma Adams\, his mother and a former music instructor\, sat him down at the piano. Seven years later his family re-located to New York City where his late father\, the renowned Broadway classical woodwind player Kenneth Adams\, inspired him to study classical music and jazz at the Greenwich Village School of Music and to consider a career as a pianist. \n\n\n\nAdams is a composer and musical director and regularly performs throughout the U.S.\, Cuba\, Europe\, Australia\, New Zealand\, Nigeria\, South Africa\, Turkey\, Japan and China with jazz legend and mentor Roy Ayers (whom he calls his surrogate father). He has toured with many other renowned artists including Ron Carter\, Ronnie Laws\, Hugh Masekela\, the late Lou Rawls\, Bobbie Humphrey\, Angela Bofil\, Jon Lucien\, Lonnie Liston Smith\, Lela Hathaway\, Dave Valentine\, Wayne Henderson and tap dance sensation\, Savion Glover. He has performed with R&B artists Erika Badu\, Mary J. Blige\, Maysa\, Bilal\, Jocelyn Brown\, Queen Latifa and DJ Pete Rock. Adams also debuted as on Broadway in the musical ‘Five Guys Named Moe’ and ‘The Color Purple’ and in numerous off-Broadway productions\, including in Frankfort\, Germany. \n\n\n\nMark Adams’ live sound\, ‘Fresh & New\,’ is “the beginning of the new movement of Souljazz\, transport[ing] Jazz away from the Smooth Jazz format” and in 2010 Adams began touring under his own name. Adams has a Bachelor of Fine Arts in Music Performance from City College\, City University of New York (CUNY) and a Master of Arts from Queens College – City University of New York (CUNY). He is a faculty member at York College (CUNY) in New York where he teaches music theory and jazz history\, music appreciation\, beginning and advanced piano techniques (classical and jazz)\, jazz styles and techniques\, jazz improvisation\, keyboard harmony\, and advanced harmony – forms and analysis.
URL:https://thevelvetnote.com/event/saturday-september-21st-the-mark-adams-trio/
LOCATION:The Velvet Note Main Stage\, 4075 Old Milton Parkway\, Alpharetta\, 30005\, United States
ATTACH;FMTTYPE=image/jpeg:https://thevelvetnote.com/wp-content/uploads/2024/09/Mark_Adams_JPEG.jpeg
END:VEVENT
BEGIN:VEVENT
DTSTART;TZID=America/New_York:20240926T200000
DTEND;TZID=America/New_York:20240926T230000
DTSTAMP:20260422T165829
CREATED:20240913T152412Z
LAST-MODIFIED:20240925T192026Z
UID:30302-1727380800-1727391600@thevelvetnote.com
SUMMARY:Thursday\, September 26th: Open Mic Jam! ***   RESCHEDULED DUE TO WEATHER ***
DESCRIPTION:ONE SHOW ONLY: 8:00pm. Georgia’s LONGEST-RUNNING OPEN MIC JAM is at The Velvet Note\, and you are invited! Open Mic is a little like Karaoke\, but much\, much better\, with full bar and kitchen\, too. Come out and listen to or jam with our extraordinary house band\, or take the stage all on your own. Bring your skills\, bring date\, bring your instrument\, bring your clapping hands\, and join the fun. Hosted by club owner Tamara Fuller and she’s always on the hunt for new talent!
URL:https://thevelvetnote.com/event/thursday-september-26th-open-mic-jam/
LOCATION:The Velvet Note Main Stage\, 4075 Old Milton Parkway\, Alpharetta\, 30005\, United States
ATTACH;FMTTYPE=image/jpeg:https://thevelvetnote.com/wp-content/uploads/2024/09/Add-a-subheading-26.jpg
END:VEVENT
BEGIN:VEVENT
DTSTART;TZID=America/New_York:20240927T193000
DTEND;TZID=America/New_York:20240927T230000
DTSTAMP:20260422T165829
CREATED:20240902T122937Z
LAST-MODIFIED:20240925T011827Z
UID:30259-1727465400-1727478000@thevelvetnote.com
SUMMARY:Friday\, September 27th:  The Larry Jackson Quartet
DESCRIPTION:SHOWTIMES:  7:30PM AND 9:30PM.    Larry Jackson is an Atlanta-based jazz and soul saxophonist. He has over 20 years of performance experience\, including performances with Aretha Franklin\, and K.C. and the Sunshine Band. Larry has recorded with many artists\, including 38 Special\, Arrested Development\, and Earth Wind and Fire. In later years he performed on stage with Peabo Bryson\, Kenny Loggins\, Jennifer Holiday\, Bill Watrous\, Aretha Franklin\, the late Ali Ollie Woodson (Temptations)\, Jean Carn\, Marc Russo (YellowJackets)\, Pieces of a Dream\, Spyro Gyra\, Roy Hargrove\, Ronnie Laws and Mary Wilson (Supremes). He recorded with Peabo Bryson\, 38 Special\, (Hamilton) Bohannon\, Atlanta Rhythm Section\, Arrested Development\, Anne G\, L.A. & Babyface\, Luther Barnes\, Miguel Romero\, Anthony Lockett (Cameo)\, and Vance Taylor (Earth Wind & Fire). Larry also performed on various tv-series such as “In The Heat of the Night” and “I’ll Fly Away”\, where he served as technical director to actor-singer Dorian Harewood. He worked as stage producer for the musicals “Bessie’s Blues” and Mary Wilson’s “Beehive”\, and appears as a nightclub-musician in Tyler Perry’s “Media’s Family Reunion”.
URL:https://thevelvetnote.com/event/saturday-september-27th-the-larry-jackson-quartet/
LOCATION:The Velvet Note Main Stage\, 4075 Old Milton Parkway\, Alpharetta\, 30005\, United States
ATTACH;FMTTYPE=image/jpeg:https://thevelvetnote.com/wp-content/uploads/2024/09/22256376_10213850700092413_8848805044238505759_o.jpeg
END:VEVENT
BEGIN:VEVENT
DTSTART;TZID=America/New_York:20240928T193000
DTEND;TZID=America/New_York:20240928T230000
DTSTAMP:20260422T165829
CREATED:20240902T104043Z
LAST-MODIFIED:20240902T104404Z
UID:30252-1727551800-1727564400@thevelvetnote.com
SUMMARY:Saturday\, September 28th:  Singer and Guitarist Michael K
DESCRIPTION:SHOWTIMES:  7:30PM AND 9:30PM.  “For one person or one thousand\, my performance remains passionate.” Michael K. is a guitarist and singer performing in the Metro-atlanta area for 5 years. A native New Yorker\, he co-owns a live sound and studio production company\, as well as leadership of his own versatile band. Michael K performs a broad spectrum of originals and covers\, from Chicago\, Frank Sinatra\, to Dave Matthews and Maroon 5\, all demographics can dance\, tap their feet\, and appreciate heartfelt lyrics and good vibes.
URL:https://thevelvetnote.com/event/saturday-september-28th-michael-k/
LOCATION:The Velvet Note Main Stage\, 4075 Old Milton Parkway\, Alpharetta\, 30005\, United States
ATTACH;FMTTYPE=image/png:https://thevelvetnote.com/wp-content/uploads/2024/09/1-1.png
END:VEVENT
BEGIN:VEVENT
DTSTART;TZID=America/New_York:20240929T183000
DTEND;TZID=America/New_York:20240929T220000
DTSTAMP:20260422T165829
CREATED:20240902T151407Z
LAST-MODIFIED:20240907T174523Z
UID:30266-1727634600-1727647200@thevelvetnote.com
SUMMARY:Sunday\, September 29th:  Joe Gransden's Tribute to Tony Bennett
DESCRIPTION:SHOWTIMES: 6:30pm & 8:30pm.  \n\n\n\n\n\n\n\nSHOWTIMES:  6:30PM AND 8:30PM.   Anthony Dominick Benedetto (August 3\, 1926 – July 21\, 2023)\, known professionally as Tony Bennett\, was an American jazz and traditional pop singer. He received many accolades\, including 20 Grammy Awards\, a Lifetime Achievement Award\, and two Primetime Emmy Awards. Bennett was named an NEA Jazz Master and a Kennedy Center Honoree and founded the Frank Sinatra School of the Arts in Astoria\, Queens\, New York. He sold more than 50 million records worldwide and earned a star on the Hollywood Walk of Fame. \n\n\n\nWho better to pay tribute to this legendary performer than Atlanta’s consummate jazzman\, Joe Gransden! Joe has already performed worldwide and released 14 CDs under his own name. Renowned first for the hard bop approach of his trumpet\, Gransden’s singing voice has been compared to that of Chet Baker and Frank Sinatra. \n\n\n\nThis one-of-a-kind performance is brought to The Velvet Note\, and tickets will go fast. Get yours today!
URL:https://thevelvetnote.com/event/sunday-october-6th-joe-gransdens-tribute-to-tony-bennett/
LOCATION:The Velvet Note Main Stage\, 4075 Old Milton Parkway\, Alpharetta\, 30005\, United States
ATTACH;FMTTYPE=image/jpeg:https://thevelvetnote.com/wp-content/uploads/2024/09/0118_JoeGransden4_BenRollins_oneuseonly.jpeg
END:VEVENT
END:VCALENDAR