BEGIN:VCALENDAR
VERSION:2.0
PRODID:-//The Velvet Note - ECPv6.15.20//NONSGML v1.0//EN
CALSCALE:GREGORIAN
METHOD:PUBLISH
X-ORIGINAL-URL:https://thevelvetnote.com
X-WR-CALDESC:Events for The Velvet Note
REFRESH-INTERVAL;VALUE=DURATION:PT1H
X-Robots-Tag:noindex
X-PUBLISHED-TTL:PT1H
BEGIN:VTIMEZONE
TZID:America/New_York
BEGIN:DAYLIGHT
TZOFFSETFROM:-0500
TZOFFSETTO:-0400
TZNAME:EDT
DTSTART:20230312T070000
END:DAYLIGHT
BEGIN:STANDARD
TZOFFSETFROM:-0400
TZOFFSETTO:-0500
TZNAME:EST
DTSTART:20231105T060000
END:STANDARD
BEGIN:DAYLIGHT
TZOFFSETFROM:-0500
TZOFFSETTO:-0400
TZNAME:EDT
DTSTART:20240310T070000
END:DAYLIGHT
BEGIN:STANDARD
TZOFFSETFROM:-0400
TZOFFSETTO:-0500
TZNAME:EST
DTSTART:20241103T060000
END:STANDARD
BEGIN:DAYLIGHT
TZOFFSETFROM:-0500
TZOFFSETTO:-0400
TZNAME:EDT
DTSTART:20250309T070000
END:DAYLIGHT
BEGIN:STANDARD
TZOFFSETFROM:-0400
TZOFFSETTO:-0500
TZNAME:EST
DTSTART:20251102T060000
END:STANDARD
END:VTIMEZONE
BEGIN:VEVENT
DTSTART;TZID=America/New_York:20240801T200000
DTEND;TZID=America/New_York:20240801T230000
DTSTAMP:20260422T182803
CREATED:20240729T030552Z
LAST-MODIFIED:20240729T030558Z
UID:30147-1722542400-1722553200@thevelvetnote.com
SUMMARY:Thursday\, August 1st:  Open Mic Jam with Special Guest Sam Simms
DESCRIPTION:ONE SHOW ONLY: 8:00pm. Georgia’s LONGEST-RUNNING OPEN MIC JAM is at The Velvet Note\, and you are invited! Open Mic is a little like Karaoke\, but much\, much better\, with full bar and kitchen\, too. Come out and listen to or jam with our extraordinary house band\, or take the stage all on your own. Bring your talent\, bring date\, bring your instrument\, bring your clapping hands\, and join the fun. Often attended by club owner Tamara Fuller and she’s always on the hunt for talent! \n\n\n\nThis week\, our special guest will be Sam Simms. Sam Sims has been a staple in Rhythm and Blues\, Pop\, Rock and Jazz for over 30 years. Throughout his career he has worked with musical giants including Michael Jackson\, Janet Jackson\, Mariah Carey\, Justin Timberlake\, Michael McDonald\, Utada Hikaru\, kd lang\, Rob Halford\, Backstreet Boys\, Bette Midler\, Whitney Houston\, George Duke\, Dave Koz\, Patrice Rushin\, Boney James\, Maxwell and more. Today\, Sam is known for being one of the most versatile bassists in the industry. \n\n\n\nBorn in Chattanooga\, TN.\, Sam began his music career at age 6. At age twelve\, self taught and influenced by greats such as Verdine White\, Jaco Pastorius\, James Jamerson\, Larry Graham\, Louis Johnson\, Marcus Miller and Stanley Clarke\, Sam began playing the bass guitar.
URL:https://thevelvetnote.com/event/thursday-august-1st-open-mic-jam-with-special-guest-sam-simms/
LOCATION:The Velvet Note Main Stage\, 4075 Old Milton Parkway\, Alpharetta\, 30005\, United States
ATTACH;FMTTYPE=image/jpeg:https://thevelvetnote.com/wp-content/uploads/2024/07/Untitled-design-141.jpg
END:VEVENT
BEGIN:VEVENT
DTSTART;TZID=America/New_York:20240803T193000
DTEND;TZID=America/New_York:20240803T230000
DTSTAMP:20260422T182803
CREATED:20240717T141716Z
LAST-MODIFIED:20240717T143505Z
UID:30140-1722713400-1722726000@thevelvetnote.com
SUMMARY:Saturday\, August 3rd:  Acclaimed Singer Lori Williams
DESCRIPTION:SHOWTIMES:  7:30 AND 9:30PM.  Acclaimed jazz vocalist Lori Williams is back from her European tour\, possessing a most impressive resume as a performing artist\, educator\, songwriter\, producer\, support vocalist and musical theater actress. Her reputation and level of respect are top shelf and unimpeachable. However\, this Washington\, D.C.-native Lori is electing to let her hair down to pursue a more relaxed passion path in the realms of the Quiet Storm and R&B-leaning Soul-Jazz. \n\n\n\nWith an ALL-STAR BAND of Louis Heriveaux (piano)\, Kelly McCarty (bass) and Larry Wilson (drums).
URL:https://thevelvetnote.com/event/saturday-august-3rd-acclaimed-singer-lori-williams/
LOCATION:The Velvet Note Main Stage\, 4075 Old Milton Parkway\, Alpharetta\, 30005\, United States
ATTACH;FMTTYPE=image/jpeg:https://thevelvetnote.com/wp-content/uploads/2024/07/50839946_10211455880586653_1091812065674264576_n.jpeg
END:VEVENT
BEGIN:VEVENT
DTSTART;TZID=America/New_York:20240804T183000
DTEND;TZID=America/New_York:20240804T220000
DTSTAMP:20260422T182803
CREATED:20240710T164952Z
LAST-MODIFIED:20240710T233834Z
UID:30113-1722796200-1722808800@thevelvetnote.com
SUMMARY:Sunday\, August 4th:  Trevor Wolford & The Sous Vide Trio
DESCRIPTION:SHOWTIMES:  6:30PM AND 8:30PM.  Trevor Wolford used the forced downtime during the pandemic to formulate and create “The Culinary Guitarist”\, a concept album paying homage to the chefs and culinary creatives of his hometown Atlanta. Trevor used his experience of performing and recording for artists of many genres to achieve an authentic sound that alludes to a particular culinary experience. Trevor & the Sous Vide Trio aim to revisit tracks from the album and debut new original compositions on their 2024 east coast tour.  
URL:https://thevelvetnote.com/event/friday-august-2nd-trevor-wolford-the-sous-vide-trio/
LOCATION:The Velvet Note Main Stage\, 4075 Old Milton Parkway\, Alpharetta\, 30005\, United States
ATTACH;FMTTYPE=image/jpeg:https://thevelvetnote.com/wp-content/uploads/2024/07/IMG_20240604_183138-1.jpg
END:VEVENT
BEGIN:VEVENT
DTSTART;TZID=America/New_York:20240810T193000
DTEND;TZID=America/New_York:20240810T230000
DTSTAMP:20260422T182803
CREATED:20240807T011313Z
LAST-MODIFIED:20240807T011527Z
UID:30171-1723318200-1723330800@thevelvetnote.com
SUMMARY:Saturday\, August 10th:  One Special Evening with Trumpeter Ken Trimmons and Guitarist Patrick Arthur
DESCRIPTION:SHOWTIMES:  7:30PM AND 9:30PM.  Trumpeter Dr. Ken Trimmons and Guitarist Patrick Arthur put their jazz talents together for an incredible evening of subtle arrangements\, romantic overtones and musical elegance.
URL:https://thevelvetnote.com/event/saturday-august-10th-one-special-evening-with-trumpeter-ken-trimmons-and-guitarist-patrick-arthur/
LOCATION:The Velvet Note Main Stage\, 4075 Old Milton Parkway\, Alpharetta\, 30005\, United States
ATTACH;FMTTYPE=image/jpeg:https://thevelvetnote.com/wp-content/uploads/2024/08/Untitled-design-143.jpg
END:VEVENT
BEGIN:VEVENT
DTSTART;TZID=America/New_York:20240811T190000
DTEND;TZID=America/New_York:20240811T203000
DTSTAMP:20260422T182803
CREATED:20240807T023515Z
LAST-MODIFIED:20240811T180354Z
UID:30175-1723402800-1723408200@thevelvetnote.com
SUMMARY:Sunday\, August 11th:  How to Listen to Jazz  ***SOLD OUT!!   SOLD OUT!!   ****
DESCRIPTION:ONE SHOW ONLY @ 7pm. Drummer and band leader Justin Varnes will guide guests–in engaging\, narrative form– through experiences in learning to listen to and love this unique American art form. It’s like taking in a concert and taking a jazz history class at the same time. Special Guest: Pianist Louis Heriveaux. THIS is the session you’ve been waiting for if you want to finally “get” jazz. All Legends of Jazz Subscribers welcomed at no charge. Other guests\, make your reservations below.
URL:https://thevelvetnote.com/event/sunday-august-11th-how-to-listen-to-jazz/
LOCATION:The Velvet Note Main Stage\, 4075 Old Milton Parkway\, Alpharetta\, 30005\, United States
ATTACH;FMTTYPE=image/jpeg:https://thevelvetnote.com/wp-content/uploads/2024/08/1.jpeg
END:VEVENT
BEGIN:VEVENT
DTSTART;TZID=America/New_York:20240815T200000
DTEND;TZID=America/New_York:20240815T230000
DTSTAMP:20260422T182803
CREATED:20240813T012915Z
LAST-MODIFIED:20240813T012916Z
UID:30193-1723752000-1723762800@thevelvetnote.com
SUMMARY:Thursday\, August 15th:  Open Mic Jam!
DESCRIPTION:ONE SHOW ONLY: 8:00pm. Georgia’s LONGEST-RUNNING OPEN MIC JAM is at The Velvet Note\, and you are invited! Open Mic is a little like Karaoke\, but much\, much better\, with full bar and kitchen\, too. Come out and listen to or jam with our extraordinary house band\, or take the stage all on your own. Bring your talent\, bring date\, bring your instrument\, bring your clapping hands\, and join the fun. Hosted by club owner Tamara Fuller and she’s always on the hunt for talent!
URL:https://thevelvetnote.com/event/thursday-august-15th-open-mic-jam/
LOCATION:The Velvet Note Main Stage\, 4075 Old Milton Parkway\, Alpharetta\, 30005\, United States
END:VEVENT
BEGIN:VEVENT
DTSTART;TZID=America/New_York:20240816T120000
DTEND;TZID=America/New_York:20240817T120000
DTSTAMP:20260422T182803
CREATED:20240808T164210Z
LAST-MODIFIED:20240808T164216Z
UID:30183-1723809600-1723896000@thevelvetnote.com
SUMMARY:Friday\, August 16th and Saturday\, August 17th:  The William Green Trio
DESCRIPTION:Friday and Saturday SHOWTIMES:  7:30PM & 9:30PM.   William Green is an extraordinary musical artist that captures and expresses the sentiments of a generation. He is continuously expanding his horizons to make an impact on society by creating a union between music and life. Through his music\, he has allowed different genres of contemporary jazz\, rhythm and blues\, pop and gospel to integrate into a new and unique form.
URL:https://thevelvetnote.com/event/friday-august-16th-and-saturday-august-17th-the-william-green-trio/
LOCATION:The Velvet Note Main Stage\, 4075 Old Milton Parkway\, Alpharetta\, 30005\, United States
ATTACH;FMTTYPE=image/jpeg:https://thevelvetnote.com/wp-content/uploads/2024/08/Untitled-design-144.jpg
END:VEVENT
BEGIN:VEVENT
DTSTART;TZID=America/New_York:20240818T190000
DTEND;TZID=America/New_York:20240818T224500
DTSTAMP:20260422T182803
CREATED:20240810T170616Z
LAST-MODIFIED:20240816T181031Z
UID:30187-1724007600-1724021100@thevelvetnote.com
SUMMARY:Sunday\, August 18th:  Jazz Guitarist Blake Aaron
DESCRIPTION:7:00pm and 9:00pm SHOWTIMES. Following in the footsteps of the smash album Color and Passion\, which had THREE #1 Billboard singles and one #1 Song of the Year on the Radiowave charts for the year 2019\, Blake Aaron’s new album release\, Love and Rhythm rockets out of the gate with another THREE #1 Billboard singles\, “Feels So Right\,” “Dreamland\,” and “She’s the One.” \n\n\n\nA Billboard #1 producer himself as well as artist with his self-produced\, silky-smooth “Fall for You\,” as well as producing Billboard #1 songs for other artists\, Aaron also teams up with hit producers Darren Rahn for the #1 Billboard single\, “Groovers and Shakers\,” the #1 for all of 2019 Radiowave single\, “Drive\,” with Greg Manning for the #1 Billboard single “Feels So Right\,” and with fellow hitmaker Adam Hawley for TWO #1 Billboard singles\, “Sunday Strut\,” featuring saxophonist Najee\, and the most recent #1 hit\, “Dreamland.” \n\n\n\nJoin us for this intimate musical event with Blake and his band!
URL:https://thevelvetnote.com/event/sunday-august-18th-jazz-guitarist-blake-aaron/
LOCATION:The Velvet Note Main Stage\, 4075 Old Milton Parkway\, Alpharetta\, 30005\, United States
ATTACH;FMTTYPE=image/jpeg:https://thevelvetnote.com/wp-content/uploads/2024/08/Unknown.jpeg
END:VEVENT
BEGIN:VEVENT
DTSTART;TZID=America/New_York:20240822T200000
DTEND;TZID=America/New_York:20240822T230000
DTSTAMP:20260422T182803
CREATED:20240816T192149Z
LAST-MODIFIED:20240819T151429Z
UID:30200-1724356800-1724367600@thevelvetnote.com
SUMMARY:Thursday\, August 22nd:  Open Mic Jam!
DESCRIPTION:ONE SHOW ONLY: 8:00pm. Georgia’s LONGEST-RUNNING OPEN MIC JAM is at The Velvet Note\, and you are invited! Open Mic is a little like Karaoke\, but much\, much better\, with full bar and kitchen\, too. Come out and listen to or jam with our extraordinary house band\, or take the stage all on your own. Bring your talent\, bring date\, bring your instrument\, bring your clapping hands\, and join the fun. Hosted by club owner Tamara Fuller and she’s always on the hunt for talent!
URL:https://thevelvetnote.com/event/thursday-august-22nd-open-mic-jam/
LOCATION:The Velvet Note Main Stage\, 4075 Old Milton Parkway\, Alpharetta\, 30005\, United States
ATTACH;FMTTYPE=image/jpeg:https://thevelvetnote.com/wp-content/uploads/2023/11/Untitled-design-119.jpg
END:VEVENT
BEGIN:VEVENT
DTSTART;TZID=America/New_York:20240823T193000
DTEND;TZID=America/New_York:20240824T230000
DTSTAMP:20260422T182803
CREATED:20240816T171505Z
LAST-MODIFIED:20240819T151513Z
UID:30196-1724441400-1724540400@thevelvetnote.com
SUMMARY:Friday and Saturday\, August 23rd & 24th:   Saxophonist Deon Yates
DESCRIPTION:SHOWTIMES:  7:30PM AND 9:30PM.   Deon Yates has been entertaining audiences all over the United States and the world all of his life. Deon started playing music at the age of eight at Guyton elementary school on the east side of Detroit. From there he went on to Remus Robinson middle school where he was introduced to jazz by teachers Donald Washington and Hosea Taylor whom Deon credits as being his musical father. Taylor took Deon under his wing and the rest is history. \n\n\n\nAs a saxophone player\, Deon is one of the few instrumentalists to master the circular breathing technique that allows him to hold one single note without stopping for longer than 5 minutes\, it is a show stopper you must see and hear to believe. Deon has toured nationally with the original number one Dave Matthews Band Tribute “The Tripping Billies” based out of Rochester\, NY and seamlessly covered the style of Leroi Moore. And with the release of his new CD “In Time” and is a current artist on the upcoming compilation cd from U S Smooth Jazz. He can be heard on local area radio and several Internet radio sites.
URL:https://thevelvetnote.com/event/friday-and-saturday-august-23rd-24th-saxophonist-deon-yates/
LOCATION:The Velvet Note Main Stage\, 4075 Old Milton Parkway\, Alpharetta\, 30005\, United States
ATTACH;FMTTYPE=image/jpeg:https://thevelvetnote.com/wp-content/uploads/2024/08/1429830100__2_-scaled.jpeg
END:VEVENT
BEGIN:VEVENT
DTSTART;TZID=America/New_York:20240829T200000
DTEND;TZID=America/New_York:20240829T230000
DTSTAMP:20260422T182803
CREATED:20240827T220755Z
LAST-MODIFIED:20240827T220844Z
UID:30214-1724961600-1724972400@thevelvetnote.com
SUMMARY:Thursday\, August 29th:  Open Mic Jam\, with Special Guest Dana Thomas!
DESCRIPTION:ONE SHOW ONLY: 8:00pm. Georgia’s LONGEST-RUNNING OPEN MIC JAM is at The Velvet Note\, and you are invited! Open Mic is a little like Karaoke\, but much\, much better\, with full bar and kitchen\, too. Come out and listen to or jam with our extraordinary house band\, or take the stage all on your own. Bring your talent\, bring date\, bring your instrument\, bring your clapping hands\, and join the fun. Hosted by club owner Tamara Fuller and she’s always on the hunt for talent!
URL:https://thevelvetnote.com/event/thursday-august-29th-open-mic-jam-with-special-guest-dana-thomas/
LOCATION:The Velvet Note Main Stage\, 4075 Old Milton Parkway\, Alpharetta\, 30005\, United States
END:VEVENT
BEGIN:VEVENT
DTSTART;TZID=America/New_York:20240830T193000
DTEND;TZID=America/New_York:20240831T230000
DTSTAMP:20260422T182803
CREATED:20230904T021356Z
LAST-MODIFIED:20240831T185240Z
UID:29272-1725046200-1725145200@thevelvetnote.com
SUMMARY:Friday\, August 30th and Saturday\, August 31st:  Ray Howard Band's Celebration of Earth\, Wind and Fire!
DESCRIPTION:FRIDAY AND SATURDAY SHOWTIMES: 7:30pm and 9:30pm.  Do you remember? This is it! Our 2024\, Labor Day Earth\, Wind and Fire celebration is back and the Ray Howard Band does it like no one else. Yup–you can get your tickets one year in advance and these show sell out within days\, so get your reservations now!
URL:https://thevelvetnote.com/event/friday-august-30th-and-saturday-august-31st-ray-howard-bands-celebration-of-earth-wind-and-fire/
LOCATION:The Velvet Note Main Stage\, 4075 Old Milton Parkway\, Alpharetta\, 30005\, United States
ATTACH;FMTTYPE=image/jpeg:https://thevelvetnote.com/wp-content/uploads/2023/05/56A78B9B-7E1D-4BD7-A2CE-62DB261A3149.jpeg
END:VEVENT
END:VCALENDAR