BEGIN:VCALENDAR
VERSION:2.0
PRODID:-//The Velvet Note - ECPv6.15.20//NONSGML v1.0//EN
CALSCALE:GREGORIAN
METHOD:PUBLISH
X-ORIGINAL-URL:https://thevelvetnote.com
X-WR-CALDESC:Events for The Velvet Note
REFRESH-INTERVAL;VALUE=DURATION:PT1H
X-Robots-Tag:noindex
X-PUBLISHED-TTL:PT1H
BEGIN:VTIMEZONE
TZID:America/New_York
BEGIN:DAYLIGHT
TZOFFSETFROM:-0500
TZOFFSETTO:-0400
TZNAME:EDT
DTSTART:20230312T070000
END:DAYLIGHT
BEGIN:STANDARD
TZOFFSETFROM:-0400
TZOFFSETTO:-0500
TZNAME:EST
DTSTART:20231105T060000
END:STANDARD
BEGIN:DAYLIGHT
TZOFFSETFROM:-0500
TZOFFSETTO:-0400
TZNAME:EDT
DTSTART:20240310T070000
END:DAYLIGHT
BEGIN:STANDARD
TZOFFSETFROM:-0400
TZOFFSETTO:-0500
TZNAME:EST
DTSTART:20241103T060000
END:STANDARD
BEGIN:DAYLIGHT
TZOFFSETFROM:-0500
TZOFFSETTO:-0400
TZNAME:EDT
DTSTART:20250309T070000
END:DAYLIGHT
BEGIN:STANDARD
TZOFFSETFROM:-0400
TZOFFSETTO:-0500
TZNAME:EST
DTSTART:20251102T060000
END:STANDARD
END:VTIMEZONE
BEGIN:VEVENT
DTSTART;TZID=America/New_York:20240704T080000
DTEND;TZID=America/New_York:20240704T170000
DTSTAMP:20260422T195649
CREATED:20240703T022713Z
LAST-MODIFIED:20240703T022714Z
UID:30089-1720080000-1720112400@thevelvetnote.com
SUMMARY:Thursday\, July 4th:  Closed for Independence Day
DESCRIPTION:
URL:https://thevelvetnote.com/event/thursday-july-4th-closed-for-independence-day/
ATTACH;FMTTYPE=image/jpeg:https://thevelvetnote.com/wp-content/uploads/2024/07/Unknown.jpeg
END:VEVENT
BEGIN:VEVENT
DTSTART;TZID=America/New_York:20240705T193000
DTEND;TZID=America/New_York:20240705T230000
DTSTAMP:20260422T195649
CREATED:20240702T224255Z
LAST-MODIFIED:20240702T224256Z
UID:30081-1720207800-1720220400@thevelvetnote.com
SUMMARY:Friday\, July 5th:  Climate Change Starring Master Percussionist Bradie Speller
DESCRIPTION:SHOWTIMES:  7:30PM AND 9:30PM.  Climate Change is the new sound in what was called Jazz but now in the 21st century is #SocialMusic. The group is comprised of top flight performing & recording artists who have track records with stars like Herbie Hancock\, Weather Report\, Alicia Keys\, Aretha Franklin\, India.Aire\, KEM\, Billy Joel and many more. The band is released their first album “Beams of Light” comprised of 11 original compositions\, loaded with powerfully funky rhythms\, searing violin\, guitar and saxophone solos and music dedicated to social interaction\, and they are the brink of releasing their second album this year.
URL:https://thevelvetnote.com/event/friday-july-5th-climate-change-starring-master-percussionist-bradie-speller/
LOCATION:The Velvet Note Main Stage\, 4075 Old Milton Parkway\, Alpharetta\, 30005\, United States
ATTACH;FMTTYPE=image/jpeg:https://thevelvetnote.com/wp-content/uploads/2024/07/images.jpeg
END:VEVENT
BEGIN:VEVENT
DTSTART;TZID=America/New_York:20240706T193000
DTEND;TZID=America/New_York:20240706T230000
DTSTAMP:20260422T195649
CREATED:20240702T232352Z
LAST-MODIFIED:20240702T232450Z
UID:30084-1720294200-1720306800@thevelvetnote.com
SUMMARY:Saturday\, July 6th:  Trumpeter Trent Patten
DESCRIPTION:SHOWTIMES:  7:30PM AND 9:30PM.   Born and raised in Minnesota\, multi-instrumentalist Trent Patten was introduced to music at a young age. Both his parents being musicians\, it was natural for him to have an interest in music. Trent started playing the trumpet when he was 10\, but didn’t have an interest in jazz until he was 17 when he attended the Hilton Head Jazz Camp. It was here that he met some of his mentors and friends that really inspired him to make others feel inspired through music\, as they did to him. Around this time\, Trent moved to the Southeast area where he started becoming very active in the local music scene\, going out to see music and meet musicians and playing gigs wherever he could. \n\n\n\nDuring this time he played with countless jazz musicians such as Kevin Bales and Joe Gransden. He has also opened for very well known jazz musicians\, such as Arturo Sandoval\, Monty Alexander\, the Count Basie Orchestra and Quentin Baxter. After a couple years of living here\, he decided to study trumpet at Coastal Carolina University with Dr. Matthew White. After spending a year there\, he had an opportunity to study in Atlanta at Georgia State University with Dr. Gordon Vernick. Trent now lives in Atlanta and has been playing all around the city reaching people with his music wherever he can. \n\n\n\nTrent Patten: Trumpet \n\n\n\nPatrick Arthur: Guitar \n\n\n\nRamon Pooser: Bass \n\n\n\nKinah Boto: Drums
URL:https://thevelvetnote.com/event/saturday-july-6th-trumpeter-trent-patten/
LOCATION:The Velvet Note Main Stage\, 4075 Old Milton Parkway\, Alpharetta\, 30005\, United States
ATTACH;FMTTYPE=image/jpeg:https://thevelvetnote.com/wp-content/uploads/2024/07/009A8610-scaled.jpg
END:VEVENT
BEGIN:VEVENT
DTSTART;TZID=America/New_York:20240707T183000
DTEND;TZID=America/New_York:20240707T203000
DTSTAMP:20260422T195649
CREATED:20240703T021328Z
LAST-MODIFIED:20240707T180124Z
UID:30087-1720377000-1720384200@thevelvetnote.com
SUMMARY:Sunday\, July 7th:  Saxophonist Dwan Bosman's Encore Celebration   ***SOLD OUT!!   SOLD OUT!!   WALK-UPS WELCOMED!!!   *****
DESCRIPTION:SHOWTIME:  6:30pm.   Dwan Bosman was born in Ft. Myers\, Florida\, and raised in New Haven\, Connecticut\, and Atlanta\, Georgia. Dwan began what has become a career in music when he was in elementary school. His first instrument was the clarinet. Under the tutelage of his late grandfather Lloyd Smith\, his father Dwight Bosman and his uncle Dwayne Bosman Dwan (The Bosman Twins) has been privileged to get the best hands on training in classical\, and jazz improvisational techniques. He later focused his training entirely on the saxophone. Dwan has also trained under various instructors in the greater Atlanta\, Georgia area. As an accomplished saxophonist Dwan has performed with various national\, and local Gospel\, and Jazz artists. Blessed with natural musical talent Dwan is known as one of Atlanta’s most talented Jazz/Gospel Saxophonists.
URL:https://thevelvetnote.com/event/sunday-july-7th-saxophonist-dwan-bosmans-encore-celebration/
LOCATION:The Velvet Note Main Stage\, 4075 Old Milton Parkway\, Alpharetta\, 30005\, United States
ATTACH;FMTTYPE=image/jpeg:https://thevelvetnote.com/wp-content/uploads/2014/01/IMG_2228.jpg
END:VEVENT
BEGIN:VEVENT
DTSTART;TZID=America/New_York:20240711T200000
DTEND;TZID=America/New_York:20240711T230000
DTSTAMP:20260422T195649
CREATED:20240708T180904Z
LAST-MODIFIED:20240708T181242Z
UID:30104-1720728000-1720738800@thevelvetnote.com
SUMMARY:Thursday\, July 11th:  Open Mic Jam
DESCRIPTION:ONE SHOW ONLY: 8:00pm. Georgia’s LONGEST-RUNNING OPEN MIC JAM is at The Velvet Note\, and you are invited! Open Mic is a little like Karaoke\, but much\, much better\, with full bar and kitchen\, too. Come out and listen to or jam with our extraordinary house band\, or take the stage all on your own. Bring your talent\, bring date\, bring your instrument\, bring your clapping hands\, and join the fun. Hosted by club owner Tamara Fuller and she’s always on the hunt for talent!
URL:https://thevelvetnote.com/event/thursday-july-11th-open-mic-jam/
LOCATION:The Velvet Note Main Stage\, 4075 Old Milton Parkway\, Alpharetta\, 30005\, United States
ATTACH;FMTTYPE=image/webp:https://thevelvetnote.com/wp-content/uploads/2023/11/mic-ga2827cd98_1920.jpg.webp
END:VEVENT
BEGIN:VEVENT
DTSTART;TZID=America/New_York:20240712T193000
DTEND;TZID=America/New_York:20240712T230000
DTSTAMP:20260422T195649
CREATED:20240708T014535Z
LAST-MODIFIED:20240708T014544Z
UID:30098-1720812600-1720825200@thevelvetnote.com
SUMMARY:Friday\, July 12th:  Guitarist\, Singer and Motown Songwriter Wali Ali
DESCRIPTION:SHOWTIMES:  7:30 and 9:30pm.   The Velvet Note is pleased to welcome Wali Ali for his first performance on our stage! Wali Ali grew up in Nebraska\, but joined Motown at age 17 and recorded\, toured\, and wrote for the top acts. \n\n\n\nWali was lead Guitarist The Temptations\, Eddie Kendricks\, Teena Marie\, Rick James & Patrice Rushen just to name a few. Wali Ali has toured as guitarist with Marvin Gaye\, The Jacksons. Aretha Franklin\, and the Undisputed Truth. During his tenure as musical director of the world famous “Cotton Club”\, Wali was dubbed the “Minister of Music”. \n\n\n\nIn the late 70s he recorded few songs for Jobete Music Co under the direction of Brian Holland & Edward Holland Jr. One of them is entitled “(Oh I) need your loving” and is included on the album “Yesterday\, Today\, Forever” which was released on Jobette Music Co in 1980. \n\n\n\nHe played guitar for Marvin Gaye on the album released in 1978. He sang as a backing vocalist for Norman Connors on the album Invitation in 1979. Also he sang together with Patrice Rushen on the song “Never Gonna Give You Up (Won’t Let You Be)“ included on her Posh album from 1980. \n\n\n\nThe same year Lamont Dozier formed the soul group Zingara. Lamont Dozier found a trio of singers\, James Ingram \, Lady Bianca and Wali Ali. About Wali\, Lamont Dozier explains: “He was better known around the LA session circuit for his guitar playing than his singing. But he is a fantastic singer\, so underrated when you think how feted he is for his guitar work. Zingara recorded one of the best sweet modern soul albums ever on Wheel Records.
URL:https://thevelvetnote.com/event/friday-july-12th-guitarist-singer-and-motown-songwriter-wali-ali-2/
LOCATION:The Velvet Note Main Stage\, 4075 Old Milton Parkway\, Alpharetta\, 30005\, United States
ATTACH;FMTTYPE=image/jpeg:https://thevelvetnote.com/wp-content/uploads/2024/07/Wali-Ali-Souldennis.jpeg
END:VEVENT
BEGIN:VEVENT
DTSTART;TZID=America/New_York:20240713T193000
DTEND;TZID=America/New_York:20240713T230000
DTSTAMP:20260422T195649
CREATED:20240402T003433Z
LAST-MODIFIED:20240708T020329Z
UID:29921-1720899000-1720911600@thevelvetnote.com
SUMMARY:Saturday\, July 13th :  Master Drummer Sonny Emory
DESCRIPTION:SHOW TIMES: 7:30PM AND 9:30PM. Drummer for Earth\, Wind and Fire & Eric Clapton makes a rare club appearance! Sonny Emory is a native of Atlanta who received his first drum set at the age of four. After graduating from Georgia State University with a Bachelor in Jazz Performance\, Sonny began his transition into becoming a professional drummer playing with Joe Sample and the Crusaders. With over 30 years of live performance and studio work behind him\, Sonny maintains a busy schedule in the music industry and is highly regarded in the business. \n\n\n\nThough probably best known for his groundbreaking drumming with Earth\, Wind\, and Fire; Sonny has performed with a virtual “who’s who” in pop and jazz music including Stanley Clarke\, David Sanborn\, Bette Midler\, Al Jarreau\, Paula Abdul\, Jean-Luc Ponty\, and Boz Scaggs. He is also known for innovative visual effects during live performances that include exciting stick-twirling and back-sticking techniques. As a World Renowned Drummer and Grammy Award Winner\, Sonny is considered to be one of the greatest drummers to have come along in a while. His proficiency and style have awarded him the opportunity to record on platinum status albums such as the B52s’ Cosmic Thing and Steely Dan’s Grammy award winning Two against Nature. \n\n\n\nWhile Sonny is in high demand as a touring musician for what he delivers during live performances\, he is equally in demand for studio work. He is a former member of the legendary group Earth\, Wind\, and Fire\, having held down the drum seat for thirteen years. Sonny has additionally played with artist that include Bruce Hornsby\, Jennifer Lopez\, Lee Ritenour\, Bette Midler\, Steely Dan and he is currently touring with Eric Clapton.
URL:https://thevelvetnote.com/event/saturday-july-13th-and-saturday-july-20th-master-drummer-sonny-emory/
LOCATION:The Velvet Note Main Stage\, 4075 Old Milton Parkway\, Alpharetta\, 30005\, United States
ATTACH;FMTTYPE=image/png:https://thevelvetnote.com/wp-content/uploads/2024/02/image.png
END:VEVENT
BEGIN:VEVENT
DTSTART;TZID=America/New_York:20240714T183000
DTEND;TZID=America/New_York:20240714T220000
DTSTAMP:20260422T195649
CREATED:20240625T211423Z
LAST-MODIFIED:20240710T152221Z
UID:30077-1720981800-1720994400@thevelvetnote.com
SUMMARY:Sunday\, July 14th:  A Special Evening With Actor & Singer Keith David *** SOLD OUT!!  SOLD OUT!!   SOLD OUT!!  ***
DESCRIPTION:SHOWTIMES:  6:30PM AND 8:30PM.  Join us for a very special evening with the Voice of a Generation!  Keith David\, born and raised in New York City\, is a classically-trained graduate of the New York High School of the Performing Arts and The Juilliard School. His work has earned him Screen Actors Guild and Tony Award nominations\, an NAACP Image Award\, and three Emmy Awards. \n\n\n\nA frequent collaborator with documentarian Ken Burns\, David won his three Emmys for his voice-over performances in Jackie Robinson\, A Necessary War\, and Unforgivable Blackness: The Rise and Fall of Jack Johsnon. David has also enthralled viewers with his vocal talents in animated works such as The Princess and the Frog\, Rick and Morty\, Gargoyles\, and the Prime Video hit series\, Hazbin Hotel. \n\n\n\nDavid recently appeared in Cord Jefferson’s Oscar-winning film\, American Fiction\, Jordan Peele’s Nope\, and is also known for his prolific work in films such as 21 Bridges\, Crash\, There’s Something About Mary\, and many more. On the small screen\, David recently finished Duster\, a new series from JJ Abrams\, and The Gray House\, produced by Kevin Costner and Morgan Freeman; completed five seasons starring as Bishop James Greenleaf in Greenleaf on the OWN Network; and has been featured on series such as Blackish and Community. \n\n\n\nTrue to his reputation as a star of stage and screen\, David starred as Floyd Barton in Seven Guitars\, was nominated for a Tony for his role as Chimney Man in Jelly’s Last Jam\, and has toured with Too Marvelous for Words\, playing the legendary Nat King Cole.
URL:https://thevelvetnote.com/event/sunday-july-14th-a-special-evening-with-actor-singer-keith-david/
LOCATION:The Velvet Note Main Stage\, 4075 Old Milton Parkway\, Alpharetta\, 30005\, United States
ATTACH;FMTTYPE=image/jpeg:https://thevelvetnote.com/wp-content/uploads/2024/06/The-Juliard-School.jpg
END:VEVENT
BEGIN:VEVENT
DTSTART;TZID=America/New_York:20240718T200000
DTEND;TZID=America/New_York:20240718T230000
DTSTAMP:20260422T195649
CREATED:20240715T195958Z
LAST-MODIFIED:20240715T200338Z
UID:30125-1721332800-1721343600@thevelvetnote.com
SUMMARY:Thursday\, July 18th:  Open Mic Jam!
DESCRIPTION:ONE SHOW ONLY: 8:00pm. Georgia’s LONGEST-RUNNING OPEN MIC JAM is at The Velvet Note\, and you are invited! Open Mic is a little like Karaoke\, but much\, much better\, with full bar and kitchen\, too. Come out and listen to or jam with our extraordinary house band\, or take the stage all on your own. Bring your talent\, bring date\, bring your instrument\, bring your clapping hands\, and join the fun. Hosted by club owner Tamara Fuller and she’s always on the hunt for talent!
URL:https://thevelvetnote.com/event/thursday-july-18th-open-mic-jam/
LOCATION:The Velvet Note Main Stage\, 4075 Old Milton Parkway\, Alpharetta\, 30005\, United States
ATTACH;FMTTYPE=image/png:https://thevelvetnote.com/wp-content/uploads/2024/07/Every-Thursday-8p-11p.png
END:VEVENT
BEGIN:VEVENT
DTSTART;TZID=America/New_York:20240719T193000
DTEND;TZID=America/New_York:20240719T230000
DTSTAMP:20260422T195649
CREATED:20240710T130917Z
LAST-MODIFIED:20240715T193237Z
UID:30106-1721417400-1721430000@thevelvetnote.com
SUMMARY:Friday\, July 19th:  RivaBlue's Birthday Bash with Special Guests!
DESCRIPTION:SHOWTIMES:  7:30PM AND 9:30PM.   Born Gwen Redding\, a Washington\,D.C. native\, during early childhood her parents moved the family to small town Long Branch\, NJ to raise them. Upon graduating from high school\, Gwen made the move back to hometown Washington\, D.C. to attend the University of the District of Columbia earning a degree in Mass Communications. Her first radio gig was in 1980 at UDC’s student operated station\, WUDC where she served writing copy\, performed production assistant duties\, voice overs and did fill ins for other air talents.Rivablue can be heard weekdays from 10am to 2pm on 91.9 FM WCLK\, Atlanta’s Jazz Station. Shortly thereafter\, Gwen made the transition to the major station at UDC\, 90.1 FM WBCU which had a jazz format. Jazz music was Gwen’s love at first listen for she got to play music from straight ahead jazz artists like Art Blakey\, George Benson\, Houston Person\, Ella Fitzgerald\, Sarah Vaughn\, the entire Marsalis family and others. \n\n\n\n“Midday Jazz” on weekdays from 10am to 2pm on 91.9 FM WCLK\, Atlanta’s Jazz Station.
URL:https://thevelvetnote.com/event/friday-july-19th-rivablues-birthday-bash-with-special-guests/
LOCATION:The Velvet Note Main Stage\, 4075 Old Milton Parkway\, Alpharetta\, 30005\, United States
ATTACH;FMTTYPE=image/jpeg:https://thevelvetnote.com/wp-content/uploads/2024/07/1.jpeg
END:VEVENT
BEGIN:VEVENT
DTSTART;TZID=America/New_York:20240720T193000
DTEND;TZID=America/New_York:20240720T230000
DTSTAMP:20260422T195649
CREATED:20240714T194145Z
LAST-MODIFIED:20240714T210605Z
UID:30120-1721503800-1721516400@thevelvetnote.com
SUMMARY:Saturday\, July 20th:  Celebrity Actress and Singer Michole Brianna White
DESCRIPTION:SHOWTIMES:  7:30PM AND 9:30PM. \n\n\n\nMichole Briana White currently stars in the Starz hit series Black Mafia Family and is proud to be in the final season of ATLANTA Episode 4\, “LightSkinned-ed” for FX.  \n\n\n\nMichole has performed with the LA Philharmonic at Disney Concert Hall\, The Wilshire Ebell & the Ford Theatre LA. She licenses her music for film and television and her vocals were featured on the Daytime Emmys. She has also performed at several festivals including The Long Beach Jazz Festival. She will soon be releasing a single and is working on a new EP. One of the highlights in her career was playing the iconic Lena Horn on stage in When Jazz Had the Blues at the Matrix theatre LA.  \n\n\n\nMichole starred in James Wan’s film Malignant\, as well as GOLIATH\, DEAD TO ME\, Dr. Dre’s VITAL SIGNS\, the Gotham Award winning web series THE STRANGE EYES of DR. MYES and is co-creator of its upcoming sequel. She was a series regular on 100 CENTER STREET (dir. Sydney Lumet\,) in 25th HOUR and SHE HATE ME (dir. Spike Lee) and starred in Ava Duvernay’s first feature I WILL FOLLOW. Her theatrical credits include the original Off Broadway production of August Wilson’s JITNEY. For more information\, visit @micholewhite IG\, Micholebrianawhite.com. Her vocals were also featured in the title song of Reed Between the Lines and she has self-produced two EP’s as lead vocalist and song writer. \n\n\n\nAlso featuring Clarence “T-Lee” Hill (keys) and Lil John Roberts (drums)!
URL:https://thevelvetnote.com/event/saturday-july-20th-celebrity-actress-and-singer-michole-brianna-white/
LOCATION:The Velvet Note Main Stage\, 4075 Old Milton Parkway\, Alpharetta\, 30005\, United States
ATTACH;FMTTYPE=image/jpeg:https://thevelvetnote.com/wp-content/uploads/2024/07/1-1.jpeg
END:VEVENT
BEGIN:VEVENT
DTSTART;TZID=America/New_York:20240721T190000
DTEND;TZID=America/New_York:20240721T210000
DTSTAMP:20260422T195649
CREATED:20240715T215420Z
LAST-MODIFIED:20240715T215430Z
UID:30130-1721588400-1721595600@thevelvetnote.com
SUMMARY:Sunday\, July 21st:  The Life and Music of Elvin Jones
DESCRIPTION:ONE SHOW ONLY:  7:00pm.   Was Elvin Jones really REAL? In our 14th season of Legends of Jazz\, Justin Varnes and his Jazz Legacy Project will guide guests–in engaging\, narrative form– through the life of this legendary drummer and member of John Coltrane’s band. It’s like taking in a concert and taking a jazz history class at the same time.  \n\n\n\nOh\, and they’ll also play their behinds off!
URL:https://thevelvetnote.com/event/sunday-july-21st-the-life-and-music-of-elvin-jones/
LOCATION:The Velvet Note Main Stage\, 4075 Old Milton Parkway\, Alpharetta\, 30005\, United States
ATTACH;FMTTYPE=image/jpeg:https://thevelvetnote.com/wp-content/uploads/2024/07/Elvin-Jones-Jazz-Drummer.jpeg
END:VEVENT
BEGIN:VEVENT
DTSTART;TZID=America/New_York:20240725T200000
DTEND;TZID=America/New_York:20240725T230000
DTSTAMP:20260422T195649
CREATED:20240716T003111Z
LAST-MODIFIED:20240725T201243Z
UID:30133-1721937600-1721948400@thevelvetnote.com
SUMMARY:Thursday\, July 25th:  Open Mic Jam!
DESCRIPTION:ONE SHOW ONLY: 8:00pm. Georgia’s LONGEST-RUNNING OPEN MIC JAM is at The Velvet Note\, and you are invited! Open Mic is a little like Karaoke\, but much\, much better\, with full bar and kitchen\, too. Come out and listen to or jam with our extraordinary house band\, or take the stage all on your own. Bring your talent\, bring date\, bring your instrument\, bring your clapping hands\, and join the fun. Hosted by club owner Tamara Fuller and she’s always on the hunt for talent!
URL:https://thevelvetnote.com/event/thursday-july-25th-open-mic-jam/
LOCATION:The Velvet Note Main Stage\, 4075 Old Milton Parkway\, Alpharetta\, 30005\, United States
ATTACH;FMTTYPE=image/png:https://thevelvetnote.com/wp-content/uploads/2024/07/Every-Thursday-8p-11p.png
END:VEVENT
BEGIN:VEVENT
DTSTART;TZID=America/New_York:20240726T193000
DTEND;TZID=America/New_York:20240726T230000
DTSTAMP:20260422T195649
CREATED:20240716T014220Z
LAST-MODIFIED:20240716T014234Z
UID:30137-1722022200-1722034800@thevelvetnote.com
SUMMARY:Friday\, July 26th:   Midnight Collective
DESCRIPTION:SHOWTIMES:   7:30PM AND 9:30PM.   The Midnight Collective is a local group of Atlanta-based college musicians who have known and played with one another since their years of musical infancy. Being the brainchild of alto saxophone player Reed Jorgensen\, he was the one to bring together the members of the band (drummer Jaiden Swamy\, pianist Blake Dwelle\, bassist Alex Barry and guitarist Issac Lourie) by meeting all of them through events\, programs and jams of the Atlanta jazz scene. All these young musicians have one thing in common and that’s the desire to connect with an audience as best as possible and to make them feel a deeper connection that they have with each other as bandmates and as friends.
URL:https://thevelvetnote.com/event/friday-july-26th-midnight-collective/
LOCATION:The Velvet Note Main Stage\, 4075 Old Milton Parkway\, Alpharetta\, 30005\, United States
ATTACH;FMTTYPE=image/jpeg:https://thevelvetnote.com/wp-content/uploads/2024/07/1-2.jpeg
END:VEVENT
BEGIN:VEVENT
DTSTART;TZID=America/New_York:20240727T193000
DTEND;TZID=America/New_York:20240727T230000
DTSTAMP:20260422T195649
CREATED:20240528T061225Z
LAST-MODIFIED:20240607T181817Z
UID:30038-1722108600-1722121200@thevelvetnote.com
SUMMARY:Saturday\, July 27th:  Matt Von Roderick
DESCRIPTION:7:30pm and 9:30pm Shows: An Inspiring Evening with The Award-Winning Singing Trumpeter \n\n\n\nFlying high in the rarified air of innovative jazz trumpeter and heart-centered crooner\, Matt Von Roderick has been hailed as “a post-millennial Chet Baker” by the New York Times and “a top-drawer trumpeter who also sings like an angel obscured by a storm cloud” by JazzTimes Magazine. \n\n\n\n\n\n\n\n\n\nVon Roderick’s signature sound combines classic\, lush tones with his adventurous vocal/trumpet multiphonics\, a dash of loops and spoken word to create what the International Trumpet Guild calls “exquisite”\, while Downbeat Magazine describes his musical approach as being “Zen-like”.  \n\n\n\nVon Roderick prioritizes the spiritual aspects of music and genuinely loves his audiences. He seeks to make a positive impact in the world and it is his great joy to bring you joy. \n\n\n\n“His latest masterpiece\, Celestial Heart\, an album that has recently taken the world by storm…seamlessly weaves together classic lush tones with audacious experimentation\, incorporating multiphonics\, melodic vocals\, and even hints of spoken word poetry…Matt Von Roderick\, a virtuoso trumpeter and vocalist…showcases an explorative and idiosyncratic approach to interpreting classics…He embodies the spirit of exploration intrinsic to jazz’s tradition and its continuous evolution as an art form…” \n\n\n\n—JAZZIZ Magazine \n\n\n\nThe authoritative voice of jazz culture 
URL:https://thevelvetnote.com/event/saturday-july-20th-matt-von-roderick/
LOCATION:The Velvet Note Main Stage\, 4075 Old Milton Parkway\, Alpharetta\, 30005\, United States
ATTACH;FMTTYPE=image/jpeg:https://thevelvetnote.com/wp-content/uploads/2024/05/Press-photo-scaled.jpeg
END:VEVENT
BEGIN:VEVENT
DTSTART;TZID=America/New_York:20240728T070000
DTEND;TZID=America/New_York:20240728T223000
DTSTAMP:20260422T195649
CREATED:20240320T031852Z
LAST-MODIFIED:20240320T031852Z
UID:29871-1722150000-1722205800@thevelvetnote.com
SUMMARY:Sunday\, July 28th:  Smooth Jazz Bassist Darryl Williams
DESCRIPTION:SHOWTIMES:  7:00PM AND 9:00PM.  It took ten years for urban-jazz bass player Darryl Williams to write\, record and release “Here to Stay\,” his Billboard top 10 single and the title track to his second album. This week’s release of the follow-up single\, “Do You Remember\,” proves that he doesn’t plan to go away anytime soon. Plucking rubbery basslines on piccolo and electric basses on the slick jazz-funk energizer that he wrote and produced\, Williams is joined on the dancefloor filler by chart-toppers Michael Lington (saxophone) and Adam Hawley (guitarist).  \n\n\n\nWilliams’ return to center stage as a frontman with the “Here to Stay” set resulted in a 2017 Best New Artist nomination from the Smooth Jazz Network. The first-call bassman calls the collection that he produced with sax powerhouse Euge Groove “a labor of love\,” featuring eight of his hand-penned originals along with a pair of remakes that have personal meaning to the San Diego native who currently resides in Temecula. A stellar list of his regular employers were quick to return the favor by making guest appearances on “Here to Stay\,” including Groove\, who ignites a pair of tunes including the title cut\, two-time Grammy-winning guitarist and producer Paul Brown\, jazz-funk keyboard pioneer Jeff Lorber\, saxmen Marcus Anderson and Elan Trotman\, and keyboardists Jonathan Fritzen\, Greg Manning and Scott Wilkie. The disc’s lone vocal number\, a faithful rendering of The Emotions’ “Don’t Ask My Neighbors\,” is soul kissed by R&B crooner Ashling Cole. Williams remembers his late mentor\, Carl Evans Jr.\, by revamping the former Fattburger leader’s sweetly redolent “The Doctor\,” which is graced by Michael Paolo’s caressing soprano sax.  \n\n\n\n“While to some people\, ‘labor of love’ is an overused cliché\, it certainly applies to ‘Here to Stay.’ I began writing songs for the collection in 2007 before moving my family to Temecula from Las Vegas. The compositions were inspired by different experiences we went through in our journey throughout that period. It was an important and formative time in my career as well. That’s when I first started playing in Euge’s (Groove) band and did a tour with Jeff (Lorber) a couple years later. In between is when my very good friend and mentor Carl (Evans Jr.) passed\, which was devastating. ‘Do You Remember’ was one of the last songs I wrote for the record and it was inspired by reflecting on how far I’ve come from growing up as a kid in Los Angeles and San Diego to playing in a funk band with my brother as a teenager. It took me ten years to finish this album and while it takes me back in time\, the reaction from fans\, radio and reviewers has me looking forward with excitement. I couldn’t be more proud of this album\,” said Williams.  \n\n\n\nWilliams was a teenager when he opened for R&B acts Lakeside and Al Green along with gospel legend Shirley Caesar. After studying jazz at San Diego State University\, Williams went from regular gigs backing many of San Diego’s most prominent homegrown talent to the neon lights of the Las Vegas strip where he accompanied such nationally-renowned headliners as Clint Holmes\, Angela Bofill\, Tevin Campbell\, Howard Hewett and Keith Washington\, and did a road stint with Chaka Khan. After moving back to California in 2008\, Williams dropped his debut album\, “That Was Then\,” garnering praise from JazzTimes and national airplay on SiriusXM. He has become a fixture on the smooth/contemporary jazz scene where he has shared the stage with the genre’s heavy hitters: Richard Elliot\, Peter White\, Gerald Albright\, Mindi Abair\, Brenda Russell\, Darren Rahn\, Jessy J\, Everette Harp and Jeff Kashiwa. He has also recorded with Jackiem Joyner\, Blake Aaron\, Nils Jiptner\, U-Nam and Kay-Ta Matsuno. 
URL:https://thevelvetnote.com/event/sunday-july-28th-smooth-jazz-bassist-darryl-williams/
LOCATION:The Velvet Note Main Stage\, 4075 Old Milton Parkway\, Alpharetta\, 30005\, United States
ATTACH;FMTTYPE=image/jpeg:https://thevelvetnote.com/wp-content/uploads/2024/03/Darryl-Williams-scaled.jpg
END:VEVENT
END:VCALENDAR