BEGIN:VCALENDAR
VERSION:2.0
PRODID:-//The Velvet Note - ECPv6.15.20//NONSGML v1.0//EN
CALSCALE:GREGORIAN
METHOD:PUBLISH
X-WR-CALNAME:The Velvet Note
X-ORIGINAL-URL:https://thevelvetnote.com
X-WR-CALDESC:Events for The Velvet Note
REFRESH-INTERVAL;VALUE=DURATION:PT1H
X-Robots-Tag:noindex
X-PUBLISHED-TTL:PT1H
BEGIN:VTIMEZONE
TZID:America/New_York
BEGIN:DAYLIGHT
TZOFFSETFROM:-0500
TZOFFSETTO:-0400
TZNAME:EDT
DTSTART:20230312T070000
END:DAYLIGHT
BEGIN:STANDARD
TZOFFSETFROM:-0400
TZOFFSETTO:-0500
TZNAME:EST
DTSTART:20231105T060000
END:STANDARD
BEGIN:DAYLIGHT
TZOFFSETFROM:-0500
TZOFFSETTO:-0400
TZNAME:EDT
DTSTART:20240310T070000
END:DAYLIGHT
BEGIN:STANDARD
TZOFFSETFROM:-0400
TZOFFSETTO:-0500
TZNAME:EST
DTSTART:20241103T060000
END:STANDARD
BEGIN:DAYLIGHT
TZOFFSETFROM:-0500
TZOFFSETTO:-0400
TZNAME:EDT
DTSTART:20250309T070000
END:DAYLIGHT
BEGIN:STANDARD
TZOFFSETFROM:-0400
TZOFFSETTO:-0500
TZNAME:EST
DTSTART:20251102T060000
END:STANDARD
END:VTIMEZONE
BEGIN:VEVENT
DTSTART;TZID=America/New_York:20240104T200000
DTEND;TZID=America/New_York:20240104T230000
DTSTAMP:20260423T040007
CREATED:20240102T015149Z
LAST-MODIFIED:20240102T015210Z
UID:29590-1704398400-1704409200@thevelvetnote.com
SUMMARY:Thursday\, January 4th:  Open Mic Jam Hosted by Owner Tamara Fuller
DESCRIPTION:Georgia’s LONGEST-RUNNING OPEN MIC JAM is at The Velvet Note\, and you are invited! Open Mic is a little like Karaoke\, but much\, much better\, with full bar and kitchen\, too. Come out and listen to or jam with our extraordinary house band\, or take the stage all on your own. Bring your talent\, bring date\, bring your instrument\, bring your clapping hands\, and join the fun. Hosted by club owner Tamara Fuller and she’s always on the hunt for talent!
URL:https://thevelvetnote.com/event/thursday-january-4th-open-mic-jam-hosted-by-owner-tamara-fuller/
LOCATION:The Velvet Note Main Stage\, 4075 Old Milton Parkway\, Alpharetta\, 30005\, United States
ATTACH;FMTTYPE=image/webp:https://thevelvetnote.com/wp-content/uploads/2023/11/mic-ga2827cd98_1920.jpg.webp
END:VEVENT
BEGIN:VEVENT
DTSTART;TZID=America/New_York:20240106T193000
DTEND;TZID=America/New_York:20240106T230000
DTSTAMP:20260423T040007
CREATED:20231122T020828Z
LAST-MODIFIED:20231227T034526Z
UID:29508-1704569400-1704582000@thevelvetnote.com
SUMMARY:Saturday\, January 6th:  Encore!  The Ray Howard Band Celebrates Luther Vandross ***SOLD OUT!!   SOLD OUT!!   SOLD OUT!! ***
DESCRIPTION:SHOWTIMES: 7:30PM AND 9:30PM. You asked for more shows\, and we’ve got ’em!   Designated the “heartbeat” of R&B during the 1980s and 1990s\, Luther Vandross led a productive singing and songwriting life before to this preeminence. The soul balladeer’s strong commitment to the art of music continued on its Grammy-winning course\, even after he became unable to continue public appearances. \n\n\n\nFor the first time ever\, we are proud to present our #1 rated\, Ray Howard Band celebrating this cherished entertainer’s music.
URL:https://thevelvetnote.com/event/saturday-january-6th-encore-the-ray-howard-band-celebrates-luther-vandross/
LOCATION:The Velvet Note Main Stage\, 4075 Old Milton Parkway\, Alpharetta\, 30005\, United States
ATTACH;FMTTYPE=image/jpeg:https://thevelvetnote.com/wp-content/uploads/2023/11/Add-a-heading-26.jpg
END:VEVENT
BEGIN:VEVENT
DTSTART;TZID=America/New_York:20240107T190000
DTEND;TZID=America/New_York:20240107T210000
DTSTAMP:20260423T040007
CREATED:20231218T214115Z
LAST-MODIFIED:20240104T012337Z
UID:29566-1704654000-1704661200@thevelvetnote.com
SUMMARY:Sunday\, January 7th:  The Jazz Legacy Project Presents the Music of Sonny Rollins ** SOLD OUT!!  SOLD OUT!!  SOLD OUT!!**
DESCRIPTION:ONE SHOW ONLY @ 7pm.  Justin Varnes and his Jazz Legacy Project will guide guests–in engaging\, narrative form– through the life of this legendary saxophonist\, as well as the impact that he has had on the legacy of jazz. It’s like taking in a concert and taking a jazz history class at the same time. \n\n\n\nOh\, and they’ll also play their behinds off!
URL:https://thevelvetnote.com/event/sunday-january-7th-the-jazz-legacy-project-presents-the-music-of-sonny-rollins/
LOCATION:The Velvet Note Main Stage\, 4075 Old Milton Parkway\, Alpharetta\, 30005\, United States
ATTACH;FMTTYPE=image/jpeg:https://thevelvetnote.com/wp-content/uploads/2023/12/Unknown.jpeg
END:VEVENT
BEGIN:VEVENT
DTSTART;TZID=America/New_York:20240111T200000
DTEND;TZID=America/New_York:20240111T230000
DTSTAMP:20260423T040007
CREATED:20240102T023553Z
LAST-MODIFIED:20240111T230331Z
UID:29592-1705003200-1705014000@thevelvetnote.com
SUMMARY:Thursday\, January 11th:  Open Mic Jam Hosted by Owner Tamara Fuller  ***SOLD OUT!!   SOLD OUT!!   SOLD OUT!!  ****
DESCRIPTION:Georgia’s LONGEST-RUNNING OPEN MIC JAM is at The Velvet Note\, and you are invited! Open Mic is a little like Karaoke\, but much\, much better\, with full bar and kitchen\, too. Come out and listen to or jam with our extraordinary house band\, or take the stage all on your own. Bring your talent\, bring date\, bring your instrument\, bring your clapping hands\, and join the fun. Hosted by club owner Tamara Fuller and she’s always on the hunt for talent!
URL:https://thevelvetnote.com/event/thursday-january-11th-open-mic-jam-hosted-by-owner-tamara-fuller/
LOCATION:The Velvet Note Main Stage\, 4075 Old Milton Parkway\, Alpharetta\, 30005\, United States
ATTACH;FMTTYPE=image/jpeg:https://thevelvetnote.com/wp-content/uploads/2023/11/Untitled-design-119.jpg
END:VEVENT
BEGIN:VEVENT
DTSTART;TZID=America/New_York:20240112T193000
DTEND;TZID=America/New_York:20240113T230000
DTSTAMP:20260423T040007
CREATED:20231214T054758Z
LAST-MODIFIED:20240113T155924Z
UID:29551-1705087800-1705186800@thevelvetnote.com
SUMMARY:Friday and Saturday\, January 12th & 13th:  GRAMMY-Winner Lionel Cole
DESCRIPTION:FRIDAY AND SATURDAY SHOWTIMES:   7:30pm and 9:30pm.  As the only son of the legendary Freddy Cole (and nephew of the Great Nat King Cole and cousin of Natalie Cole)\, Lionel Cole encapsulates the best of the swingy\, velvety sound of the great Cole family\, featuring many original arrangements adapted to the era and genre. \n\n\n\nLionel is an American soul with a jazz heart and blues attitude. He’s platinum selling\, award winning\, Fulbright lecturer\, as well as an internationally acclaimed entertainer\, Los Angeles music doctor\, high- profile multi-instrumentalist. He possesses a smooth baritone voice from the new generation of the iconic “Cole” Family. \n\n\n\nHis shows feature the great songs of the Jazz age as well as the Pop and Soul music of the day that changed his life\, all played with a Jazz sensibility and that signature Cole flair for arrangement. \n\n\n\nListen to Lionel HERE: \n\n\n\n\n\n\n\n\n\n\n\n\n\n\n\nThese performances at The Velvet Note feature Lionel traveling in from his home in Australia to perform with accomplished members of his father’s bands.
URL:https://thevelvetnote.com/event/friday-and-saturday-january-12th-13th-grammy-winner-lionel-cole/
LOCATION:The Velvet Note Main Stage\, 4075 Old Milton Parkway\, Alpharetta\, 30005\, United States
ATTACH;FMTTYPE=image/jpeg:https://thevelvetnote.com/wp-content/uploads/2023/12/images.jpeg
END:VEVENT
BEGIN:VEVENT
DTSTART;TZID=America/New_York:20240114T190000
DTEND;TZID=America/New_York:20240114T230000
DTSTAMP:20260423T040007
CREATED:20231220T030326Z
LAST-MODIFIED:20240114T191324Z
UID:29569-1705258800-1705273200@thevelvetnote.com
SUMMARY:Sunday\, January 14th:  Bill Hart's Birthday Performance and Celebration   *** SOLD OUT!!  SOLD OUT!!   SOLD OUT!!  ***
DESCRIPTION:Canadian guitarist Bill Hart is one of the most beloved musicians and educators in the Atlanta area\, and he’s celebrating his birthday at The Velvet Note! This special evening begins with a performance by his International Jazz Fusion Band\, followed by an Open Jam attended by an array of area musicians. Come out and join us and for a grand time with music\, friends and fun! Oh…..and there will be CAKE!
URL:https://thevelvetnote.com/event/sunday-january-14th-bill-harts-birthday-performance-and-celebration/
ATTACH;FMTTYPE=image/jpeg:https://thevelvetnote.com/wp-content/uploads/2018/11/Bill-Hart-1.jpg
END:VEVENT
BEGIN:VEVENT
DTSTART;TZID=America/New_York:20240118T200000
DTEND;TZID=America/New_York:20240118T230000
DTSTAMP:20260423T040007
CREATED:20240102T030042Z
LAST-MODIFIED:20240102T030043Z
UID:29595-1705608000-1705618800@thevelvetnote.com
SUMMARY:Thursday\, January 18th:  Open Mic Jam Hosted by Owner Tamara Fuller
DESCRIPTION:Georgia’s LONGEST-RUNNING OPEN MIC JAM is at The Velvet Note\, and you are invited! Open Mic is a little like Karaoke\, but much\, much better\, with full bar and kitchen\, too. Come out and listen to or jam with our extraordinary house band\, or take the stage all on your own. Bring your talent\, bring date\, bring your instrument\, bring your clapping hands\, and join the fun. Hosted by club owner Tamara Fuller and she’s always on the hunt for talent!
URL:https://thevelvetnote.com/event/thursday-january-18th-open-mic-jam-hosted-by-owner-tamara-fuller/
LOCATION:The Velvet Note Main Stage\, 4075 Old Milton Parkway\, Alpharetta\, 30005\, United States
ATTACH;FMTTYPE=image/jpeg:https://thevelvetnote.com/wp-content/uploads/2023/11/Untitled-design-119.jpg
END:VEVENT
BEGIN:VEVENT
DTSTART;TZID=America/New_York:20240119T193000
DTEND;TZID=America/New_York:20240119T230000
DTSTAMP:20260423T040007
CREATED:20240102T013336Z
LAST-MODIFIED:20240102T013336Z
UID:29587-1705692600-1705705200@thevelvetnote.com
SUMMARY:Friday\, January 19th:  Saxophonist Reggie Hines
DESCRIPTION:SHOWTIMES:  7:30PM AND 9:30PM   Whether he’s performing at international jazz festivals in Stockholm\, Montreux\, Bermuda and St. Lucia or closer to home in and around Atlanta\, veteran saxophonist Reggie Hines always asks his audience the key question: “How many of you want to go on a musical journey?” Though while commanding the stage\, the multi-talented songwriter and musician is clearly referring to the constant sense of groove he brings to his eclectic mix of salsa\, hip-hop\, jazz\, trap\, bebop\, gospel\, funk and even classical music\, his words could also apply to his fascinating\, multi-faceted career. \n\n\n\nSpeaking of his unique style of performing\, Reggie Hines says\, “I kind of like to break the norms but keep a constant thump going.” Over the years\, he brought that rhythmic magic around the world as part of Angie Stone’s band for eight years\, in addition to hundreds of his own performances. He has made appearances at countless U.S. and international festivals\, including the Montreal Jazz Festival\, Bermuda Jazz Festival\, Bou Bou’s Jazz Festival in St. Barth’s\, Meringue Soul Festival\, Sinbad’s Bermuda Cruise Festival\, St. Lucia Jazz Festival\, Miami Soul Beach Festival\, Stockholm Jazz Festival\, Essence Music Festival\, Pori Jazz Festival in Finland\, Jamaica Jazz Festival\, and Atlanta Midtown Music Festival. 
URL:https://thevelvetnote.com/event/friday-january-19th-saxophonist-reggie-hines/
LOCATION:The Velvet Note Main Stage\, 4075 Old Milton Parkway\, Alpharetta\, 30005\, United States
ATTACH;FMTTYPE=image/jpeg:https://thevelvetnote.com/wp-content/uploads/2024/01/Unknown.jpeg
END:VEVENT
BEGIN:VEVENT
DTSTART;TZID=America/New_York:20240120T193000
DTEND;TZID=America/New_York:20240120T230000
DTSTAMP:20260423T040007
CREATED:20240102T114631Z
LAST-MODIFIED:20240119T203902Z
UID:29601-1705779000-1705791600@thevelvetnote.com
SUMMARY:Saturday\, January 20th:  Auriyan *** SOLD OUT!!!   SOLD OUT!!   SOLD OUT!!  ***
DESCRIPTION:SHOWTIMES:  7:30PM AND 9:30PM.  Auriyan Tillman is an incredibly diverse vocalist who has been sharing her gift since she was a little girl singing in local churches\, city events and school performances. She attended John S. Davidson Fine Arts Magnet School in Augusta\, GA\, and developed her singing and performance skills in the demanding music program there. She became lead vocalist with the school’s jazz band and\, with that experience\, discovered the feel and the songs of jazz\, growing a love for the music.   \n\n\n\nFollowing high school\, Auriyan decided to pursue a career as a musician and continued her education at Kennesaw State University\, studying under jazz vocalist Karla Harris. She earned her Bachelor of Music in Jazz Performance in May 2023 and has been busy further developing her talents\, performing at Atlanta venues such as Ray’s on the River\, Ray’s in the City\, Elliot St. Pub\, Redlight Café\, The Balzer Theatre\, St. James Live and more. She’s caught the attention of some of Atlanta’s top jazz musicians and has shared the stage with people such as pianist Tyrone Jackson\, drummer/producer Larry Wilson\, and drummer Chris Burroughs. \n\n\n\nAuriyan is poised to make her mark on the jazz scene as a vocalist unafraid to step outside of the expected and bring something new to the jazz conversation.
URL:https://thevelvetnote.com/event/saturday-january-20th-auriyan/
LOCATION:The Velvet Note Main Stage\, 4075 Old Milton Parkway\, Alpharetta\, 30005\, United States
ATTACH;FMTTYPE=image/jpeg:https://thevelvetnote.com/wp-content/uploads/2024/01/IMG_8417.jpg
END:VEVENT
BEGIN:VEVENT
DTSTART;TZID=America/New_York:20240121T190000
DTEND;TZID=America/New_York:20240121T204500
DTSTAMP:20260423T040007
CREATED:20240102T124208Z
LAST-MODIFIED:20240102T192535Z
UID:29605-1705863600-1705869900@thevelvetnote.com
SUMMARY:Sunday\, January 21st:  The Casen Alesi Quintet
DESCRIPTION:ONE SHOW ONLY:  7PM.  Making their return to The Velvet Note stage\, join us for an unforgettable jazz experience led by the talented Casen Alesi on drums! Featuring Joey Garcia on saxophones and flute\, Owen Anderson on guitar\, Joshua Gray on bass\, and Ben Lackly on piano. Immerse yourself in the soulful melodies inspired by the legendary MF Doom’s “MM..Food.” Don’t miss this unique blend of music and gastronomy – a feast for the senses!
URL:https://thevelvetnote.com/event/sunday-january-21st-the-casen-alesi-quintet/
LOCATION:The Velvet Note Main Stage\, 4075 Old Milton Parkway\, Alpharetta\, 30005\, United States
ATTACH;FMTTYPE=image/png:https://thevelvetnote.com/wp-content/uploads/2024/01/Untitled.png
END:VEVENT
BEGIN:VEVENT
DTSTART;TZID=America/New_York:20240123T210143
DTEND;TZID=America/New_York:20240123T210143
DTSTAMP:20260423T040007
CREATED:20240124T020143Z
LAST-MODIFIED:20240124T020150Z
UID:29646-1706043703-1706043703@thevelvetnote.com
SUMMARY:Thursday\, February 1st:  Open Mic Jam with Special Guest Performance by Danny Lerman
DESCRIPTION:Georgia’s LONGEST-RUNNING OPEN MIC JAM is at The Velvet Note\, and you are invited! Open Mic is a little like Karaoke\, but much\, much better\, with full bar and kitchen\, too. Come out and listen to or jam with our extraordinary house band\, or take the stage all on your own. Bring your talent\, bring date\, bring your instrument\, bring your clapping hands\, and join the fun. Hosted by club owner Tamara Fuller and she’s always on the hunt for talent! \n\n\n\nThis week\, our jam session opens with a special performance by dynamic smooth jazz saxophonist/composer Danny Lerman.  Danny Lerman is a riveting saxophonist and composer. Danny has studied with Junior Walker’s legendary teacher\, Charlie Atkins and at the University of North Texas music school and the Berklee School of Music as well as with Peter Ballin. Danny’s Albums; Danny’s Island/Chartmaker Jazz\, Meow Baby/Lightyear/EMI\, Do You Feel/Steel Warehouse\, and World Jam/Steel Warehouse\, earned stunning reviews\, opening the door to international airplay\, festivals and concerts in Finland\, Venezuela\, South Africa\, Indonesia\, The Netherlands\, Turkey\, Hong Kong\, Mexico\, Israel\, Brazil\, Canada and the USA.   \n\n\n\nAnd then\, the cats get on stage to jam into the night!  Join us!
URL:https://thevelvetnote.com/event/thursday-february-1st-open-mic-jam-with-special-guest-performance-by-danny-lerman/
LOCATION:The Velvet Note Main Stage\, 4075 Old Milton Parkway\, Alpharetta\, 30005\, United States
ATTACH;FMTTYPE=image/jpeg:https://thevelvetnote.com/wp-content/uploads/2024/01/Open-Mic-Jam-13.jpg
END:VEVENT
BEGIN:VEVENT
DTSTART;TZID=America/New_York:20240125T200000
DTEND;TZID=America/New_York:20240125T230000
DTSTAMP:20260423T040007
CREATED:20240102T112201Z
LAST-MODIFIED:20240102T112207Z
UID:29597-1706212800-1706223600@thevelvetnote.com
SUMMARY:Thursday\, January 25th:  Open Mic Jam Hosted by Owner Tamara Fuller
DESCRIPTION:Georgia’s LONGEST-RUNNING OPEN MIC JAM is at The Velvet Note\, and you are invited! Open Mic is a little like Karaoke\, but much\, much better\, with full bar and kitchen\, too. Come out and listen to or jam with our extraordinary house band\, or take the stage all on your own. Bring your talent\, bring date\, bring your instrument\, bring your clapping hands\, and join the fun. Hosted by club owner Tamara Fuller and she’s always on the hunt for talent!
URL:https://thevelvetnote.com/event/thursday-january-25th-open-mic-jam-hosted-by-owner-tamara-fuller/
LOCATION:The Velvet Note Main Stage\, 4075 Old Milton Parkway\, Alpharetta\, 30005\, United States
ATTACH;FMTTYPE=image/jpeg:https://thevelvetnote.com/wp-content/uploads/2023/11/Untitled-design-119.jpg
END:VEVENT
BEGIN:VEVENT
DTSTART;TZID=America/New_York:20240126T193000
DTEND;TZID=America/New_York:20240127T230000
DTSTAMP:20260423T040007
CREATED:20240102T134216Z
LAST-MODIFIED:20240123T232653Z
UID:29609-1706297400-1706396400@thevelvetnote.com
SUMMARY:Friday & Saturday\, January 26th & 27th:  The Curtis Lundy Quartet with Craig Handy
DESCRIPTION:FRIDAY AND SATURDAY SHOWTIMES:  7:30PM AND 9:30PM.  Curtis Lundy is arguably one of the most prolific in-demand bassists on the modern jazz scene. He is a disciple of the mainstream straight ahead hard bop school.  Jazz Times calls Lundy “one of the most spiritually uplifting bassists on the jazz scene today.”  Bags & Trane is an album by Milt Jackson and John Coltrane\, released in 1961. Taking its title from Jackson and Coltrane’s nicknames\, it is the only collaborative record by the pair\, although only Jackson contributed original compositions. \n\n\n\nTenor saxophonist Craig Handy attended North Texas State University. His distinctive sound and authentic instrumental prowess were redoubtable traits immediately noticed by artists of stature\, especially those committed to nurturing new talent on the bandstand and road. \n\n\n\nHandy moved to New York in 1986 and began several associations with formidable artists including master drummers Art Blakey and Roy Haynes\, South African melodist Abdullah Ibrahim\, and the Mingus Dynasty Band. During a Mingus Dynasty engagement\, one audience member – none other than an impressed Bill Cosby – approached Handy and eventually invited him to be the featured soloist in his sitcom’s music theme for 1989-90’s “The Cosby Show”.  \n\n\n\nLundy and Handy reunite on The Velvet Note stage on January 26th and 27th\, and you want to be sure to catch the wave!
URL:https://thevelvetnote.com/event/friday-saturday-january-26th-27th-the-curtis-lundy-trio-with-warren-wolf/
LOCATION:The Velvet Note Main Stage\, 4075 Old Milton Parkway\, Alpharetta\, 30005\, United States
ATTACH;FMTTYPE=image/jpeg:https://thevelvetnote.com/wp-content/uploads/2024/01/January-26th-27th.jpg
END:VEVENT
BEGIN:VEVENT
DTSTART;TZID=America/New_York:20240127T000000
DTEND;TZID=America/New_York:20240127T235959
DTSTAMP:20260423T040007
CREATED:20240127T172641Z
LAST-MODIFIED:20240127T173121Z
UID:29668-1706313600-1706399999@thevelvetnote.com
SUMMARY:Sunday\, January 28th:  Taylor Swift's Team is in the Playoffs and we're closed.  Seriously.
DESCRIPTION:In the name of all that is not football\, we welcome donations at thevelvetnote.com/donate.    Regularly-scheduled programming will resume next week!
URL:https://thevelvetnote.com/event/sunday-january-28th-taylor-swifts-team-is-in-the-playoffs-were-closed-seriously/
ATTACH;FMTTYPE=image/jpeg:https://thevelvetnote.com/wp-content/uploads/2024/01/Unknown-1.jpeg
END:VEVENT
END:VCALENDAR