BEGIN:VCALENDAR
VERSION:2.0
PRODID:-//The Velvet Note - ECPv6.15.20//NONSGML v1.0//EN
CALSCALE:GREGORIAN
METHOD:PUBLISH
X-ORIGINAL-URL:https://thevelvetnote.com
X-WR-CALDESC:Events for The Velvet Note
REFRESH-INTERVAL;VALUE=DURATION:PT1H
X-Robots-Tag:noindex
X-PUBLISHED-TTL:PT1H
BEGIN:VTIMEZONE
TZID:America/New_York
BEGIN:DAYLIGHT
TZOFFSETFROM:-0500
TZOFFSETTO:-0400
TZNAME:EDT
DTSTART:20220313T070000
END:DAYLIGHT
BEGIN:STANDARD
TZOFFSETFROM:-0400
TZOFFSETTO:-0500
TZNAME:EST
DTSTART:20221106T060000
END:STANDARD
BEGIN:DAYLIGHT
TZOFFSETFROM:-0500
TZOFFSETTO:-0400
TZNAME:EDT
DTSTART:20230312T070000
END:DAYLIGHT
BEGIN:STANDARD
TZOFFSETFROM:-0400
TZOFFSETTO:-0500
TZNAME:EST
DTSTART:20231105T060000
END:STANDARD
BEGIN:DAYLIGHT
TZOFFSETFROM:-0500
TZOFFSETTO:-0400
TZNAME:EDT
DTSTART:20240310T070000
END:DAYLIGHT
BEGIN:STANDARD
TZOFFSETFROM:-0400
TZOFFSETTO:-0500
TZNAME:EST
DTSTART:20241103T060000
END:STANDARD
END:VTIMEZONE
BEGIN:VEVENT
DTSTART;TZID=America/New_York:20230701T193000
DTEND;TZID=America/New_York:20230701T230000
DTSTAMP:20260423T123241
CREATED:20230106T175014Z
LAST-MODIFIED:20230612T234528Z
UID:28549-1688239800-1688252400@thevelvetnote.com
SUMMARY:Saturday\, July 1st:  Singer L'Tanya "Sugarlips" Shields
DESCRIPTION:SHOWTIMES:  7:30PM AND 9:30PM.  “Sugarlips”\, as L’Tanya is called by friends\, family & those who have had the good fortune to hear her melodious voice. A native New Yorker whose singing credentials span from choir concerts\, private parties to national competitions to international tours\, Sugarlips has been humming hymns and singing songs since childhood. Her vivacious personality comes across in her music. Whatever song she sings\, she makes it her own.   \n\n\n\nSince relocating to Atlanta\, Sugarlips was a soloist with the all Atlanta chorus for 5 years where she performed with the award-winning Atlanta Symphony Orchestra. She participated in the opening & closing ceremonies of the Centennial Olympic Games\, sharing the stage with B.B. King\, Winton Marsalis\, Stevie Wonder\, Little Richard and a host of other veterans in the music industry.  Along with the Voice of Atlanta choir\, she recorded with the legendary Sir Elton John.  8 members of the choir which included Sugarlips’ harmonious voice\, joined Sir Elton on his US & European tours to promote the “Peachtree Road” cd project. As a soloist with Voice of Atlanta (VOA) choir and now the leader of her own R&B and jazz band & the featured vocalist with Mudbone Turner’s blues band\, you may hear Sugarlips’ voice anywhere.
URL:https://thevelvetnote.com/event/saturday-february-4th-singer-ltanya-sugarlips-shields/
LOCATION:The Velvet Note Main Stage\, 4075 Old Milton Parkway\, Alpharetta\, 30005\, United States
ATTACH;FMTTYPE=image/jpeg:https://thevelvetnote.com/wp-content/uploads/2023/01/A986C763-D033-4953-A7D9-DF1EE7A5EFF5.jpeg
END:VEVENT
BEGIN:VEVENT
DTSTART;TZID=America/New_York:20230706T200000
DTEND;TZID=America/New_York:20230706T230000
DTSTAMP:20260423T123241
CREATED:20230702T232628Z
LAST-MODIFIED:20230706T215729Z
UID:29082-1688673600-1688684400@thevelvetnote.com
SUMMARY:Thursday\, July 6th:  Open Mic Jam Hosted by Owner Tamara Fuller  *** SOLD OUT!!  SOLD OUT!!  SOLD OUT!!  ***
DESCRIPTION:Open Mic is a little like Karaoke\, but much\, much better. Come out and listen to or jam with our extraordinary house band\, or take the stage all on your own. It’s hosted by Velvet Note Owner Tamara Fuller\, with invited special guests each week\, so you know it’s gonna be hot.  Oh\, and she’s always on the lookout for new talent for Velvet Note shows! And come hungry and thirsty–we roll out our delicious house and bar specialities for the week\, just for you.
URL:https://thevelvetnote.com/event/thursday-july-6th-open-mic-jam-hosted-by-owner-tamara-fuller/
LOCATION:The Velvet Note Main Stage\, 4075 Old Milton Parkway\, Alpharetta\, 30005\, United States
ATTACH;FMTTYPE=image/jpeg:https://thevelvetnote.com/wp-content/uploads/2023/05/255421FC-EF00-4CD8-A707-D118722DF50D.jpeg
END:VEVENT
BEGIN:VEVENT
DTSTART;TZID=America/New_York:20230708T193000
DTEND;TZID=America/New_York:20230708T230000
DTSTAMP:20260423T123241
CREATED:20230613T051720Z
LAST-MODIFIED:20230706T185322Z
UID:29047-1688844600-1688857200@thevelvetnote.com
SUMMARY:Saturday\, July 8th:  Dynamic Performer Deb Bowman & The Big Love Band ***SOLD OUT!!  SOLD OUT!! SOLD OUT!! ***
DESCRIPTION:SHOWTIMES:  7:30pm and 9:30pm.  Praised as “hypnotic and unforgettable\,” Dynamo Deb Bowman’s performances “are cut from one rare thread” and “must be seen.” Her vocal versatility and unmatched acting have thrilled audiences of all ages worldwide. Whether belting out Broadway and big band ballads or softly seducing you with sultry standards\, she always delivers memorable musical moments that keep people coming back for more. Her opening numbers are powerful and energetic\, escalating into pure euphoria\, before leading everyone in the room through many gripping emotions. “Bowman leaves everything on the stage.” With a BA focus on classical Theater and Dance from the University of Alabama\, Bowman began her professional career in entertainment in 1999 in New York City\, performing internationally in TV\, Film\, Theater\, and Cabaret Shows. She relocated to Atlanta in 2012 and has since been embraced as one of Atlanta’s Finest Entertainers.
URL:https://thevelvetnote.com/event/saturday-july-8th-dynamic-performer-deb-bowman/
LOCATION:The Velvet Note Main Stage\, 4075 Old Milton Parkway\, Alpharetta\, 30005\, United States
ATTACH;FMTTYPE=image/jpeg:https://thevelvetnote.com/wp-content/uploads/2023/06/images-1.jpeg
END:VEVENT
BEGIN:VEVENT
DTSTART;TZID=America/New_York:20230709T190000
DTEND;TZID=America/New_York:20230709T203000
DTSTAMP:20260423T123241
CREATED:20230628T131448Z
LAST-MODIFIED:20230706T130221Z
UID:29073-1688929200-1688934600@thevelvetnote.com
SUMMARY:Sunday\, July 9th:  Carson Moore and The Gardening Club\, Featuring Ava Ramsey
DESCRIPTION:*** Owner’s Pick:  Most Unique Artist! **** \n\n\n\n\n\n\n\n\n\nONE SHOW ONLY:  7:00pm.   The Gardening Club is a progressive psychedelic jazz fusion group based in Greenville South Carolina. Formed in 2019 The Gardening Club performs music that pushes the boundaries of the genre while redefining the limits of the banjo.  \n\n\n\nFounding Members Carson Moore and Miles Jernigan have been composing together for half a decade. Writing for the unexplored sonic timbre of the banjo in a traditional jazz setting\, the two compose pieces that delve into an uncharted soundscape fusing two of the United States oldest musical genres\, jazz and Appalachian folk. Having worked with a variety of artists such as but not limited to jazz guitar legend Mike Stern\, two-time Grammy award winning percussionist Quentin Baxter and his band “Ranky Tanky”\, and five time Grammy award winning saxophonist Chris Bullock\, The Gardening Club exists in a soundscape at the forefront of jazz fusion blending a variety of different cultures and subgenres of jazz creating a sound that is uniquely our own. Their debut single features Mike Stern on an original collaboration “Flight 19” produced by Grammy award winning sound engineer Aki Nishimura. For the majority of 2022 The Gardening Club worked closely with Grammy Winning Gullah musician Quentin Baxter on a month-long jazz outreach concert series at the Tryon Fine Arts Center consisting of performances from both “The Gardening Club”\, and “The Quentin Baxter Quintet” as well as multiple collaborations between the two groups. The series focused on showcasing\, celebrating\, and educating the local community on the history of African American jazz musicians from the Carolinas such as John Coltrane and Dizzy Gillespie highlighting the historical significance of their contributions to jazz.  \n\n\n\n\n\n\n\nOver the course of the last year The Gardening Club has toured across the American southeast performing at esteemed venues and festivals such as but not limited to Floyd Festival (VA)\, The Greenville Peace Center\, The first annual Earl Scruggs Festival\, The Piccolo Spoleto Festival\, The Albino Skunk Festival\, The Tryon Fine Arts Center\, and a featured performance as the only jazz band admitted to the 2022 IBMA Wide Open Bluegrass Festival.
URL:https://thevelvetnote.com/event/sunday-july-9th-carson-moore-and-the-gardening-club-featuring-ava-ramsey/
LOCATION:The Velvet Note Main Stage\, 4075 Old Milton Parkway\, Alpharetta\, 30005\, United States
ATTACH;FMTTYPE=image/jpeg:https://thevelvetnote.com/wp-content/uploads/2023/06/IMG_1939.jpeg
END:VEVENT
BEGIN:VEVENT
DTSTART;TZID=America/New_York:20230713T200000
DTEND;TZID=America/New_York:20230713T230000
DTSTAMP:20260423T123241
CREATED:20230702T233442Z
LAST-MODIFIED:20230702T233442Z
UID:29084-1689278400-1689289200@thevelvetnote.com
SUMMARY:Thursday\, July 13th:  Open Mic Jam Hosted by Owner Tamara Fuller
DESCRIPTION:Open Mic is a little like Karaoke\, but much\, much better. Come out and listen to or jam with our extraordinary house band\, or take the stage all on your own. It’s hosted by Velvet Note Owner Tamara Fuller\, with invited special guests each week\, so you know it’s gonna be hot.  Oh\, and she’s always on the lookout for new talent for Velvet Note shows! And come hungry and thirsty–we roll out our delicious house and bar specialities for the week\, just for you.
URL:https://thevelvetnote.com/event/thursday-july-13th-open-mic-jam-hosted-by-owner-tamara-fuller/
LOCATION:The Velvet Note Main Stage\, 4075 Old Milton Parkway\, Alpharetta\, 30005\, United States
ATTACH;FMTTYPE=image/jpeg:https://thevelvetnote.com/wp-content/uploads/2023/05/255421FC-EF00-4CD8-A707-D118722DF50D.jpeg
END:VEVENT
BEGIN:VEVENT
DTSTART;TZID=America/New_York:20230714T193000
DTEND;TZID=America/New_York:20230714T230000
DTSTAMP:20260423T123241
CREATED:20230628T135226Z
LAST-MODIFIED:20230628T135227Z
UID:29077-1689363000-1689375600@thevelvetnote.com
SUMMARY:Friday\, July 14th:  Smooth Jazz Saxophonist and Singer Marcus Adams
DESCRIPTION:SHOWTIMES:  7:30PM AND 9:30PM.   Just when urban jazz fans thought every show\, cruise and festival would always include the same lineup of veterans they’ve seen a million times—Suddenly\, there’s Marcus Adams\, a fresh\, dynamic voice on the scene\, ready to funk things up and inspire them to fall in love with the sax all over again. A thrilling performer and one on the rise\, vocalist and multi-instrumental soul/jazz artist Marcus Adams is a sign that the new crop of smooth jazz artists can certainly carry the torch. Marcus combines R&B\, Soul\, and Jazz to create songs that takes the listeners on a musical ride of the highs of love and depths of pain in life.While the Milwaukee based composer and performer has enjoyed success over the years in gospel and jazz and has worked with and opened for numerous legends in both arenas\, his emotionally compelling and sensuously grooving compositions are lighting up both airwaves and stages alike.
URL:https://thevelvetnote.com/event/friday-july-14th-smooth-jazz-saxophonist-and-singer-marcus-adams/
LOCATION:The Velvet Note Main Stage\, 4075 Old Milton Parkway\, Alpharetta\, 30005\, United States
ATTACH;FMTTYPE=image/jpeg:https://thevelvetnote.com/wp-content/uploads/2023/06/29600.jpeg
END:VEVENT
BEGIN:VEVENT
DTSTART;TZID=America/New_York:20230720T200000
DTEND;TZID=America/New_York:20230720T230000
DTSTAMP:20260423T123241
CREATED:20230702T235021Z
LAST-MODIFIED:20230720T225808Z
UID:29086-1689883200-1689894000@thevelvetnote.com
SUMMARY:Thursday\, June 20th:  Open Mic Jam Hosted by Owner Tamara Fuller  *** SOLD OUT!!   SOLD OUT!!  SOLD OUT!!! ***
DESCRIPTION:Open Mic is a little like Karaoke\, but much\, much better. Come out and listen to or jam with our extraordinary house band\, or take the stage all on your own. It’s hosted by Velvet Note Owner Tamara Fuller\, with invited special guests each week\, so you know it’s gonna be hot. Oh\, and she’s always on the lookout for new talent for Velvet Note shows! And come hungry and thirsty–we roll out our delicious house and bar specialities for the week\, just for you.
URL:https://thevelvetnote.com/event/thursday-june-20th-open-mic-jam-hosted-by-owner-tamara-fuller/
LOCATION:The Velvet Note Main Stage\, 4075 Old Milton Parkway\, Alpharetta\, 30005\, United States
ATTACH;FMTTYPE=image/jpeg:https://thevelvetnote.com/wp-content/uploads/2023/05/255421FC-EF00-4CD8-A707-D118722DF50D.jpeg
END:VEVENT
BEGIN:VEVENT
DTSTART;TZID=America/New_York:20230721T193000
DTEND;TZID=America/New_York:20230721T230000
DTSTAMP:20260423T123241
CREATED:20230714T165013Z
LAST-MODIFIED:20230714T165016Z
UID:29130-1689967800-1689980400@thevelvetnote.com
SUMMARY:Friday\, July 21st:  ASCAP-Winning Saxophonist/Producer Reggie Hines
DESCRIPTION:FRIDAY Showtimes:  7:30pm and 9:30pm.  Reggie Hines is an ASCAP Award Winning and Grammy nominated songwriter\, producer\, and international recording artist. Reggie Hines’ soulful and expressive sound has provided him the opportunity to write\, produce\, and perform music for and with a diverse roster of artists including Chaka Khan\, Angie Stone\, Regina Belle\, Mary J Blidge and the list goes on. Reggie Hines’ television performances include The Late Show with David Letterman\, Live with Regis and Kelly\, The Ellen DeGeneres Show\, a role in the film Bessie\, starring Queen Latifah\, NBC Comedy Awards\, VH1 Hip Hop Honors Dirty South\, The Key and Peele Comedy Central halftime performance (Move All the Chairs Video) \, NBC’s Mr. Robinson television show playing with Earth \, Wind and Fire\, and 3 Super Bowl 49 Pepsi commercials with Craig Robinson and The Nasty Delicious Band (he is actually a member of the band). Reggie Hines has also performed in countless festivals around the world including the Montreaux Jazz Festival\, the St. Lucia Jazz Festival\,The Pori Jazz Festival\, the Essence Music Festival\, Bonaroo Festival and a host of others. \n\n\n\nReggie Hines grew up the South Bronx of New York\, where he was exposed to a diverse spectrum of musical flavorings from a very early age. Reggie’s passion for music has taken him on a life long journey that began with attending an esteemed performing arts high school in Manhattan. As Reggie’s musical gifting began to unfold\, he joined the U.S. Army band where he received some of his most rigorous musical instruction. During his training\, Reggie embraced studying the multicultural styles that he so elegantly weaves into his signature sound today. As with any great jazz musician\, Reggie Hines’ improvisational abilities allow him to fully express his emotions through song whether he is just adding highlights to a melody\, or blazing through an extended-range solo.
URL:https://thevelvetnote.com/event/friday-july-21st-ascap-winning-saxophonist-producer-reggie-hines/
LOCATION:The Velvet Note Main Stage\, 4075 Old Milton Parkway\, Alpharetta\, 30005\, United States
ATTACH;FMTTYPE=image/jpeg:https://thevelvetnote.com/wp-content/uploads/2023/07/FB_IMG_1646921187573.jpg
END:VEVENT
BEGIN:VEVENT
DTSTART;TZID=America/New_York:20230722T193000
DTEND;TZID=America/New_York:20230722T230000
DTSTAMP:20260423T123241
CREATED:20230709T222624Z
LAST-MODIFIED:20230723T001257Z
UID:29110-1690054200-1690066800@thevelvetnote.com
SUMMARY:Saturday\, July 22nd:  The Taylor Roberts Jazz Quartet  *** SOLD OUT!!  SOLD OUT!!   SOLD OUT!!   SOLD OUT!!  ***
DESCRIPTION:SHOWTIMES:  7:30pm and 9:30pm.   The love affair began early\, which may very well explain how Taylor Roberts’ professional career is well into its third decade. Spanning as wide a range of influences as there are genres of music\, Taylor Roberts has earned a reputation on the world map as a rising star. Although his heart is deeply steeped in Jazz\, Roberts does not easily fit into any one box. His influences range from R&B\, to Classic Rock\, to Pop\, and everything in between. \n\n\n\nYears of intensive study with world-renowned educators such as Barry Greene\, Keith Javors\, and Bunky Green have proven to continually pay off as his career expands. His reworkings and adaptations of songs old and new entrance established fans\, while attracting new fans on a nightly basis. Roberts has appeared multiple times at the Jacksonville Jazz Festival and has toured internationally with the Christian Tamburr Quintet. He has been hired by the Rolling Stones to play their private events. His position as the primary in-house entertainment at the Ritz-Carlton\, Amelia Island since 2014 has allowed him opportunities to travel the world and enjoy residencies at other luxury resorts as he performs for an international audience on a nightly basis. \n\n\n\nLikened to Tommy Emmanuel\, Russell Malone\, Wes Montgomery\, Tuck Andress and Charlie Hunter\, Roberts’ masterful playing has begun to etch his name alongside his heroes. \n\n\n\n\n\n*** SOLD OUT!!   SOLD OUT!!   SOLD OUT!!   SOLD OUT!!  SOLD OUT!!  ***
URL:https://thevelvetnote.com/event/saturday-july-22nd-the-taylor-roberts-jazz-quartet/
LOCATION:The Velvet Note Main Stage\, 4075 Old Milton Parkway\, Alpharetta\, 30005\, United States
ATTACH;FMTTYPE=image/jpeg:https://thevelvetnote.com/wp-content/uploads/2023/07/TaylorRobertsBio.jpeg
END:VEVENT
BEGIN:VEVENT
DTSTART;TZID=America/New_York:20230726T190000
DTEND;TZID=America/New_York:20230726T210000
DTSTAMP:20260423T123241
CREATED:20230725T042330Z
LAST-MODIFIED:20230725T230908Z
UID:29157-1690398000-1690405200@thevelvetnote.com
SUMMARY:Wednesday\, July 26th:  Tamara's Graduation Party (Pssst...You're Invited!) *** SOLD OUT!!  SOLD OUT!!   SOLD OUT!! ***
DESCRIPTION:** SOLD OUT!! **   Okay\, here’s the deal:  The Velvet Note’s Owner Tamara Fuller just completed her MBA!  Her team has twisted her arm and forced her to take an evening to celebrate.  Super-accomplished musician ELEW is coming from New York to perform and DJ.  It’ll be a night to remember\, and we’d love to see you for cocktails\, dinner\, music and fun.  Reservations are closed\, but gifts and donations are cool.  To make a donation\, go to https://thevelvetnote.com/donate. Thank you for your support!
URL:https://thevelvetnote.com/event/wednesday-july-26th-tamaras-graduation-party-pssst-youre-invited/
LOCATION:The Velvet Note Main Stage\, 4075 Old Milton Parkway\, Alpharetta\, 30005\, United States
ATTACH;FMTTYPE=image/jpeg:https://thevelvetnote.com/wp-content/uploads/2023/07/IMG_5887.jpg
END:VEVENT
BEGIN:VEVENT
DTSTART;TZID=America/New_York:20230727T200000
DTEND;TZID=America/New_York:20230727T230000
DTSTAMP:20260423T123241
CREATED:20230703T001032Z
LAST-MODIFIED:20230727T214114Z
UID:29090-1690488000-1690498800@thevelvetnote.com
SUMMARY:Thursday\, July 27th:  Open Mic Jam Hosted by Owner Tamara Fuller *** SOLD OUT!!  SOLD OUT!!   SOLD OUT!!   SOLD OUT!!  ***
DESCRIPTION:Open Mic is a little like Karaoke\, but much\, much better. Come out and listen to or jam with our extraordinary house band\, or take the stage all on your own. It’s hosted by Velvet Note Owner Tamara Fuller\, with invited special guests each week\, so you know it’s gonna be hot. Oh\, and she’s always on the lookout for new talent for Velvet Note shows! And come hungry and thirsty–we roll out our delicious house and bar specialities for the week\, just for you.
URL:https://thevelvetnote.com/event/thursday-july-27th-open-mic-jam-hosted-by-owner-tamara-fuller/
LOCATION:The Velvet Note Main Stage\, 4075 Old Milton Parkway\, Alpharetta\, 30005\, United States
ATTACH;FMTTYPE=image/jpeg:https://thevelvetnote.com/wp-content/uploads/2023/05/255421FC-EF00-4CD8-A707-D118722DF50D.jpeg
END:VEVENT
BEGIN:VEVENT
DTSTART;TZID=America/New_York:20230728T193000
DTEND;TZID=America/New_York:20230729T233000
DTSTAMP:20260423T123241
CREATED:20230613T132502Z
LAST-MODIFIED:20230729T191614Z
UID:29050-1690572600-1690673400@thevelvetnote.com
SUMMARY:Friday\, July 28th & Saturday\, July 29th:  Singer and Actress Chandra Currelley   *** SOLD OUT!!  SOLD OUT!!  SOLD OUT!!  ***
DESCRIPTION:FRIDAY AND SATURDAY SHOWTIMES:  7:30pm and 9:30pm.  Chandra Currelley is an award-winning\, acclaimed film actor\, television series and theater actor\, singer and entertainer. You will want to be sure to catch this show! \n\n\n\nChandra is currently a regular on BET+ Dramedy  “Bruh” she portrays the over-the -top “Alice”. You also probably recognize Chandra as Ms. V. in Tyler Perry’s “FOR BETTER OR WORSE” and  in the #1 box office movie\, “DIARY OF A MAD  BLACK WOMAN ” playing herself in the nightclub Chandra’s. Also starring as “Shirley” in “Madea’s Big Happy Family” the stage play.  Who  can forget her show stopping performance  as Loretta in KANDI BURRESS’s  (The Real Housewives of Atlanta) “A Mother’s Love” and the movie Madea’s Big Happy Family as the choir soloist\, Sister Laura.  CHANDRA is the former lead singer of  The legendary recording group The S.O.S. Band\, replacing the original lead singer. She continued the band’s string of Top Twenty Billboard hits with the CD’s “Diamonds In The Raw”\, and “One Of Many Nights”\, where she wrote several songs\, including the single “Broken Promises”.  Ms. Currelley is the recipient of the Lady Soul of Jazz award\, 2018 Atlanta Actors Award\, BWIJA award for Best Female in The Arts & Theatre and The BIBO Reflection award for Outstanding Film & Media Achievement.  Ms. CURRELLEY also starred in the world premier of “Jesus Christ Superstar Gospel”\, and as Mother Shaw in Regina Taylor’s “Crowns”. \n\n\n\nThe Gospel Choice Award nominee has performed at The White House and toured Europe and Asia leaving audiences wanting more. She has also starred in “Dinah Was”\, “Blues In the Night”\, “The Hot Mikado”\, “Amen Corner” (The Alliance Theatre/ Arena Stage). “Two Queens\, One Castle” with T.C. Carson (Horizon Theatre)\,”What’s Done In the Dark”\, (Fox Theatre) “Slam!” “Sophisticated Ladies” and Kenny Leon’s “Rejoice” to name a few. \n\n\n\nBecause of her ability to legitimately cross musical and theatrical styles\, Chandra has had the opportunity to work with some of the greats from Clarence Avant\, jazz legend Roy Ayers\, where she recorded the duet\, “Let Me Love You”\, to the phenomenal Tyler Perry. Other Television credits include VH-1\, Say Yes! (TBN) \, (BET) Jazz Showcase (PBS) and Good Day Atlanta (Fox)
URL:https://thevelvetnote.com/event/friday-july-28th-saturday-july-29th-singer-and-actress-chandra-currelley/
LOCATION:The Velvet Note Main Stage\, 4075 Old Milton Parkway\, Alpharetta\, 30005\, United States
ATTACH;FMTTYPE=image/jpeg:https://thevelvetnote.com/wp-content/uploads/2023/06/IMG_8711-2.jpg
END:VEVENT
BEGIN:VEVENT
DTSTART;TZID=America/New_York:20230730T190000
DTEND;TZID=America/New_York:20230730T203000
DTSTAMP:20260423T123241
CREATED:20230702T220005Z
LAST-MODIFIED:20230725T221833Z
UID:29080-1690743600-1690749000@thevelvetnote.com
SUMMARY:Sunday\, July 30th:  Legends of Jazz Presents the Music of Billy Strayhorn *** SOLD OUT!!  SOLD OUT!!  SOLD OUT!! ***
DESCRIPTION:ONE SHOW ONLY @ 7:00pm. Legends of Jazz Series presents a celebration of the music of Billy Strayhorn. \n\n\n\nJustin Varnes and his quartet will guide guests–in engaging\, narrative form– through the life of this legendary composer and pianist\, as well as the impact that he had on the legacy of jazz. It’s like taking in a concert and taking a jazz history class at the same time. \n\n\n\nOh\, and they’ll also play their behinds off! \n\n\n\n***  SOLD OUT!!  SOLD OUT!!  SOLD OUT!!   SOLD OUT!!   SOLD OUT!!  ****
URL:https://thevelvetnote.com/event/sunday-july-30th-legends-of-jazz-presents-the-music-of-billy-stray-horn/
LOCATION:The Velvet Note Main Stage\, 4075 Old Milton Parkway\, Alpharetta\, 30005\, United States
ATTACH;FMTTYPE=image/jpeg:https://thevelvetnote.com/wp-content/uploads/2016/03/BillyStrayhorn2.jpg
END:VEVENT
END:VCALENDAR