BEGIN:VCALENDAR
VERSION:2.0
PRODID:-//The Velvet Note - ECPv6.15.20//NONSGML v1.0//EN
CALSCALE:GREGORIAN
METHOD:PUBLISH
X-ORIGINAL-URL:https://thevelvetnote.com
X-WR-CALDESC:Events for The Velvet Note
REFRESH-INTERVAL;VALUE=DURATION:PT1H
X-Robots-Tag:noindex
X-PUBLISHED-TTL:PT1H
BEGIN:VTIMEZONE
TZID:America/New_York
BEGIN:DAYLIGHT
TZOFFSETFROM:-0500
TZOFFSETTO:-0400
TZNAME:EDT
DTSTART:20210314T070000
END:DAYLIGHT
BEGIN:STANDARD
TZOFFSETFROM:-0400
TZOFFSETTO:-0500
TZNAME:EST
DTSTART:20211107T060000
END:STANDARD
BEGIN:DAYLIGHT
TZOFFSETFROM:-0500
TZOFFSETTO:-0400
TZNAME:EDT
DTSTART:20220313T070000
END:DAYLIGHT
BEGIN:STANDARD
TZOFFSETFROM:-0400
TZOFFSETTO:-0500
TZNAME:EST
DTSTART:20221106T060000
END:STANDARD
BEGIN:DAYLIGHT
TZOFFSETFROM:-0500
TZOFFSETTO:-0400
TZNAME:EDT
DTSTART:20230312T070000
END:DAYLIGHT
BEGIN:STANDARD
TZOFFSETFROM:-0400
TZOFFSETTO:-0500
TZNAME:EST
DTSTART:20231105T060000
END:STANDARD
END:VTIMEZONE
BEGIN:VEVENT
DTSTART;TZID=America/New_York:20220303T200000
DTEND;TZID=America/New_York:20220303T230000
DTSTAMP:20260424T121410
CREATED:20220228T152509Z
LAST-MODIFIED:20220228T160754Z
UID:27759-1646337600-1646348400@thevelvetnote.com
SUMMARY:Thursday\, March 3rd:  Open Mic Jam Hosted by Singer/Guitarist Cooper Tisdale
DESCRIPTION:Have you tried OPEN MIC JAZZ JAM at Atlanta area’s #1 rated jazz club? . It’s like karaoke\, but much\, much better. Come out to The Velvet Note and listen to or jam with our extraordinary house band\, including piano virtuoso Randy Hoexter\, bassist Andre Manga\, world drummer Yakou N’Guesson\, and guitarist Bill Hart. Come hungry– we are rolling out our delicious house specialities for the week on Thursdays. Hosted by guitarist/singer Cooper Tisdale.  Doors open at 6:30pm.   The jam session goes from 8pm to 11pm.  See you soon!
URL:https://thevelvetnote.com/event/thursday-march-3rd-open-mic-jam-hosted-by-singer-guitarist-cooper-tisdale/
LOCATION:The Velvet Note Main Stage\, 4075 Old Milton Parkway\, Alpharetta\, 30005\, United States
ATTACH;FMTTYPE=image/jpeg:https://thevelvetnote.com/wp-content/uploads/2022/02/Shimmer-edit-coop1.jpg
END:VEVENT
BEGIN:VEVENT
DTSTART;TZID=America/New_York:20220304T193000
DTEND;TZID=America/New_York:20220305T230000
DTSTAMP:20260424T121410
CREATED:20220122T055727Z
LAST-MODIFIED:20220227T151939Z
UID:27699-1646422200-1646521200@thevelvetnote.com
SUMMARY:Friday\, March 4th & Saturday\, March 5th:  Shaun Munday
DESCRIPTION:Shaun Munday is unlike any other artist you’ll ever see and hear onstage.  He captures audiences with a full band sound and plays the bass better than most people play the guitar. He is a graduate of the Berklee School of Music in Boston\, MA where he studied and performed with some of the greatest artists and educators in the industry including John Mayer\, Esperanza Spalding\, Matthew Garrison (Herbie Hancock)\, Antonio Sanchez (Pat Metheny) and Jetro De Silva (Whitney Houston).  \n\n\n\nWatch Shaun perform HERE. \n\n\n\nShaun performs internationally and has shared the stage with Lalah Hathaway\, Corinne Bailey Rae\, Andra Day\, Mary Wilson of The Supremes\, blues legend Robert Cray\, reggae royalty Aston Barrett and The Wailers (Bob Marley’s band)\, country music star Collin Raye\, Devon Allman\, Yonrico Scott of the Royal Southern Brotherhood and the band Kansas. 
URL:https://thevelvetnote.com/event/friday-march-4th-saturday-march-5th-shaun-sunday/
LOCATION:The Velvet Note Main Stage\, 4075 Old Milton Parkway\, Alpharetta\, 30005\, United States
ATTACH;FMTTYPE=image/jpeg:https://thevelvetnote.com/wp-content/uploads/2022/01/CCC6EAE3-A362-4E90-AA66-7A31CFC69095.jpeg
END:VEVENT
BEGIN:VEVENT
DTSTART;TZID=America/New_York:20220306T190000
DTEND;TZID=America/New_York:20220306T210000
DTSTAMP:20260424T121410
CREATED:20220301T011258Z
LAST-MODIFIED:20220302T213304Z
UID:27764-1646593200-1646600400@thevelvetnote.com
SUMMARY:Sunday\, March 6th:  The Bill Hart International Jazz Fusion Band
DESCRIPTION:Canadian Guitarist Bill Hart performs his world music show on a rare SUNDAY night\, proving his  unique take on world music and genre-bending selections. Only one performance\, so get your seats soon!
URL:https://thevelvetnote.com/event/sunday-march-6th-the-bill-hart-international-jazz-fusion-band/
ATTACH;FMTTYPE=image/jpeg:https://thevelvetnote.com/wp-content/uploads/2021/07/9221F613-4A34-4B10-85B5-3B55733FE588.jpeg
END:VEVENT
BEGIN:VEVENT
DTSTART;TZID=America/New_York:20220310T200000
DTEND;TZID=America/New_York:20220310T230000
DTSTAMP:20260424T121410
CREATED:20220306T180836Z
LAST-MODIFIED:20220306T205803Z
UID:27794-1646942400-1646953200@thevelvetnote.com
SUMMARY:Thursday\, March 10th:  Open Mic Jam Hosted by Singer/Actor Lisa Van Osch
DESCRIPTION:Have you tried OPEN MIC JAZZ JAM at Atlanta area’s #1 rated jazz club? . It’s like karaoke\, but much\, much better. Come out to The Velvet Note and listen to or jam with our extraordinary house band\, including piano virtuoso Randy Hoexter\, bassist Andre Manga\, world drummer Yakou N’Guesson\, and guitarist Bill Hart. Come hungry– we are rolling out our delicious house specialities for the week on Thursdays. Hosted by Singer/Actress Lisa Van Osch.  All genres welcomed! \n\n\n\nAbout Lisa Van Osch:  Lisa Van Osch has been entertaining audiences for over twenty years as an actor and singer\, and she’s thrilled to get to rub elbows with some of the finest musicians you’ll ever hear and see.
URL:https://thevelvetnote.com/event/saturday-march-10th-open-mic-jam-hosted-by-lisa-van-osch/
LOCATION:The Velvet Note Main Stage\, 4075 Old Milton Parkway\, Alpharetta\, 30005\, United States
ATTACH;FMTTYPE=image/jpeg:https://thevelvetnote.com/wp-content/uploads/2022/03/IMG_0324.jpeg
END:VEVENT
BEGIN:VEVENT
DTSTART;TZID=America/New_York:20220311T193000
DTEND;TZID=America/New_York:20220311T230000
DTSTAMP:20260424T121410
CREATED:20220301T013442Z
LAST-MODIFIED:20220301T013444Z
UID:27766-1647027000-1647039600@thevelvetnote.com
SUMMARY:Friday\, March 11th:  Chantae Cann
DESCRIPTION:Chantae Cann photoshoot April 20th\, 2021. Photos by Lyric Lewin\n\n\n\nIf we’re being honest\, no one’s ever really just heard Chantae Cann. In truth\, you experience her. \n\n\n\n She opens her mouth and 10\,000 hours of studied mononymous legends filter through that voice\, \n\n\n\nThe Stevie. The Chaka.  The Erykah\, Jill\, India and Brandy. \n\n\n\nIt’s the church in her work. The courageous blend of an authentic soul choosing to exist in the midst of an often inauthentic industry.  Yet somehow she chooses to find strength in her vulnerability. \n\n\n\nChantae Cann\, the artist\, is both jazz and soul. Rooted in gospel\,  reflective of world rhythm and hip hop. \n\n\n\nHer debut release\, Journey to Golden\, landed at #1 on the iTunes Jazz Charts and #7 on the Jazz Billboard Charts in March of 2016\, and was a much welcomed introduction to the songstress.  By the time of her follow-up release\, Sol Empowered\, we were well into the story.  Earning #8 on the Jazz Billboard Charts\, this album resonates with so many because they genuinely connect to the story.  And Chantae\, if nothing else\, knows how to make a connection. Whether it’s the parents who divulge the fact that their kids listen to and sing along to her songs\, or those who express that Chantae’s artistry has gotten them through some pretty tough times. Chantae makes music that serves as a safe haven for those seeking respite and reformation. All the while undergirded with a simple\, but profound truth: Love Heals.  \n\n\n\nChantae is one of the best kept secrets in music. She’s collaborated with PJ Morton\, Masego\, Tarriona “Tank” BallSnarky Puppy\, Foreign Exchange\, and Jonathan McReynolds. Chantae has electrified stages with Cory Henry\, Robert Glasper\, and Marcus Miller. She’s opened up for India.Arie\, Tweet\, Avery Sunshine and Lalah Hathaway.  
URL:https://thevelvetnote.com/event/friday-march-11th-chantae-cann/
LOCATION:The Velvet Note Main Stage\, 4075 Old Milton Parkway\, Alpharetta\, 30005\, United States
ATTACH;FMTTYPE=image/jpeg:https://thevelvetnote.com/wp-content/uploads/2022/02/032_Chantae-edited-scaled.jpg
END:VEVENT
BEGIN:VEVENT
DTSTART;TZID=America/New_York:20220317T200000
DTEND;TZID=America/New_York:20220317T230000
DTSTAMP:20260424T121410
CREATED:20220315T030232Z
LAST-MODIFIED:20220315T030234Z
UID:27803-1647547200-1647558000@thevelvetnote.com
SUMMARY:Thursday\, March 17th:  St. Patrick's Open Mic Jam!
DESCRIPTION:Have you tried OPEN MIC JAZZ JAM at Atlanta area’s #1 rated jazz club? . It’s like karaoke\, but much\, much better. Come out to The Velvet Note and listen to or jam with our extraordinary house band\, including piano virtuoso Randy Hoexter\, bassist Andre Manga\, world drummer Yakou N’Guesson\, and guitarist Bill Hart. Come hungry– we are rolling out our delicious house specialities for the week on Thursdays. Hosted by Singer/Actress Lisa Van Osch. All genres welcomed! \n\n\n\nAbout Lisa Van Osch: Lisa Van Osch has been entertaining audiences for over twenty years as an actor and singer\, and she’s thrilled to get to rub elbows with some of the finest musicians you’ll ever hear and see.
URL:https://thevelvetnote.com/event/thursday-march-17th-st-patricks-open-mic-jam/
ATTACH;FMTTYPE=image/jpeg:https://thevelvetnote.com/wp-content/uploads/2022/03/Untitled-design-71.jpg
END:VEVENT
BEGIN:VEVENT
DTSTART;TZID=America/New_York:20220318T193000
DTEND;TZID=America/New_York:20220319T230000
DTSTAMP:20260424T121410
CREATED:20220301T175612Z
LAST-MODIFIED:20220319T203556Z
UID:27773-1647631800-1647730800@thevelvetnote.com
SUMMARY:Friday\, March 18th & Saturday\, March 19th:  The Joe Farnsworth Quartet   ****   SOLD OUT!!  SOLD OUT!!  SOLD OUT!!   SOLD OUT!!   SOLD OUT!!   ***
DESCRIPTION:FRIDAY AND SATURDAY SHOWTIMES:  7:30PM AND 9:30PM.  This extraordinary quartet makes their way from New York City to The Velvet Note\, it’s not to be missed!   \n\n\n\n \n\n\n\nAbout Joe Farnsworth.  One of the most highly regarded jazz drummers on the scene today\, Joe is known for his blazing speed\, precision\, musical\, and melodic playing. Upon moving to New York City\, he led the weekend jazz combos at Augie’s (now Smoke Jazz & Supper Club).  Joseph’s career includes recording over 100 CD’s as leader and side-man\, jazz festivals and world tours with Pharaoh Sanders\, Horace Silver\, Harold Mabern\, McCoy Tyner\, Cedar Walton\, Diana Krall\, Benny Golson\, George Coleman\, Johnny Griffin\, Lou Donaldson\, Benny Green\, Barry Harris\, Curtis Fuller to name a few.  He is currently the drummer for McCoy Tyner and a member of the Pharaoh Sanders Quartet\, Harold Mabern Trio\, and is a founding member of the renowned One for All Quintet. \n\n\n\n \n\n\n\nAbout Mark Whitfield.  Mark Whitfield graduated from Boston’s prestigious Berklee College of Music\, the world’s foremost institution for the study of Jazz and modern American music in the spring of 1987. Shortly thereafter\, he returned to his to his native New York to embark on a career as a Jazz Guitarist that has afforded him the opportunity to collaborate with such legendary artists including Dizzy Gillespie\, Art Blakey\, Quincy Jones\, Ray Charles\, Herbie Hancock\, Carmen McRae\, Gladys Knight\, Burt Bacharach\, Jimmy Smith\, Clark Terry\, Shirley Horn\, Wynton Marsalis\, Branford Marsalis\, Joe Williams\, Stanley Turrentine and his mentor\, the great George Benson. \n\n\n\nIn 1990 the New York Times dubbed Whitfield “The Best Young Guitarist in the Business”. Later that year\, Warner Bros. released his debut album “The Marksman”. The success of his debut release led to a recording career that has produced a total of 16 solo recordings and a myriad of collaborative efforts with some of the most important artists in recent years. \n\n\n\n \n\n\n\nAbout Peter Washington.  Peter Washington is perhaps the most recorded bassist of his generation\, with a discography of more than 450 recordings. \n\n\n\nBorn in Los Angeles in 1964\, Washington played classical bass as a teen and majored in English literature at University of California in Berkeley\, where he played in both the UC Symphony\, and the San Francisco Youth Symphony. In 1986\, while performing in San Francisco with saxophonist John Handy\, he was invited by the legendary Art Blakey to join the Jazz Messengers in New York\, and remained a member of the band until 1986. In 1990\, \n\n\n\n“Anything Peter Washington plays on gets 5 stars. He has always been one of my favorite bass players of all time. He has such a big\, big sound and such great time\, and picks such great notes.” – Christian McBride \n\n\n\n \n\n\n\nAbout Davis Whitfield.  Davis Whitfield is a talented pianist on the New York scene who has accomplished a lot at a young age. The son of two musicians\, Davis was exposed to great music his entire childhood and started playing guitar at a very young age. He eventually switched to piano\, where he began practicing and studying more seriously. In 2008\, still in high school\, Whitfield was appointed the Assistant Director for the Jazz Standard Youth Orchestra\, performing at the New York City club weekly. He continued his studies at Berklee College of Music in Boston\, where he was a recipient of the Presidential Scholarship – a top honor at Berklee. He has since gone on tours in the United States\, France\, and this Summer will be traveling to Spain with the Felix Rossy Quintet. He also performs and travels with his father and renowned guitarist Mark Whitfield\, as well as his brother Mark Whitfield\, Jr. — the three often times traveling together as the family band.    \n\n\n\n****   SOLD OUT!!   SOLD OUT!!   SOLD OUT!!   SOLD OUT!!   ***
URL:https://thevelvetnote.com/event/friday-march-18th-saturday-march-19th-the-joe-farnsworth-quartet/
LOCATION:The Velvet Note Main Stage\, 4075 Old Milton Parkway\, Alpharetta\, 30005\, United States
ATTACH;FMTTYPE=image/png:https://thevelvetnote.com/wp-content/uploads/2022/03/THE-JOE-FARNSWORTH-QUARTET.png
END:VEVENT
BEGIN:VEVENT
DTSTART;TZID=America/New_York:20220320T190000
DTEND;TZID=America/New_York:20220320T203000
DTSTAMP:20260424T121410
CREATED:20220301T195354Z
LAST-MODIFIED:20220315T023642Z
UID:27782-1647802800-1647808200@thevelvetnote.com
SUMMARY:Sunday\, March 20th:  Legends of Jazz Presents The Music of Dexter Gordon *** SOLD OUT!!!   SOLD OUT!!   SOLD OUT!!!   SOLD OUT!! ***
DESCRIPTION:ONE SHOW ONLY– 7:00PM   It’s the TENTH Season of Legends of Jazz\, and in Episode 1\, The Justin Varnes Quartet plays tribute to the music of Dexter Gordon. \n\n\n\nAs with the entire Legends of Jazz series\, Mr. Varnes will guide guests–in engaging\, narrative form– through the life of the artist\, as well as the impact that his life influences had on his musical legacy.   It’s like taking in a concert and taking a jazz history class at the same time.   \n\n\n\nOh\, and they’ll also play their behinds off! \n\n\n\n**   SOLD OUT!!  SOLD OUT!!   SOLD OUT!!   SOLD OUT!!   ***
URL:https://thevelvetnote.com/event/sunday-march-20th-legends-of-jazz-presents-the-music-of-dexter-gordon/
ATTACH;FMTTYPE=image/jpeg:https://thevelvetnote.com/wp-content/uploads/2022/03/BEDD260B-B8C8-46AA-84AD-66B34DF1DE93.jpeg
END:VEVENT
BEGIN:VEVENT
DTSTART;TZID=America/New_York:20220324T200000
DTEND;TZID=America/New_York:20220324T230000
DTSTAMP:20260424T121410
CREATED:20220323T174331Z
LAST-MODIFIED:20220323T174333Z
UID:27817-1648152000-1648162800@thevelvetnote.com
SUMMARY:Thursday\, March 24th:  Open Mic Jam Hosted by Guitarist Bill Hart
DESCRIPTION:Have you tried OPEN MIC JAZZ JAM at Atlanta area’s #1 rated jazz club? . It’s like karaoke\, but much\, much better. Come out to The Velvet Note and listen to or jam with our extraordinary house band\, including piano virtuoso Randy Hoexter\, bassist Andre Manga\, world drummer Yakou N’Guesson\, and guitarist Bill Hart. Come hungry– we are rolling out our delicious house specialities for the week on Thursdays. Hosted by guitarist Bill Hart.
URL:https://thevelvetnote.com/event/thursday-march-24th-open-mic-jam-hosted-by-guitarist-bill-hart/
LOCATION:The Velvet Note Main Stage\, 4075 Old Milton Parkway\, Alpharetta\, 30005\, United States
ATTACH;FMTTYPE=image/jpeg:https://thevelvetnote.com/wp-content/uploads/2021/07/9221F613-4A34-4B10-85B5-3B55733FE588.jpeg
END:VEVENT
BEGIN:VEVENT
DTSTART;TZID=America/New_York:20220325T193000
DTEND;TZID=America/New_York:20220325T230000
DTSTAMP:20260424T121410
CREATED:20220301T184327Z
LAST-MODIFIED:20220324T204804Z
UID:27776-1648236600-1648249200@thevelvetnote.com
SUMMARY:Friday\, March 25th:  Dave Potter and Retro Groove CD Release Concert
DESCRIPTION:SHOWTIMES:  7:30PM AND 9:30PM.    Dave Potter is quickly becoming known as a formidable musician. He has performed with many well-known jazz artists and recorded 2 albums with Jason Marsalis\, as well as the soundtrack to a short film with bassist Delbert Felix. \n\n\n\nBorn in Danville\, VA\, Potter did not grow up into a musical family. “I got my first drumset when I was 15 years old and remained primarily self-taught until college\,” comments Potter. It was at Florida State University that he met pianist Marcus Roberts\, who would become one of his primary musical mentors. In 2005\, he was chosen from a national pool of applicants to be a member of the Louis Armstrong Quintet at the University of New Orleans. “I moved there to study with Herlin Riley. My goal was to learn as much about the jazz tradition as possible.”Unfortunately\, Mother Nature had different plans\, and his apartment\, along with most of the city\, was ravaged by the tragedy of Hurricane Katrina. After a brief stint teaching jazz and percussion at his high school Alma matter\, Potter returned to Florida State to study and perform with Marcus Roberts. After graduating in 2008\, he moved to Atlanta where he maintains a busy performance schedule.Throughout his career he has played in a variety of musical situations. “In high school I started playing in funk\, hip-hop\, and rock bands and ended up getting really into 70’s fusion.” It was also in high school that Dave began to play in musical theatre productions\, concert bands\, marching percussion ensembles\, and jazz ensembles under the direction of Dr. Andrew Sioberg. Once at FSU\, he began to study Afro-Caribbean percussion with acclaimed Puerto Rican pianist Jose “Papo” Carrasco\, as well as focusing more on classical snare drum and Jazz with Leon Anderson.”This broad range of study has allowed him to become one of the most in-demand young drummers in the scene today.
URL:https://thevelvetnote.com/event/friday-march-25th-dave-potter-and-retro-groove-cd-release-concert/
LOCATION:The Velvet Note Main Stage\, 4075 Old Milton Parkway\, Alpharetta\, 30005\, United States
ATTACH;FMTTYPE=image/jpeg:https://thevelvetnote.com/wp-content/uploads/2022/03/D1E28C05-1D4A-4100-B6C9-7462A79374E7_4_5005_c.jpeg
END:VEVENT
BEGIN:VEVENT
DTSTART;TZID=America/New_York:20220326T193000
DTEND;TZID=America/New_York:20220326T230000
DTSTAMP:20260424T121410
CREATED:20220122T044457Z
LAST-MODIFIED:20220326T205657Z
UID:27696-1648323000-1648335600@thevelvetnote.com
SUMMARY:Saturday\, March 26th:  Lori Williams ***  SOLD OUT!!  SOLD OUT!!  ***
DESCRIPTION:Acclaimed jazz vocalist Lori Williams possesses a most impressive resume as a performing artist\, educator\, songwriter\, producer\, support vocalist and musical theater actress.  Her reputation and level of respect are top shelf and unimpeachable. However\, this Washington\, D.C.-native Lori is electing to let her hair down to pursue a more relaxed passion path in the realms of the Quiet Storm and R&B-leaning Soul-Jazz. \n\n\n\nLori’s vocal instrument contains the kind of nuances that one could get lost in. From Michael J. West – The Washington City Paper\, “She has the kind of attenuation and subtlety that we associate with jazz singing instantly—a kind of jazz-vocal ‘discipline\,’ for lack of a better term. But Williams slips in hints—and sometimes dead giveaways—that she has packed away the kind of soul power that would make her a tremendous R&B or gospel singer. Perhaps it’s a sort of vocalist’s twist on Ernest Hemingway’s ‘iceberg theory’: What you hear on the surface is only about 10 percent of what’s really there. As it happens\, what is there is crystalline clarity\, perhaps the most precise articulation of any singer in town\, and a range that will\, when she runs it\, produce shivers.” \n\n\n\n****   SOLD OUT!!   SOLD OUT!!!   SOLD OUT!!   ***
URL:https://thevelvetnote.com/event/saturday-march-26th-lori-williams/
LOCATION:The Velvet Note Main Stage\, 4075 Old Milton Parkway\, Alpharetta\, 30005\, United States
ATTACH;FMTTYPE=image/jpeg:https://thevelvetnote.com/wp-content/uploads/2022/01/IMG_5821.jpeg
END:VEVENT
BEGIN:VEVENT
DTSTART;TZID=America/New_York:20220331T200000
DTEND;TZID=America/New_York:20220331T200000
DTSTAMP:20260424T121410
CREATED:20220328T192629Z
LAST-MODIFIED:20220328T192820Z
UID:27837-1648756800-1648756800@thevelvetnote.com
SUMMARY:Thursday\, March 31st:  Open Mic Jam Hosted by Lisa Van Osch
DESCRIPTION:Showtime:  8pm – 11pm (come when you’d like).   Have you tried OPEN MIC JAZZ JAM at Atlanta area’s #1 rated jazz club? . It’s like karaoke\, but much\, much better. Come out to The Velvet Note and listen to or jam with our extraordinary house band\, including piano virtuoso Randy Hoexter\, bassist Andre Manga\, world drummer Yakou N’Guesson\, and guitarist Bill Hart. Come hungry– we are rolling out our delicious house specialities for the week on Thursdays. Hosted by Singer/Actress Lisa Van Osch. All genres welcomed! \n\n\n\nAbout Lisa Van Osch: Lisa Van Osch has been entertaining audiences for over twenty years as an actor and singer\, and she’s thrilled to get to rub elbows with some of the finest
URL:https://thevelvetnote.com/event/thursday-march-31st-open-mic-jam-hosted-by-lisa-van-osch/
LOCATION:The Velvet Note Main Stage\, 4075 Old Milton Parkway\, Alpharetta\, 30005\, United States
ATTACH;FMTTYPE=image/jpeg:https://thevelvetnote.com/wp-content/uploads/2022/01/Relax-in-the-audience-or-take-the-stage-5.jpg
END:VEVENT
END:VCALENDAR