BEGIN:VCALENDAR
VERSION:2.0
PRODID:-//The Velvet Note - ECPv6.15.20//NONSGML v1.0//EN
CALSCALE:GREGORIAN
METHOD:PUBLISH
X-ORIGINAL-URL:https://thevelvetnote.com
X-WR-CALDESC:Events for The Velvet Note
REFRESH-INTERVAL;VALUE=DURATION:PT1H
X-Robots-Tag:noindex
X-PUBLISHED-TTL:PT1H
BEGIN:VTIMEZONE
TZID:America/New_York
BEGIN:DAYLIGHT
TZOFFSETFROM:-0500
TZOFFSETTO:-0400
TZNAME:EDT
DTSTART:20200308T070000
END:DAYLIGHT
BEGIN:STANDARD
TZOFFSETFROM:-0400
TZOFFSETTO:-0500
TZNAME:EST
DTSTART:20201101T060000
END:STANDARD
BEGIN:DAYLIGHT
TZOFFSETFROM:-0500
TZOFFSETTO:-0400
TZNAME:EDT
DTSTART:20210314T070000
END:DAYLIGHT
BEGIN:STANDARD
TZOFFSETFROM:-0400
TZOFFSETTO:-0500
TZNAME:EST
DTSTART:20211107T060000
END:STANDARD
BEGIN:DAYLIGHT
TZOFFSETFROM:-0500
TZOFFSETTO:-0400
TZNAME:EDT
DTSTART:20220313T070000
END:DAYLIGHT
BEGIN:STANDARD
TZOFFSETFROM:-0400
TZOFFSETTO:-0500
TZNAME:EST
DTSTART:20221106T060000
END:STANDARD
END:VTIMEZONE
BEGIN:VEVENT
DTSTART;TZID=America/New_York:20211002T093000
DTEND;TZID=America/New_York:20211002T230000
DTSTAMP:20260424T200431
CREATED:20210927T190134Z
LAST-MODIFIED:20210927T191932Z
UID:27288-1633167000-1633215600@thevelvetnote.com
SUMMARY:Saturday\, October 2nd:  Robin Latimore
DESCRIPTION:ONE SHOW AVAILABLE– 9:30pm. Robin started singing as a little girl for devotion at her mother’s revival services and in church. “When your mom is the minister\, you don’t have a choice”. It was her parents who sparked her musical interest. Her dad had a passion for traditional and contemporary jazz as well as big band swing\, and her mom pushed gospel and inspirational music.
URL:https://thevelvetnote.com/event/saturday-october-2nd-robin-latimore/
LOCATION:The Velvet Note Main Stage\, 4075 Old Milton Parkway\, Alpharetta\, 30005\, United States
ATTACH;FMTTYPE=image/jpeg:https://thevelvetnote.com/wp-content/uploads/2021/09/09BF152D-1261-4F77-A089-175FF0BB1332_1_105_c.jpeg
END:VEVENT
BEGIN:VEVENT
DTSTART;TZID=America/New_York:20211003T190000
DTEND;TZID=America/New_York:20211003T230000
DTSTAMP:20260424T200431
CREATED:20210913T121501Z
LAST-MODIFIED:20210930T163518Z
UID:27259-1633287600-1633302000@thevelvetnote.com
SUMMARY:Sunday\, October 3rd:  A Night at The Movies Starring Svetlana   ***  SOLD OUT!!  SOLD OUT!!  ***
DESCRIPTION:Show Times:  7:00pm – 8:30pm and 9:00pm – 11:00pm. \n\n\n\nSvetlana’s Night at the Movies is a program based on her chart-topping record (#1 on Billboard US Traditional Jazz Charts) – the concert takes listeners on a dynamic musical journey consisting of innovative jazz arrangements of movie sound-tracks ranging from the American Movie classics\, French New Wave and Soviet Cinema\, to modern day Academy Award-winners\, and Animated films – presented by Svetlana’s award-winning New York Collective. Film and music both express a fleeting beauty. Night at the Movies reflects these moments of joy and passion\, sharp humor and reflection\, and most of all\, fantasy. The concert will transport the audience to the carnival of sound\, seamlessly moving from sophisticated retrospection to a rowdy “exuberant\, foot-stomping music combining swing and pop-singer/songwriter sensibilities (WPIX11TV) \n\n\n\n\n\n\n\n \n\n\n\nABOUT SVETLANA. Svetlana is an “erudite\, purist torchy jazz chanteuse” (Lucid Culture)\, that leads her “subtle\, compelling\, eclectic jazz combos” (NY Music Daily) playing music that is firmly based in the jazz tradition but is also for “here and now” (New York Music Daily)\, “sophisti-pop… exuberant\, foot-stompin’ music that combines swing with pop-singer/songwriter sensibilities”. (WPIX11 News). Russian by birth — American by music: NYC-based\, critically acclaimed vocalist Svetlana and her “New York City darlings” (Time Out NY) New York Collective is conquering the world with a sound that blends swing\, straight-ahead jazz\, strong vocal delivery\, and exciting unpredictable improvisational aspects of her virtuoso band. She is on a mission to uplift\, connect\, and spread the joy of music. Svetlana and her band have headlined sold out shows in the premier venues and festivals across the US and internationally gaining critical acclaim from audiences and press alike by presenting exhilarating shows that combine Svetlana’s exciting vocals\, with the the power\, and unpredictable improvisational aspects of her various ensembles – taking the audience on a carnival of sounds\, seamlessly moving from sophisticated\, sultry retrospection to a rowdy\, joyous party and include repertoire that span a of American popular music (from jazz\, to rock\, movie sound-tracks and more) and her originals. Svetlana’s last record\, Night at the Movies\, debuted #1 on the US Billboard Traditional Jazz Album Charts.  \n\n\n\n\n\n****  SOLD OUT!!!   SOLD OUT!!   SOLD OUT!!! ****
URL:https://thevelvetnote.com/event/sunday-october-3rd-a-night-at-the-movies-starring-svetlana/
LOCATION:The Velvet Note Main Stage\, 4075 Old Milton Parkway\, Alpharetta\, 30005\, United States
ATTACH;FMTTYPE=image/jpeg:https://thevelvetnote.com/wp-content/uploads/2021/09/7A4D1812-F18F-419C-852D-14B54BD134B5.jpeg
END:VEVENT
BEGIN:VEVENT
DTSTART;TZID=America/New_York:20211008T200000
DTEND;TZID=America/New_York:20211008T220000
DTSTAMP:20260424T200431
CREATED:20210407T010205Z
LAST-MODIFIED:20210927T222728Z
UID:26413-1633723200-1633730400@thevelvetnote.com
SUMMARY:Friday\, October 8th:  The Bill Hart International Jazz Fusion Band
DESCRIPTION:Canadian Guitarist Bill Hart launches his brand new variety show featuring his unique take on world music with international musicians and genre-bending selections. Come hang with us\, and take a trip around the world without converting your currency or expediting your passport!
URL:https://thevelvetnote.com/event/friday-april-9th-the-bill-hart-international-jazz-fusion-band/
LOCATION:The Velvet Note Main Stage\, 4075 Old Milton Parkway\, Alpharetta\, 30005\, United States
ATTACH;FMTTYPE=image/jpeg:https://thevelvetnote.com/wp-content/uploads/2020/03/6046A77B-21F9-41A6-A2B1-2BC00087EA77-1.jpeg
END:VEVENT
BEGIN:VEVENT
DTSTART;TZID=America/New_York:20211009T193000
DTEND;TZID=America/New_York:20211009T230000
DTSTAMP:20260424T200431
CREATED:20210324T034508Z
LAST-MODIFIED:20211009T190615Z
UID:26366-1633807800-1633820400@thevelvetnote.com
SUMMARY:Saturday\, October 9th:  The Rod Harris\, Jr. Quartet
DESCRIPTION:Showtimes:  7:30pm and 9:30pm.   7:30 is SOLD OUT!!!    PURCHASE 9:30 SEATS BELOW.   Jazz guitarist Rod Harris Jr. brings his acclaimed catalog and powerful group to Good Times for a night of modern jazz and all-around great music. Harris has performed everywhere and garnered critical praise\, in addition to being nominated for Grammys. He’s a force to be reckoned with on his instrument\, and is certainly one of the best guitar players going today.
URL:https://thevelvetnote.com/event/sunday-march-28th-the-rod-harris-jr-quartet-2/
LOCATION:The Velvet Note Main Stage\, 4075 Old Milton Parkway\, Alpharetta\, 30005\, United States
ATTACH;FMTTYPE=image/jpeg:https://thevelvetnote.com/wp-content/uploads/2021/03/DE8EA72C-ECB2-4B8D-8EDF-F1C4F660FF48.jpeg
END:VEVENT
BEGIN:VEVENT
DTSTART;TZID=America/New_York:20211010T190000
DTEND;TZID=America/New_York:20211010T230000
DTSTAMP:20260424T200431
CREATED:20210927T211053Z
LAST-MODIFIED:20210927T211055Z
UID:27291-1633892400-1633906800@thevelvetnote.com
SUMMARY:Sunday\, October 10th:  Sharon Clark and the Chris Grasso Trio
DESCRIPTION:TWO SHOWS:   7:00pm and 9:00pm.    Don’t miss this rare Atlanta appearance by the remarkable vocalist Sharón Clark. She has brought festival and concert audiences to their feet across the globe\, and wherever she performs\, the critics take notice: \n\n\n\n“New and amazing . . . an absolute triumph”!   \n\n\n\n— Will Friedwald\, Wall Street Journal \n\n\n\n“You can’t underestimate the transformation of what seems like an ordinary song when an interpreter like Sharón Clark tears it apart and peers inside.”  \n\n\n\n— Stephen Holden\, New York Times   \n\n\n\n“A revelation . . .  I never thought I’d hear a singer with the range\, musicality and command of tone and timbre that was Sarah at her best\, but now I have.” \n\n\n\n–JazzTimes
URL:https://thevelvetnote.com/event/sunday-october-10th-sharon-clark-and-the-chris-grasso-trio/
LOCATION:The Velvet Note Main Stage\, 4075 Old Milton Parkway\, Alpharetta\, 30005\, United States
ATTACH;FMTTYPE=image/jpeg:https://thevelvetnote.com/wp-content/uploads/2021/09/SharonClarkSterlingEditRambeCredit-scaled.jpg
END:VEVENT
BEGIN:VEVENT
DTSTART;TZID=America/New_York:20211014T200000
DTEND;TZID=America/New_York:20211014T230000
DTSTAMP:20260424T200431
CREATED:20211004T215054Z
LAST-MODIFIED:20211014T213948Z
UID:27309-1634241600-1634252400@thevelvetnote.com
SUMMARY:Thursday\, October 14th:  Open Mic Jam Hosted by Guitarist/Singer Andrew Black
DESCRIPTION:A potpourri of performers entertains you throughout the night under the musical leadership of our house band\, led by singer and guitarist Andrew Black.   Come out and jam with us– All genres welcomed!
URL:https://thevelvetnote.com/event/thursday-october-14th-open-mic-jam-hosted-by-guitarist-singer-andrew-black/
LOCATION:The Velvet Note Main Stage\, 4075 Old Milton Parkway\, Alpharetta\, 30005\, United States
ATTACH;FMTTYPE=image/jpeg:https://thevelvetnote.com/wp-content/uploads/2021/05/4672B8E5-C8FB-41A7-B15A-E93B4996BF82.jpeg
END:VEVENT
BEGIN:VEVENT
DTSTART;TZID=America/New_York:20211016T193000
DTEND;TZID=America/New_York:20211016T230000
DTSTAMP:20260424T200431
CREATED:20210915T015410Z
LAST-MODIFIED:20210915T015420Z
UID:27268-1634412600-1634425200@thevelvetnote.com
SUMMARY:Saturday\, October 16th:  GRAMMY-Winner Shaun Martin from Snarky Puppy
DESCRIPTION:SHOWTIMES:  7:30-9:00PM AND 9:30 – 11:00PM \n\n\n\nMultiple Grammy Award winner Shaun Martin is well known for his work with Kirk Franklin and as a key member of Snarky Puppy\, his creative stamp can be heard on projects with musical legends Chaka Khan\, Erykah Badu\, Fred Hammond\, Tamela Mann\, Kim Burrell\, God’s Property\, and more.
URL:https://thevelvetnote.com/event/saturday-october-16th-grammy-winner-shaun-martin-from-snarky-puppy/
ATTACH;FMTTYPE=image/jpeg:https://thevelvetnote.com/wp-content/uploads/2021/09/942E03B5-3532-45CA-A4F5-9E5DFA75BE52_4_5005_c.jpeg
END:VEVENT
BEGIN:VEVENT
DTSTART;TZID=America/New_York:20211017T193000
DTEND;TZID=America/New_York:20211017T210000
DTSTAMP:20260424T200431
CREATED:20211004T222700Z
LAST-MODIFIED:20211004T223412Z
UID:27312-1634499000-1634504400@thevelvetnote.com
SUMMARY:Sunday\, October 17th:  The Bob Bakert Band
DESCRIPTION:Come out and enjoy Sunday dinner and drinks with us as one of our fan favorites Bob Bakert brings  together an evening of rock\, soul\, jazz\, blues and other high energy versions of your favorite classics. 
URL:https://thevelvetnote.com/event/sunday-october-17th-the-bob-bakert-band/
LOCATION:The Velvet Note Main Stage\, 4075 Old Milton Parkway\, Alpharetta\, 30005\, United States
ATTACH;FMTTYPE=image/jpeg:https://thevelvetnote.com/wp-content/uploads/2018/12/BobBakertCityWinery.jpeg
END:VEVENT
BEGIN:VEVENT
DTSTART;TZID=America/New_York:20211021T200000
DTEND;TZID=America/New_York:20211021T230000
DTSTAMP:20260424T200431
CREATED:20210713T134325Z
LAST-MODIFIED:20211012T200601Z
UID:26880-1634846400-1634857200@thevelvetnote.com
SUMMARY:Thursday\, October 21st:  Open Mic Jam Hosted by Andrew Black
DESCRIPTION:A potpourri of performers entertains you throughout the night under the musical leadership of our house band\, led by singer and guitarist Andrew Black.   Come out and jam with us– All genres welcomed!
URL:https://thevelvetnote.com/event/thursday-july-22nd-open-mic-jam-hosted-by-andrew-black/
LOCATION:The Velvet Note Main Stage\, 4075 Old Milton Parkway\, Alpharetta\, 30005\, United States
ATTACH;FMTTYPE=image/jpeg:https://thevelvetnote.com/wp-content/uploads/2021/07/4672B8E5-C8FB-41A7-B15A-E93B4996BF82.jpeg
END:VEVENT
BEGIN:VEVENT
DTSTART;TZID=America/New_York:20211022T200000
DTEND;TZID=America/New_York:20211022T220000
DTSTAMP:20260424T200431
CREATED:20210927T120115Z
LAST-MODIFIED:20211012T235419Z
UID:27281-1634932800-1634940000@thevelvetnote.com
SUMMARY:Friday\, October 22nd:  The Bill Hart International Jazz Fusion Band
DESCRIPTION:Showtime: ONE SHOW 8pm – `10pm. Canadian guitarist Bill Hart and his international bandmates put jazz fusion on a whole new level.
URL:https://thevelvetnote.com/event/friday-october-1st-the-bill-hart-international-jazz-fusion-band/
LOCATION:The Velvet Note Main Stage\, 4075 Old Milton Parkway\, Alpharetta\, 30005\, United States
ATTACH;FMTTYPE=image/jpeg:https://thevelvetnote.com/wp-content/uploads/2021/07/9221F613-4A34-4B10-85B5-3B55733FE588.jpeg
END:VEVENT
BEGIN:VEVENT
DTSTART;TZID=America/New_York:20211023T193000
DTEND;TZID=America/New_York:20211023T230000
DTSTAMP:20260424T200431
CREATED:20211012T194121Z
LAST-MODIFIED:20211012T194148Z
UID:27325-1635017400-1635030000@thevelvetnote.com
SUMMARY:Saturday\, October 23rd:  Yakou N'Guessen
DESCRIPTION:SHOW TIMES:  7:30PM AND 9:30PM.  A native of the Ivory Coast of West Africa\, N’Guessen grew up in a family where his mother sang in the church choir and his father was an avid jazz fan who listened to John Coltrane and Count Basie. N’Guessen began playing the percussion at church at age 7. He Started played drumset at age 9. By 15 he was making money as a drummer and decided to pursue a career in music. He holds a master’s degree in musicology from the Institut National Superieur des Arts et de l’Action Culturelle (INSAAC) in Abidjan. \n\n\n\nAfter playing in jazz clubs in Cote d’ Ivoire\, he spent almost a decade playing jazz and teaching in Morocco. He was part of a jazz festival organized by the King of Morocco and has a chance to meet international luminaries such as Quincy Jones and George Benson.  \n\n\n\nN’Guessan is influenced as a composer by jazz and by the music of his native country. He says there are 62 tribes in Cote d’Ivoire/Ivory Coast and each has a language that is musical. He brings these strands together in what he calls World Music. He will be sharing original compositions along with artists’ originals\, he collaborated with and African songs in his concert at The Velvet Note.
URL:https://thevelvetnote.com/event/saturday-october-23rd-yakou-nguessen/
ATTACH;FMTTYPE=image/jpeg:https://thevelvetnote.com/wp-content/uploads/2021/10/D563326B-915D-4D7C-88AC-E2EF16C7E2DE-scaled.jpeg
END:VEVENT
BEGIN:VEVENT
DTSTART;TZID=America/New_York:20211024T190000
DTEND;TZID=America/New_York:20211024T203000
DTSTAMP:20260424T200431
CREATED:20211013T021423Z
LAST-MODIFIED:20211022T155259Z
UID:27340-1635102000-1635107400@thevelvetnote.com
SUMMARY:Sunday\, October 24th:  Legends of Jazz Presents Branford Marsalis' Crazy People Music
DESCRIPTION:*****  SOLD OUT!!   SOLD OUT!!!   SOLD OUT!!   SOLD OUT!!    SOLD OUT!!!  **** \n\n\n\n\n\n\n\n\n\nThe Velvet Note presents another segment of its ninth series of Legends of Jazz\, featuring the music of Branford Marsalis. As with the entire monthly Legends of Jazz series\, The Justin Varnes Quartet will guide guests–in engaging\, narrative form– through the life and music of this great American composer and saxophonist. It’s like taking in a concert and taking a jazz history class at the same time\, and…\, oh… they’ll also play their behinds off!​  \n\n\n\n\n\n****   SOLD OUT!!  SOLD OUT!!   SOLD OUT!!   SOLD OUT!!  ***
URL:https://thevelvetnote.com/event/sunday-october-24th-legends-of-jazz-presents-branford-marsalis-crazy-peoples-music/
ATTACH;FMTTYPE=image/jpeg:https://thevelvetnote.com/wp-content/uploads/2021/10/F8AEFA49-059D-4ED2-A1C8-9C9F31964984-1.jpeg
END:VEVENT
BEGIN:VEVENT
DTSTART;TZID=America/New_York:20211027T163000
DTEND;TZID=America/New_York:20211027T220000
DTSTAMP:20260424T200431
CREATED:20211013T034737Z
LAST-MODIFIED:20211013T034738Z
UID:27351-1635352200-1635372000@thevelvetnote.com
SUMMARY:Wednesday\, October 27th:  JazzyCrab!
DESCRIPTION:This is your chance to try our acclaimed Chesapeake Bay\, Jumbo Lump crabcakes\, all night long!  Great deals on food and drink\, live music (8-10)\, and NO ENTRY FEE!  Come on out with your gang and enjoy! Reservations are NOT REQUIRED\, but if you want to make one\, call 855.5.VELVET.  Featured Artist– Guitarist/Singer Kristin Tinsley.
URL:https://thevelvetnote.com/event/wednesday-october-27th-jazzycrab/
ATTACH;FMTTYPE=image/jpeg:https://thevelvetnote.com/wp-content/uploads/2021/07/Untitled-design-44.jpg
END:VEVENT
BEGIN:VEVENT
DTSTART;TZID=America/New_York:20211028T200000
DTEND;TZID=America/New_York:20211028T230000
DTSTAMP:20260424T200431
CREATED:20211023T012527Z
LAST-MODIFIED:20211023T012538Z
UID:27402-1635451200-1635462000@thevelvetnote.com
SUMMARY:Thursday\, October 28th:  Open Mic Jam Hosted by Guitarist/Singer Andrew Black
DESCRIPTION:A potpourri of performers entertains you throughout the night under the musical leadership of our house band\, led by singer and guitarist Andrew Black.   Come out and jam with us– All genres welcomed!
URL:https://thevelvetnote.com/event/thursday-october-28th-open-mic-jam-hosted-by-guitarist-singer-andrew-black/
LOCATION:The Velvet Note Main Stage\, 4075 Old Milton Parkway\, Alpharetta\, 30005\, United States
ATTACH;FMTTYPE=image/jpeg:https://thevelvetnote.com/wp-content/uploads/2021/07/4672B8E5-C8FB-41A7-B15A-E93B4996BF82.jpeg
END:VEVENT
BEGIN:VEVENT
DTSTART;TZID=America/New_York:20211029T193000
DTEND;TZID=America/New_York:20211029T230000
DTSTAMP:20260424T200431
CREATED:20211019T190846Z
LAST-MODIFIED:20211019T190910Z
UID:27363-1635535800-1635548400@thevelvetnote.com
SUMMARY:Friday\, October 29th: Alexis Cole
DESCRIPTION:“…A beguiling voice and charming…stage manner.”— Ralph Miriello\, Notes on Jazz blog\, March 2018  \n\n\n\n \n\n\n\nAward-winning jazz vocalist Alexis Cole may be the most talented singer to ever hold a top-secret military clearance. A dozen albums into her critically acclaimed career\, she may also be the best-kept secret in jazz\, a status that’s certain to change as more people are discovering her for themselves.  \n\n\n\nThe year 2009 was a big one for Alexis: She released her first albums on both Motéma Music and Venus Records… and went to Basic Training to prepare for her new job as a jazz singer for the US Army.   \n\n\n\n\n\n\n\nDuring her seven years in the Army’s Big Band\, Cole had the opportunity to grow as a musician and a person\, sharing the stage with ensembles as diverse as the New York Philharmonic and Kool and the Gang. Alexis continued recording throughout her tour of duty\, releasing a string of well-received albums\, including four titles for Venus\, two for Motema\, and two on Chesky Records. She proved her versatility on everything from jazz standards to Paul Simon’s lesser known compositions\, to Disney love songs to a project on which she teamed up with a fellow serviceman 50 years her senior\, the legendary guitarist Bucky Pizzarelli.   \n\n\n\nAlexis has blossomed since leaving the service in 2016\, trading her uniforms and fatigues for sleek cocktail dresses and chic hats\, and focusing fully on her art. The singer’s career has taken on exciting new momentum\, with recent accomplishments including gigs at celebrated venues like The Carlyle\, Carnegie Hall\, Birdland\, Jazz at Lincoln Center\, and the Blue Note; and performances as a soloist with prominent orchestras such as the Boston Pops and the Detroit Symphony. Alexis also recently contributed a guest turn on pianist Harold Mabern’s star-studded album Afro Blue\, alongside the likes of fellow guests Norah Jones\, Gregory Porter\, and Jane Monheit. 
URL:https://thevelvetnote.com/event/friday-october-29th-alexis-cole/
LOCATION:The Velvet Note Main Stage\, 4075 Old Milton Parkway\, Alpharetta\, 30005\, United States
ATTACH;FMTTYPE=image/jpeg:https://thevelvetnote.com/wp-content/uploads/2021/10/20F3C8AD-A00E-487C-93ED-776EF895CD19.jpeg
END:VEVENT
BEGIN:VEVENT
DTSTART;TZID=America/New_York:20211030T193000
DTEND;TZID=America/New_York:20211030T230000
DTSTAMP:20260424T200431
CREATED:20211019T192435Z
LAST-MODIFIED:20211019T192554Z
UID:27369-1635622200-1635634800@thevelvetnote.com
SUMMARY:Saturday\, October 30th: Alexis Cole
DESCRIPTION:“…A beguiling voice and charming…stage manner.”— Ralph Miriello\, Notes on Jazz blog\, March 2018.  Award-winning jazz vocalist Alexis Cole may be the most talented singer to ever hold a top-secret military clearance. A dozen albums into her critically acclaimed career\, she may also be the best-kept secret in jazz\, a status that’s certain to change as more people are discovering her for themselves. 
URL:https://thevelvetnote.com/event/saturday-october-30th-alexis-cole/
LOCATION:The Velvet Note Main Stage\, 4075 Old Milton Parkway\, Alpharetta\, 30005\, United States
ATTACH;FMTTYPE=image/jpeg:https://thevelvetnote.com/wp-content/uploads/2021/10/20F3C8AD-A00E-487C-93ED-776EF895CD19.jpeg
END:VEVENT
BEGIN:VEVENT
DTSTART;TZID=America/New_York:20211031T190000
DTEND;TZID=America/New_York:20211031T230000
DTSTAMP:20260424T200431
CREATED:20211019T194726Z
LAST-MODIFIED:20211019T194931Z
UID:27372-1635706800-1635721200@thevelvetnote.com
SUMMARY:Sunday\, October 31st:  Curtis Lundy with the Legendary Bobby Watson
DESCRIPTION:SHOWTIMES:  7:00pm and 9:00pm     A saxophonist\, composer\, arranger and educator\, Bobby Watson grew up in Kansas City\, Kan. He trained formally at the University of Miami\, a school with a distinguished and well-respected jazz program. After graduating\, he proceeded to earn his “doctorate” – on the bandstand – as musical director of Art Blakey’s Jazz Messengers. The group\, created in 1955 by late legendary drummer who died in 1990\, showcased a rotating cast of players\, many who\, like Watson\, would go on to have substantial careers as bandleaders in their own right. The Jazz Messengers – frequently referred to as the “University of Blakey” – served as the ultimate “postgraduate school” for ambitious young players.
URL:https://thevelvetnote.com/event/sunday-october-31st-curtis-lundy-with-the-legendary-bobby-watson/
LOCATION:The Velvet Note Main Stage\, 4075 Old Milton Parkway\, Alpharetta\, 30005\, United States
ATTACH;FMTTYPE=image/jpeg:https://thevelvetnote.com/wp-content/uploads/2021/10/4C5573C1-9426-45CD-A94F-96FAB89A683C.jpeg
END:VEVENT
END:VCALENDAR