BEGIN:VCALENDAR
VERSION:2.0
PRODID:-//The Velvet Note - ECPv6.15.20//NONSGML v1.0//EN
CALSCALE:GREGORIAN
METHOD:PUBLISH
X-WR-CALNAME:The Velvet Note
X-ORIGINAL-URL:https://thevelvetnote.com
X-WR-CALDESC:Events for The Velvet Note
REFRESH-INTERVAL;VALUE=DURATION:PT1H
X-Robots-Tag:noindex
X-PUBLISHED-TTL:PT1H
BEGIN:VTIMEZONE
TZID:America/New_York
BEGIN:DAYLIGHT
TZOFFSETFROM:-0500
TZOFFSETTO:-0400
TZNAME:EDT
DTSTART:20200308T070000
END:DAYLIGHT
BEGIN:STANDARD
TZOFFSETFROM:-0400
TZOFFSETTO:-0500
TZNAME:EST
DTSTART:20201101T060000
END:STANDARD
BEGIN:DAYLIGHT
TZOFFSETFROM:-0500
TZOFFSETTO:-0400
TZNAME:EDT
DTSTART:20210314T070000
END:DAYLIGHT
BEGIN:STANDARD
TZOFFSETFROM:-0400
TZOFFSETTO:-0500
TZNAME:EST
DTSTART:20211107T060000
END:STANDARD
BEGIN:DAYLIGHT
TZOFFSETFROM:-0500
TZOFFSETTO:-0400
TZNAME:EDT
DTSTART:20220313T070000
END:DAYLIGHT
BEGIN:STANDARD
TZOFFSETFROM:-0400
TZOFFSETTO:-0500
TZNAME:EST
DTSTART:20221106T060000
END:STANDARD
END:VTIMEZONE
BEGIN:VEVENT
DTSTART;TZID=America/New_York:20210902T200000
DTEND;TZID=America/New_York:20210902T230000
DTSTAMP:20260424T213038
CREATED:20210830T163912Z
LAST-MODIFIED:20210902T161128Z
UID:27177-1630612800-1630623600@thevelvetnote.com
SUMMARY:Thursday\, September 2nd:  Open Mic Jam Hosted by Trumpeter Terence Harper with Special Guest
DESCRIPTION:A potpourri of performers entertains you throughout the night under the musical leadership of our house band\, led by Trumpeter Terence Harper. Come out and jam with us– All genres welcomed!
URL:https://thevelvetnote.com/event/thursday-september-2nd-open-mic-jam-hosted-by-guitarist-bill-hart/
LOCATION:The Velvet Note Main Stage\, 4075 Old Milton Parkway\, Alpharetta\, 30005\, United States
ATTACH;FMTTYPE=image/jpeg:https://thevelvetnote.com/wp-content/uploads/2021/07/9221F613-4A34-4B10-85B5-3B55733FE588.jpeg
END:VEVENT
BEGIN:VEVENT
DTSTART;TZID=America/New_York:20210904T193000
DTEND;TZID=America/New_York:20210904T230000
DTSTAMP:20260424T213038
CREATED:20200825T183958Z
LAST-MODIFIED:20210903T144130Z
UID:25461-1630783800-1630796400@thevelvetnote.com
SUMMARY:Saturday\, September 4th:  Earth Wind and Fire Tribute   *** SOLD OUT!!   SOLD OUT!!  SOLD OUT!!  ***
DESCRIPTION:Do you remember….the twenty-first night of September?  By POPULAR DEMAND\, we are bringing the Ray Howard Band back in 2021 for their tribute to the beloved EW&F. This is not just a concert or a show–it’s a PARTY!  Here’s your chance to get your jazz-funk-disco-soul groove on\, accompanied by some of the hottest musicians around.  Bandleader Ray Howard pulls out all of the stops in this weekend-long- tribute to EARTH\, WIND & FIRE–one of the most critically acclaimed bands of the twentieth century.   \n\n\n\n\n\n*** SOLD OUT!!  SOLD OUT!!  SOLD OUT!!  ***
URL:https://thevelvetnote.com/event/saturday-september-5th-earth-wind-and-fire-tribute/
LOCATION:The Velvet Note Main Stage\, 4075 Old Milton Parkway\, Alpharetta\, 30005\, United States
ATTACH;FMTTYPE=image/jpeg:https://thevelvetnote.com/wp-content/uploads/2014/07/RayHowardBand2.jpg
END:VEVENT
BEGIN:VEVENT
DTSTART;TZID=America/New_York:20210905T193000
DTEND;TZID=America/New_York:20210905T230000
DTSTAMP:20260424T213038
CREATED:20210822T173023Z
LAST-MODIFIED:20210905T132434Z
UID:27168-1630870200-1630882800@thevelvetnote.com
SUMMARY:Sunday\, August 5th:  Earth Wind and Fire Tribute
DESCRIPTION:Do you remember….the twenty-first night of September?  By POPULAR DEMAND\, we are bringing the Ray Howard Band back in 2021 for their tribute to the beloved EW&F. This is not just a concert or a show–it’s a PARTY!  Here’s your chance to get your jazz-funk-disco-soul groove on\, accompanied by some of the hottest musicians around.  Bandleader Ray Howard pulls out all of the stops in this weekend-long- tribute to EARTH\, WIND & FIRE–one of the most critically acclaimed bands of the twentieth century. \n\n\n\n*** SOLD OUT!!  SOLD OUT!!  SOLD OUT!!   SOLD OUT!! .
URL:https://thevelvetnote.com/event/sunday-august-5th-earth-wind-and-fire-tribute/
LOCATION:The Velvet Note Main Stage\, 4075 Old Milton Parkway\, Alpharetta\, 30005\, United States
ATTACH;FMTTYPE=image/jpeg:https://thevelvetnote.com/wp-content/uploads/2019/12/fullsizeoutput_157-8.jpeg
END:VEVENT
BEGIN:VEVENT
DTSTART;TZID=America/New_York:20210910T193000
DTEND;TZID=America/New_York:20210910T230000
DTSTAMP:20260424T213038
CREATED:20210812T152637Z
LAST-MODIFIED:20210908T013400Z
UID:27094-1631302200-1631314800@thevelvetnote.com
SUMMARY:Friday\, September 10th:  La Lucha\, with Special Guest Ona Kirei
DESCRIPTION:La Lucha is a Tampa Bay based trio that consists of three best friends from three different parts of the world: Colombia (Alejandro Arenas)\, Mexico (John O’Leary)\, & United States (Mark Feinman). Their music ventures boldly into a wide variety of musical styles\, offering an appealing and fun mix of genres under the jazz umbrella. The combination of their musical versatility and varied musical influences makes for compelling virtuosic performances. Through an engaging stage presence and high level of interaction\, La Lucha brings the audience into their world. \n\n\n\n\n\n\n\nLa Lucha was awarded Creative Loafing’s “Best of the Bay Jazz Ensemble” in 2013\, 2014 & 2015; the “Think Small to Think Big Grant\,” by Creative Pinellas; featured presenters at TEDxTampa Bay (2014)\, TEDxUSF (2015) & TEDxDouglasville (2017); and were honored by a grant from the Doris Duke Charitable Foundation\, to present a multi- media project raising awareness for Alzheimer’s disease. \n\n\n\nThe trio has extensive national and international performance experience\, including a tour of Italy and France with performances at the “Umbria Jazz Festival” and “Jazz a Juan” in Juan Les Pins. Some highlighted festival performances include; the Clearwater Jazz Holiday\, St. Petersburg Jazz Festival\, Sarasota Jazz Festival\, New Smyrna Beach Jazz Fest\, Thin Man Watts Jazz Fest\, Chestertown Jazz Festival (Maryland) along with various performances in concert halls throughout the south and mid-atlantic United States. Their debut album\, A Cup of Fuzzy Water was released in 2009 and their second self-titled album was released in June 2012. Their third album\, Standards\, Not-Standards\, featuring vocalist Jun\, was released in January 2015 on Blue Line Music\, and Pa’ Lante\, which features all original music\, was released in September 2108 on Fuzzy Water Music. \n\n\n\nJoining La Lucha is Barcelona born vocalist and composer Ona Kirei. Ona has performed across Europe in countries such as Spain\, France\, and the UK. She moved to the United States four years ago and is quickly becoming one of the premier performers with her ownprojects\, including “Iberia” and a bass & vocal duo\, “Orilla.
URL:https://thevelvetnote.com/event/friday-september-10th-la-lucha/
LOCATION:The Velvet Note Main Stage\, 4075 Old Milton Parkway\, Alpharetta\, 30005\, United States
ATTACH;FMTTYPE=image/jpeg:https://thevelvetnote.com/wp-content/uploads/2021/08/170C328C-C196-4821-B37E-FCC0439272FC.jpeg
END:VEVENT
BEGIN:VEVENT
DTSTART;TZID=America/New_York:20210912T190000
DTEND;TZID=America/New_York:20210912T203000
DTSTAMP:20260424T213038
CREATED:20210830T200342Z
LAST-MODIFIED:20210909T002613Z
UID:27190-1631473200-1631478600@thevelvetnote.com
SUMMARY:Sunday\, September 12th:  Legends of Jazz Presents a Celebration of John Coltrane   *** SOLD OUT!!   SOLD OUT!!   SOLD OUT!!  ***
DESCRIPTION:The Velvet Note presents another segment of its ninth series of Legends of Jazz\, featuring the music of John Coltrane. As with the entire monthly Legends of Jazz series\, The Justin Varnes Quartet will guide guests–in engaging\, narrative form– through the life and music of this great American saxophone.   It’s like taking in a concert and taking a jazz history class at the same time\, and…\, oh… they’ll also play their behinds off!​  \n\n\n\n\n\n*** SOLD OUT!!  SOLD OUT!!  SOLD OUT!!  ***
URL:https://thevelvetnote.com/event/sunday-september-12th-legends-of-jazz-presents-a-celebration-of-john-coltrane/
LOCATION:The Velvet Note Main Stage\, 4075 Old Milton Parkway\, Alpharetta\, 30005\, United States
ATTACH;FMTTYPE=image/jpeg:https://thevelvetnote.com/wp-content/uploads/2013/07/Coltrane1.jpg
END:VEVENT
BEGIN:VEVENT
DTSTART;TZID=America/New_York:20210918T193000
DTEND;TZID=America/New_York:20210918T230000
DTSTAMP:20260424T213038
CREATED:20210830T184812Z
LAST-MODIFIED:20210914T193837Z
UID:27180-1631993400-1632006000@thevelvetnote.com
SUMMARY:Saturday\, September 18th:  An Encore Performance ---Joyce Licorish!!
DESCRIPTION:The winner of the 2021 Cobb Idol competition is Joyce Licorish\, and she’s here at The Velvet Note! This powerhouse singer brings jazz\, soul and R&B together for one magical evening.  Ms. Licorish is an internationally known singer\, actress\, plus model\, voiceover talent\, Amazon Bestselling Author of The Forgotten Timepiece\, filmmaker and director.  
URL:https://thevelvetnote.com/event/saturday-september-11th-joyce-licorish/
ATTACH;FMTTYPE=image/jpeg:https://thevelvetnote.com/wp-content/uploads/2021/08/51zKMRKgEnL-1._SX450_.jpeg
END:VEVENT
BEGIN:VEVENT
DTSTART;TZID=America/New_York:20210919T190000
DTEND;TZID=America/New_York:20210919T223000
DTSTAMP:20260424T213038
CREATED:20210902T021121Z
LAST-MODIFIED:20210902T023401Z
UID:27206-1632078000-1632090600@thevelvetnote.com
SUMMARY:Sunday\, September 19th:  Sweet Soul Sister
DESCRIPTION:Sweet Soul Sister is a five-piece\, Atlanta-based pop/funk/rock band fronted by songwriter/actress Dominique Brittain. Their show features innovative arrangements of hits by Stevie Wonder\, Hall & Oates\, John Mayer\, Joss Stone & Billy Squier. They will also perform original songs including their new single “Crayons” (available on all music services). Sweet Soul Sister’s high-concept videos are known for emphasizing the band’s ability to be both powerful and sensual within the same measure of music. \n\n\n\n*The band will be adding saxophonist Ryan Whitehead exclusively for this performance.
URL:https://thevelvetnote.com/event/sunday-september-19th-sweet-soul-sister/
LOCATION:The Velvet Note Main Stage\, 4075 Old Milton Parkway\, Alpharetta\, 30005\, United States
ATTACH;FMTTYPE=image/jpeg:https://thevelvetnote.com/wp-content/uploads/2021/09/96E78143-9FA5-4BBC-9E30-BD3472B98BDE.jpeg
END:VEVENT
BEGIN:VEVENT
DTSTART;TZID=America/New_York:20210923T200000
DTEND;TZID=America/New_York:20210923T230000
DTSTAMP:20260424T213038
CREATED:20210830T193015Z
LAST-MODIFIED:20210922T174221Z
UID:27185-1632427200-1632438000@thevelvetnote.com
SUMMARY:Thursday\, September 23rd:  Open Mic Jam Hosted by Guitarist Bill Hart
DESCRIPTION:A potpourri of performers entertains you throughout the night under the musical leadership of our house band\, led by guitarist Bill Hart. Come out and jam with us– All genres welcomed!
URL:https://thevelvetnote.com/event/thursday-september-9th-open-mic-jam-hosted-by-guitarist-bill-hart/
LOCATION:The Velvet Note Main Stage\, 4075 Old Milton Parkway\, Alpharetta\, 30005\, United States
ATTACH;FMTTYPE=image/jpeg:https://thevelvetnote.com/wp-content/uploads/2021/07/9221F613-4A34-4B10-85B5-3B55733FE588.jpeg
END:VEVENT
BEGIN:VEVENT
DTSTART;TZID=America/New_York:20210924T200000
DTEND;TZID=America/New_York:20210924T230000
DTSTAMP:20260424T213038
CREATED:20210912T151749Z
LAST-MODIFIED:20210912T152127Z
UID:27247-1632513600-1632524400@thevelvetnote.com
SUMMARY:Friday\, September 24th:  CLOSED for a Private Event
DESCRIPTION:
URL:https://thevelvetnote.com/event/saturday-september-24th-closed-for-a-private-event/
ATTACH;FMTTYPE=image/jpeg:https://thevelvetnote.com/wp-content/uploads/2021/09/797C0F54-339B-4501-9959-6BCB8805740B.jpeg
END:VEVENT
BEGIN:VEVENT
DTSTART;TZID=America/New_York:20210925T193000
DTEND;TZID=America/New_York:20210925T230000
DTSTAMP:20260424T213038
CREATED:20210912T154855Z
LAST-MODIFIED:20210912T154903Z
UID:27253-1632598200-1632610800@thevelvetnote.com
SUMMARY:Saturday\, September 25th:  Brazillian Jazz Featuring Sofia Kriger
DESCRIPTION:A night featuring the classics of Brazilian Jazz incorporating bossa nova\, MPB\, samba\, and more….Featuring guest artist Brazilian Singer Sofia Kriger from New York and Atlanta’s Singer/Guitarist Sander Pinheiro. Come melt away with us and join us for a night remember.   \n\n\n\nBand:  Sofia Kriger- vocals \n\n\n\nSander Pinheiro – vocals and guitar  \n\n\n\nRamon Pooser- bass \n\n\n\nShawn Cox –  drums
URL:https://thevelvetnote.com/event/saturday-september-25th-brazillian-jazz-featuring-sofia-kriger/
LOCATION:The Velvet Note Main Stage\, 4075 Old Milton Parkway\, Alpharetta\, 30005\, United States
ATTACH;FMTTYPE=image/jpeg:https://thevelvetnote.com/wp-content/uploads/2021/09/281B21A1-E4D6-4282-8A8A-5FB693B83877.jpeg
END:VEVENT
BEGIN:VEVENT
DTSTART;TZID=America/New_York:20210930T200000
DTEND;TZID=America/New_York:20210930T230000
DTSTAMP:20260424T213038
CREATED:20210831T013939Z
LAST-MODIFIED:20210927T113341Z
UID:27192-1633032000-1633042800@thevelvetnote.com
SUMMARY:Thursday\, September 30th:  Open Mic Jam Hosted by Pianist Randy Hoexter
DESCRIPTION:A potpourri of performers entertains you throughout the night under the musical leadership of our house band\, led by Pianist Randy Hoexter. Come out and jam with us– All genres welcomed!
URL:https://thevelvetnote.com/event/thursday-september-16th-open-mic-jam-hosted-by-pianist-randy-hoexter/
LOCATION:The Velvet Note Main Stage\, 4075 Old Milton Parkway\, Alpharetta\, 30005\, United States
ATTACH;FMTTYPE=image/jpeg:https://thevelvetnote.com/wp-content/uploads/2021/08/5115D7DF-C418-4DFA-9631-E3FD7E3E793D.jpeg
END:VEVENT
END:VCALENDAR