BEGIN:VCALENDAR
VERSION:2.0
PRODID:-//The Velvet Note - ECPv6.15.20//NONSGML v1.0//EN
CALSCALE:GREGORIAN
METHOD:PUBLISH
X-ORIGINAL-URL:https://thevelvetnote.com
X-WR-CALDESC:Events for The Velvet Note
REFRESH-INTERVAL;VALUE=DURATION:PT1H
X-Robots-Tag:noindex
X-PUBLISHED-TTL:PT1H
BEGIN:VTIMEZONE
TZID:America/New_York
BEGIN:DAYLIGHT
TZOFFSETFROM:-0500
TZOFFSETTO:-0400
TZNAME:EDT
DTSTART:20250309T070000
END:DAYLIGHT
BEGIN:STANDARD
TZOFFSETFROM:-0400
TZOFFSETTO:-0500
TZNAME:EST
DTSTART:20251102T060000
END:STANDARD
BEGIN:DAYLIGHT
TZOFFSETFROM:-0500
TZOFFSETTO:-0400
TZNAME:EDT
DTSTART:20260308T070000
END:DAYLIGHT
BEGIN:STANDARD
TZOFFSETFROM:-0400
TZOFFSETTO:-0500
TZNAME:EST
DTSTART:20261101T060000
END:STANDARD
BEGIN:DAYLIGHT
TZOFFSETFROM:-0500
TZOFFSETTO:-0400
TZNAME:EDT
DTSTART:20270314T070000
END:DAYLIGHT
BEGIN:STANDARD
TZOFFSETFROM:-0400
TZOFFSETTO:-0500
TZNAME:EST
DTSTART:20271107T060000
END:STANDARD
END:VTIMEZONE
BEGIN:VEVENT
DTSTART;TZID=America/New_York:20260515T073000
DTEND;TZID=America/New_York:20260516T230000
DTSTAMP:20260421T174328
CREATED:20260226T055239Z
LAST-MODIFIED:20260226T055239Z
UID:31924-1778830200-1778972400@thevelvetnote.com
SUMMARY:Jazz Singer Elijah Rock
DESCRIPTION:FRIDAY AND SATURDAY SHOWTIMES: 7:30PM AND 9:30PM. Elijah Rock is a rare artist of his time: a singer’s singer and modern steward of the male jazz vocalist tradition and The Great American Songbook. His work insists this music is not a museum piece but a living\, breathing art form. Gifted with a resonant\, expressive baritone and a commanding sense of narrative\, Rock moves effortlessly between jazz\, blues\, Broadway\, and classical traditions\, bringing old-school showmanship into sharp contemporary focus. His mission has always been clear\, to keep the legacy of jazz and blues not merely alive\, but vital. 
URL:https://thevelvetnote.com/event/jazz-singer-elijah-rock-2/
LOCATION:The Velvet Note Main Stage\, 4075 Old Milton Parkway\, Alpharetta\, 30005\, United States
ATTACH;FMTTYPE=image/png:https://thevelvetnote.com/wp-content/uploads/2026/02/national-1.png
END:VEVENT
END:VCALENDAR