BEGIN:VCALENDAR
VERSION:2.0
PRODID:-//The Velvet Note - ECPv6.15.20//NONSGML v1.0//EN
CALSCALE:GREGORIAN
METHOD:PUBLISH
X-ORIGINAL-URL:https://thevelvetnote.com
X-WR-CALDESC:Events for The Velvet Note
REFRESH-INTERVAL;VALUE=DURATION:PT1H
X-Robots-Tag:noindex
X-PUBLISHED-TTL:PT1H
BEGIN:VTIMEZONE
TZID:America/New_York
BEGIN:DAYLIGHT
TZOFFSETFROM:-0500
TZOFFSETTO:-0400
TZNAME:EDT
DTSTART:20240310T070000
END:DAYLIGHT
BEGIN:STANDARD
TZOFFSETFROM:-0400
TZOFFSETTO:-0500
TZNAME:EST
DTSTART:20241103T060000
END:STANDARD
BEGIN:DAYLIGHT
TZOFFSETFROM:-0500
TZOFFSETTO:-0400
TZNAME:EDT
DTSTART:20250309T070000
END:DAYLIGHT
BEGIN:STANDARD
TZOFFSETFROM:-0400
TZOFFSETTO:-0500
TZNAME:EST
DTSTART:20251102T060000
END:STANDARD
BEGIN:DAYLIGHT
TZOFFSETFROM:-0500
TZOFFSETTO:-0400
TZNAME:EDT
DTSTART:20260308T070000
END:DAYLIGHT
BEGIN:STANDARD
TZOFFSETFROM:-0400
TZOFFSETTO:-0500
TZNAME:EST
DTSTART:20261101T060000
END:STANDARD
END:VTIMEZONE
BEGIN:VEVENT
DTSTART;TZID=America/New_York:20251227T193000
DTEND;TZID=America/New_York:20251227T230000
DTSTAMP:20260421T220448
CREATED:20251022T033909Z
LAST-MODIFIED:20251022T034205Z
UID:31395-1766863800-1766876400@thevelvetnote.com
SUMMARY:Solo Pianist John C. O'Leary\, III:  The Sundering
DESCRIPTION:One Artist.  One Album.  One Night \n\n\n\nJohn C. O’Leary III is a pianist\, composer and neuroscientist whose 2022 album The Sundering explores his dual cultural heritage—born in Mexico to a Mexican mother and American father\, and relocating to the U.S. at age 12. The project features collaborations with luminaries such as Shaun Martin and Dick Hyman\, and uses evocative compositions to navigate themes of identity\, memory and belonging.
URL:https://thevelvetnote.com/event/saturday-december-27th-pianist-john-c-oleary-iii/
LOCATION:The Velvet Note Main Stage\, 4075 Old Milton Parkway\, Alpharetta\, 30005\, United States
ATTACH;FMTTYPE=image/jpeg:https://thevelvetnote.com/wp-content/uploads/2025/10/0-1.jpeg
END:VEVENT
BEGIN:VEVENT
DTSTART;TZID=America/New_York:20251228T000000
DTEND;TZID=America/New_York:20251228T235959
DTSTAMP:20260421T220448
CREATED:20251224T175749Z
LAST-MODIFIED:20251224T180627Z
UID:31706-1766880000-1766966399@thevelvetnote.com
SUMMARY:CLOSED for Staff Appreciation
DESCRIPTION:
URL:https://thevelvetnote.com/event/closed-for-staff-appreciation/
END:VEVENT
END:VCALENDAR