BEGIN:VCALENDAR
VERSION:2.0
PRODID:-//The Velvet Note - ECPv6.15.20//NONSGML v1.0//EN
CALSCALE:GREGORIAN
METHOD:PUBLISH
X-ORIGINAL-URL:https://thevelvetnote.com
X-WR-CALDESC:Events for The Velvet Note
REFRESH-INTERVAL;VALUE=DURATION:PT1H
X-Robots-Tag:noindex
X-PUBLISHED-TTL:PT1H
BEGIN:VTIMEZONE
TZID:America/New_York
BEGIN:DAYLIGHT
TZOFFSETFROM:-0500
TZOFFSETTO:-0400
TZNAME:EDT
DTSTART:20240310T070000
END:DAYLIGHT
BEGIN:STANDARD
TZOFFSETFROM:-0400
TZOFFSETTO:-0500
TZNAME:EST
DTSTART:20241103T060000
END:STANDARD
BEGIN:DAYLIGHT
TZOFFSETFROM:-0500
TZOFFSETTO:-0400
TZNAME:EDT
DTSTART:20250309T070000
END:DAYLIGHT
BEGIN:STANDARD
TZOFFSETFROM:-0400
TZOFFSETTO:-0500
TZNAME:EST
DTSTART:20251102T060000
END:STANDARD
BEGIN:DAYLIGHT
TZOFFSETFROM:-0500
TZOFFSETTO:-0400
TZNAME:EDT
DTSTART:20260308T070000
END:DAYLIGHT
BEGIN:STANDARD
TZOFFSETFROM:-0400
TZOFFSETTO:-0500
TZNAME:EST
DTSTART:20261101T060000
END:STANDARD
END:VTIMEZONE
BEGIN:VEVENT
DTSTART;TZID=America/New_York:20251220T193000
DTEND;TZID=America/New_York:20251220T230000
DTSTAMP:20260421T220515
CREATED:20251027T185534Z
LAST-MODIFIED:20251220T191401Z
UID:31423-1766259000-1766271600@thevelvetnote.com
SUMMARY:Dwan Bosman's Jazzy Christmas at The Velvet Note*** SOLD OUT!! SOLD OUT!!  SOLD OUT!!  ****
DESCRIPTION:Celebrate the essence of the holiday season with smooth sophistication and soulful swing! Saxophonist Dwan Bosman brings his signature blend of Christmas Music\, Class\, and Captivating Energy to The Velvet Note for a night of festive jazz. Experience your favorite Christmas classics reimagined with vibrant improvisation\, heartfelt melodies\, and that unmistakable Saxophonist Dwan Bosman flair. \n\n\n\nGather your friends\, sip your favorite drink\, and let the warmth of live jazz set the tone for an unforgettable holiday evening.
URL:https://thevelvetnote.com/event/dwan-bosmans-jazzy-christmas-at-the-velvet-note/
LOCATION:The Velvet Note Main Stage\, 4075 Old Milton Parkway\, Alpharetta\, 30005\, United States
ATTACH;FMTTYPE=image/jpeg:https://thevelvetnote.com/wp-content/uploads/2025/10/DwanBosman.Feb2025-21-scaled.jpeg
END:VEVENT
END:VCALENDAR