BEGIN:VCALENDAR
VERSION:2.0
PRODID:-//The Velvet Note - ECPv6.15.20//NONSGML v1.0//EN
CALSCALE:GREGORIAN
METHOD:PUBLISH
X-WR-CALNAME:The Velvet Note
X-ORIGINAL-URL:https://thevelvetnote.com
X-WR-CALDESC:Events for The Velvet Note
REFRESH-INTERVAL;VALUE=DURATION:PT1H
X-Robots-Tag:noindex
X-PUBLISHED-TTL:PT1H
BEGIN:VTIMEZONE
TZID:America/New_York
BEGIN:DAYLIGHT
TZOFFSETFROM:-0500
TZOFFSETTO:-0400
TZNAME:EDT
DTSTART:20240310T070000
END:DAYLIGHT
BEGIN:STANDARD
TZOFFSETFROM:-0400
TZOFFSETTO:-0500
TZNAME:EST
DTSTART:20241103T060000
END:STANDARD
BEGIN:DAYLIGHT
TZOFFSETFROM:-0500
TZOFFSETTO:-0400
TZNAME:EDT
DTSTART:20250309T070000
END:DAYLIGHT
BEGIN:STANDARD
TZOFFSETFROM:-0400
TZOFFSETTO:-0500
TZNAME:EST
DTSTART:20251102T060000
END:STANDARD
BEGIN:DAYLIGHT
TZOFFSETFROM:-0500
TZOFFSETTO:-0400
TZNAME:EDT
DTSTART:20260308T070000
END:DAYLIGHT
BEGIN:STANDARD
TZOFFSETFROM:-0400
TZOFFSETTO:-0500
TZNAME:EST
DTSTART:20261101T060000
END:STANDARD
END:VTIMEZONE
BEGIN:VEVENT
DTSTART;TZID=America/New_York:20251219T193000
DTEND;TZID=America/New_York:20251219T230000
DTSTAMP:20260421T220142
CREATED:20251029T004053Z
LAST-MODIFIED:20251216T103658Z
UID:31453-1766172600-1766185200@thevelvetnote.com
SUMMARY:Singer DeeAnn DiMeo
DESCRIPTION:SHOWTIMES: 7:30PM AND 9:30PM. Experience the powerful\, “jazzy soul” of DeeAnn DiMeo\, a Niagara Falls Music Hall of Fame inductee and multi-award-winning vocalist. Fresh off the release of her acclaimed album It’s My Time\, DeeAnn brings her sophisticated blend of blues\, gospel\, and jazz to The Velvet Note for a night of heartfelt storytelling and undeniable groove. \n\n\n\n\n    \n    \n\n\n\n\n\nA “Soulful Powerhouse”: Known for her rich\, resonant voice and emotional delivery\, DeeAnn has been named “Best Female Vocalist” multiple times at the Buffalo Music Awards.\n\n\n\nHall of Fame Talent: In 2019\, she was inducted into the Niagara Falls Music Hall of Fame\, cementing her status as one of the region’s most respected artists.\n\n\n\n“Jazzy Soul” & Pop Classics: Her repertoire bridges genres effortlessly\, featuring reimagined classics like Al Green’s “Simply Beautiful” and Sade’s “Kiss of Life\,” alongside original compositions that showcase her roots in gospel and blues.\n\n\n\nWorld-Class Production: Her latest work features production from industry heavyweights like RiShon Odel (bassist for Brian Culbertson and Najee)\, ensuring a sound that is polished\, modern\, and deeply groovy.\n\n\n\nA Musical Legacy: The daughter of jazz singer Frank DiMeo\, DeeAnn carries on a family tradition of excellence\, delivering performances that are authentic\, captivating\, and full of life.\n\n\n\n\nSHOWTIMES: 7:30pm & 9:30pm \n\n\n\n\nPurchase Tickets Now – $40
URL:https://thevelvetnote.com/event/singer-deann-dimeo/
ATTACH;FMTTYPE=image/webp:https://thevelvetnote.com/wp-content/uploads/2025/10/Deeann.webp
END:VEVENT
END:VCALENDAR