BEGIN:VCALENDAR
VERSION:2.0
PRODID:-//The Velvet Note - ECPv6.15.20//NONSGML v1.0//EN
CALSCALE:GREGORIAN
METHOD:PUBLISH
X-ORIGINAL-URL:https://thevelvetnote.com
X-WR-CALDESC:Events for The Velvet Note
REFRESH-INTERVAL;VALUE=DURATION:PT1H
X-Robots-Tag:noindex
X-PUBLISHED-TTL:PT1H
BEGIN:VTIMEZONE
TZID:America/New_York
BEGIN:DAYLIGHT
TZOFFSETFROM:-0500
TZOFFSETTO:-0400
TZNAME:EDT
DTSTART:20240310T070000
END:DAYLIGHT
BEGIN:STANDARD
TZOFFSETFROM:-0400
TZOFFSETTO:-0500
TZNAME:EST
DTSTART:20241103T060000
END:STANDARD
BEGIN:DAYLIGHT
TZOFFSETFROM:-0500
TZOFFSETTO:-0400
TZNAME:EDT
DTSTART:20250309T070000
END:DAYLIGHT
BEGIN:STANDARD
TZOFFSETFROM:-0400
TZOFFSETTO:-0500
TZNAME:EST
DTSTART:20251102T060000
END:STANDARD
BEGIN:DAYLIGHT
TZOFFSETFROM:-0500
TZOFFSETTO:-0400
TZNAME:EDT
DTSTART:20260308T070000
END:DAYLIGHT
BEGIN:STANDARD
TZOFFSETFROM:-0400
TZOFFSETTO:-0500
TZNAME:EST
DTSTART:20261101T060000
END:STANDARD
END:VTIMEZONE
BEGIN:VEVENT
DTSTART;TZID=America/New_York:20251213T193000
DTEND;TZID=America/New_York:20251213T230000
DTSTAMP:20260421T220448
CREATED:20251102T125459Z
LAST-MODIFIED:20251208T221423Z
UID:31467-1765654200-1765666800@thevelvetnote.com
SUMMARY:Drummer Lorenzo Sanford
DESCRIPTION:SHOWTIMES: 7:30PM AND 9:30PM. Prepare for an evening of musical mastery as the eclectic and acclaimed drummer Lorenzo Sanford takes the stage at The Velvet Note. More than just a drummer\, Lorenzo is a composer\, vocalist\, and educator who has shaped the rhythm for some of the biggest names in music history. \n\n\n\n\n    \n    \n\n\n\n\n\nA Rhythm Legend: Lorenzo has performed with icons such as Stevie Wonder\, Peabo Bryson\, Jennifer Holliday\, Melba Moore\, and Lizz Wright.\n\n\n\nEclectic Artistry: From jazz and gospel to musical theater and bluegrass\, Lorenzo’s range is unmatched. He has toured internationally\, performed at Carnegie Hall\, and worked under acclaimed Broadway director Kenny Leon.\n\n\n\nComposer & Vocalist: A true multi-hyphenate\, Lorenzo holds a degree in music composition and is also a gifted vocalist\, having toured nationally with “The Sam Cooke Story.”\n\n\n\nEducator & Mentor: A passionate advocate for arts education\, he has taught jazz history to thousands of students and served as an assistant director for the Spelman College Jazz Ensemble.\n\n\n\nThe Lorenzo Sanford Experience: Whether leading his own group or collaborating with world-class musicians\, a night with Lorenzo Sanford is a journey through the heart of American music—dynamic\, soulful\, and unforgettable.\n\n\n\n\nSHOWTIMES: 7:30pm & 9:30pm \n\n\n\n\nPurchase Tickets Now – $40
URL:https://thevelvetnote.com/event/saturday-december-13th-drummer-lorenzo-sanford/
ATTACH;FMTTYPE=image/jpeg:https://thevelvetnote.com/wp-content/uploads/2025/11/Untitled-design-29.jpeg
END:VEVENT
END:VCALENDAR