BEGIN:VCALENDAR
VERSION:2.0
PRODID:-//The Velvet Note - ECPv6.15.20//NONSGML v1.0//EN
CALSCALE:GREGORIAN
METHOD:PUBLISH
X-WR-CALNAME:The Velvet Note
X-ORIGINAL-URL:https://thevelvetnote.com
X-WR-CALDESC:Events for The Velvet Note
REFRESH-INTERVAL;VALUE=DURATION:PT1H
X-Robots-Tag:noindex
X-PUBLISHED-TTL:PT1H
BEGIN:VTIMEZONE
TZID:America/New_York
BEGIN:DAYLIGHT
TZOFFSETFROM:-0500
TZOFFSETTO:-0400
TZNAME:EDT
DTSTART:20240310T070000
END:DAYLIGHT
BEGIN:STANDARD
TZOFFSETFROM:-0400
TZOFFSETTO:-0500
TZNAME:EST
DTSTART:20241103T060000
END:STANDARD
BEGIN:DAYLIGHT
TZOFFSETFROM:-0500
TZOFFSETTO:-0400
TZNAME:EDT
DTSTART:20250309T070000
END:DAYLIGHT
BEGIN:STANDARD
TZOFFSETFROM:-0400
TZOFFSETTO:-0500
TZNAME:EST
DTSTART:20251102T060000
END:STANDARD
BEGIN:DAYLIGHT
TZOFFSETFROM:-0500
TZOFFSETTO:-0400
TZNAME:EDT
DTSTART:20260308T070000
END:DAYLIGHT
BEGIN:STANDARD
TZOFFSETFROM:-0400
TZOFFSETTO:-0500
TZNAME:EST
DTSTART:20261101T060000
END:STANDARD
END:VTIMEZONE
BEGIN:VEVENT
DTSTART;TZID=America/New_York:20251212T193000
DTEND;TZID=America/New_York:20251212T230000
DTSTAMP:20260421T220158
CREATED:20251208T004836Z
LAST-MODIFIED:20251211T013806Z
UID:31637-1765567800-1765580400@thevelvetnote.com
SUMMARY:Acoustic Soul Starring Angelo Ramone
DESCRIPTION:SHOWTIMES: 7:30PM AND 9:30PM. Get ready for a “refresher course in old school soul.” One of Atlanta’s most beloved acts returns to The Velvet Note for a night of pure nostalgia\, romance\, and vocal mastery. Acoustic Soul\, starring the incomparable Angelo Ramone\, delivers the classic R&B hits you love\, stripped down to their most beautiful\, authentic essence. \n\n\n\n\n    \n    \n\n\n\n\n\nA “Refresher Course”: Experience their signature tagline in real life. This show is a journey through the golden era of soul music\, revisiting the timeless sounds of the 70s\, 80s\, and 90s without the clutter—just pure talent.\n\n\n\nStarring Antonio Ramone: Known for his silky\, powerful vocal range and charismatic stage presence\, Antonio Ramone commands the room\, turning every song into a personal conversation with the audience.\n\n\n\nThe Ultimate Date Night: With the intimate pairing of acoustic instrumentation and velvet vocals\, this is the perfect soundtrack for a romantic Friday night out.\n\n\n\nThe Repertoire: Expect to hear fresh\, acoustic interpretations of legends like Luther Vandross\, Teddy Pendergrass\, Al Green\, and Marvin Gaye.\n\n\n\nAtlanta Favorites: For over a decade\, Acoustic Soul has been a staple of the Atlanta music scene\, celebrated for bringing a “Grown & Sexy” vibe that is sophisticated\, smooth\, and impossible to resist.\n\n\n\n\nSHOWTIMES: 7:30pm & 9:30pm \n\n\n\n\nPurchase Tickets Now – $40
URL:https://thevelvetnote.com/event/acoustic-soul-starring-antonio-ramone/
ATTACH;FMTTYPE=image/webp:https://thevelvetnote.com/wp-content/uploads/2025/12/rsw_984h_574.webp
END:VEVENT
END:VCALENDAR