BEGIN:VCALENDAR
VERSION:2.0
PRODID:-//The Velvet Note - ECPv6.15.20//NONSGML v1.0//EN
CALSCALE:GREGORIAN
METHOD:PUBLISH
X-ORIGINAL-URL:https://thevelvetnote.com
X-WR-CALDESC:Events for The Velvet Note
REFRESH-INTERVAL;VALUE=DURATION:PT1H
X-Robots-Tag:noindex
X-PUBLISHED-TTL:PT1H
BEGIN:VTIMEZONE
TZID:America/New_York
BEGIN:DAYLIGHT
TZOFFSETFROM:-0500
TZOFFSETTO:-0400
TZNAME:EDT
DTSTART:20240310T070000
END:DAYLIGHT
BEGIN:STANDARD
TZOFFSETFROM:-0400
TZOFFSETTO:-0500
TZNAME:EST
DTSTART:20241103T060000
END:STANDARD
BEGIN:DAYLIGHT
TZOFFSETFROM:-0500
TZOFFSETTO:-0400
TZNAME:EDT
DTSTART:20250309T070000
END:DAYLIGHT
BEGIN:STANDARD
TZOFFSETFROM:-0400
TZOFFSETTO:-0500
TZNAME:EST
DTSTART:20251102T060000
END:STANDARD
BEGIN:DAYLIGHT
TZOFFSETFROM:-0500
TZOFFSETTO:-0400
TZNAME:EDT
DTSTART:20260308T070000
END:DAYLIGHT
BEGIN:STANDARD
TZOFFSETFROM:-0400
TZOFFSETTO:-0500
TZNAME:EST
DTSTART:20261101T060000
END:STANDARD
END:VTIMEZONE
BEGIN:VEVENT
DTSTART;TZID=America/New_York:20251123T183000
DTEND;TZID=America/New_York:20251123T220000
DTSTAMP:20260421T232707
CREATED:20251102T171234Z
LAST-MODIFIED:20251117T180227Z
UID:31475-1763922600-1763935200@thevelvetnote.com
SUMMARY:Joe Gransden and Geoff Haydon's Jazz & The Holidays
DESCRIPTION:SHOWTIMES: 6:30PM AND 8:30PM. Celebrate the season with a swinging holiday show! Joe Gransden and Geoff Haydon bring timeless jazz and festive favorites to life with warmth\, rhythm\, and style. Get into the holiday groove with a dynamic jazz duo serving up classic swing\, smooth melodies\, and festive cheer for all ages!  The first 5 guests to buy tickets get a signed CD from Joe! \n\n\n\n\n    \n    \n\n\n\n\n\nPurchase Tickets Now – $42
URL:https://thevelvetnote.com/event/joe-gransden-and-geoff-haydons-jazz-the-holidays/
ATTACH;FMTTYPE=image/jpeg:https://thevelvetnote.com/wp-content/uploads/2025/11/Screenshot-2025-11-17-115323.jpg
END:VEVENT
END:VCALENDAR