BEGIN:VCALENDAR
VERSION:2.0
PRODID:-//The Velvet Note - ECPv6.15.20//NONSGML v1.0//EN
CALSCALE:GREGORIAN
METHOD:PUBLISH
X-ORIGINAL-URL:https://thevelvetnote.com
X-WR-CALDESC:Events for The Velvet Note
REFRESH-INTERVAL;VALUE=DURATION:PT1H
X-Robots-Tag:noindex
X-PUBLISHED-TTL:PT1H
BEGIN:VTIMEZONE
TZID:America/New_York
BEGIN:DAYLIGHT
TZOFFSETFROM:-0500
TZOFFSETTO:-0400
TZNAME:EDT
DTSTART:20240310T070000
END:DAYLIGHT
BEGIN:STANDARD
TZOFFSETFROM:-0400
TZOFFSETTO:-0500
TZNAME:EST
DTSTART:20241103T060000
END:STANDARD
BEGIN:DAYLIGHT
TZOFFSETFROM:-0500
TZOFFSETTO:-0400
TZNAME:EDT
DTSTART:20250309T070000
END:DAYLIGHT
BEGIN:STANDARD
TZOFFSETFROM:-0400
TZOFFSETTO:-0500
TZNAME:EST
DTSTART:20251102T060000
END:STANDARD
BEGIN:DAYLIGHT
TZOFFSETFROM:-0500
TZOFFSETTO:-0400
TZNAME:EDT
DTSTART:20260308T070000
END:DAYLIGHT
BEGIN:STANDARD
TZOFFSETFROM:-0400
TZOFFSETTO:-0500
TZNAME:EST
DTSTART:20261101T060000
END:STANDARD
END:VTIMEZONE
BEGIN:VEVENT
DTSTART;TZID=America/New_York:20251122T193000
DTEND;TZID=America/New_York:20251122T230000
DTSTAMP:20260422T004218
CREATED:20251022T143218Z
LAST-MODIFIED:20251117T175627Z
UID:31410-1763839800-1763852400@thevelvetnote.com
SUMMARY:The Quintin Harris Trio
DESCRIPTION:For an audience at Velvet Note\, his performance promises a timeless yet fresh jazz experience — intimate piano-vocals imbued with swing and sophistication\, bridging classic and contemporary styles. Come see him to witness a rising jazz talent who captures the charm of old-New York jazz lounges while delivering vibrant musicality and warm stage presence. \n\n\n\n\n    \n    \n\n\n\n\nSHOWTIMES: 7:30PM AND 9:30PM. Quintin Harris is a New York City–based jazz pianist\, vocalist\, and composer who grew up in Yonkers\, NY and made his professional stage debut at the age of five. With formal jazz performance training (B.M. from William Paterson University) and mentorship under renowned pianist Bill Charlap\, he has become known for his elegant interpretations of the Great American Songbook and refined trio arrangements.  \n\n\n\n\nPurchase Tickets Now – $40
URL:https://thevelvetnote.com/event/the-quintin-harris-trio/
ATTACH;FMTTYPE=image/jpeg:https://thevelvetnote.com/wp-content/uploads/2025/10/Screenshot-2025-11-17-114618.jpg
END:VEVENT
END:VCALENDAR