BEGIN:VCALENDAR
VERSION:2.0
PRODID:-//The Velvet Note - ECPv6.15.20//NONSGML v1.0//EN
CALSCALE:GREGORIAN
METHOD:PUBLISH
X-ORIGINAL-URL:https://thevelvetnote.com
X-WR-CALDESC:Events for The Velvet Note
REFRESH-INTERVAL;VALUE=DURATION:PT1H
X-Robots-Tag:noindex
X-PUBLISHED-TTL:PT1H
BEGIN:VTIMEZONE
TZID:America/New_York
BEGIN:DAYLIGHT
TZOFFSETFROM:-0500
TZOFFSETTO:-0400
TZNAME:EDT
DTSTART:20240310T070000
END:DAYLIGHT
BEGIN:STANDARD
TZOFFSETFROM:-0400
TZOFFSETTO:-0500
TZNAME:EST
DTSTART:20241103T060000
END:STANDARD
BEGIN:DAYLIGHT
TZOFFSETFROM:-0500
TZOFFSETTO:-0400
TZNAME:EDT
DTSTART:20250309T070000
END:DAYLIGHT
BEGIN:STANDARD
TZOFFSETFROM:-0400
TZOFFSETTO:-0500
TZNAME:EST
DTSTART:20251102T060000
END:STANDARD
BEGIN:DAYLIGHT
TZOFFSETFROM:-0500
TZOFFSETTO:-0400
TZNAME:EDT
DTSTART:20260308T070000
END:DAYLIGHT
BEGIN:STANDARD
TZOFFSETFROM:-0400
TZOFFSETTO:-0500
TZNAME:EST
DTSTART:20261101T060000
END:STANDARD
END:VTIMEZONE
BEGIN:VEVENT
DTSTART;TZID=America/New_York:20251121T193000
DTEND;TZID=America/New_York:20251121T230000
DTSTAMP:20260421T232648
CREATED:20250904T213040Z
LAST-MODIFIED:20251117T160944Z
UID:31069-1763753400-1763766000@thevelvetnote.com
SUMMARY:ENCORE!  The Sade Experience *** SOLD OUT!!  SOLD OUT!!   WAITLIST ONLY!!  ***
DESCRIPTION:ENCORE PERFORMANCE SHOWTIMES:  7:30pm and 9:30pm.  Band Adu was created in 2019 by founder and lead vocalist\, Jamila Sampson. The spirit of universal connection through music gives her a sense of love and passion while celebrating Sade’s artistry and style.  The music gives you a feeling of romance\, seduction\, sensuality and soulfulness\, all from a global music perspective. \n\n\n\n\n    \n    \n\n\n\n\nBand Adu is honored to pay tribute to the musical legacy of Sade. \n\n\n\nSlip into the sultry\, sophisticated world of Sade when The Sade Experience takes the stage at The Velvet Note on Friday\, September 12. From “Smooth Operator” to “No Ordinary Love\,” this stellar band channels the velvet-toned vocals\, hypnotic grooves\, and heart-melting melodies you adore—wrapped in the intimacy and pristine sound our room is known for. Perfect for date night or a blissed-out evening with friends\, this is your chance to sway\, sip\, and sink into the mood. Seating is limited—grab your tickets now and feel the luxury. \n\n\n\n*****.  SOLD OUT!!   SOLD OUT!!  SOLD OUT!!   ****.  ONLY WAITLIST AVAILABLE!  \n\n\n\n\nPurchase Tickets Now – $44
URL:https://thevelvetnote.com/event/friday-november-21st-encore-the-sade-experience/
ATTACH;FMTTYPE=image/jpeg:https://thevelvetnote.com/wp-content/uploads/2025/11/Screenshot-2025-11-10-104926-edited.jpg
END:VEVENT
END:VCALENDAR