BEGIN:VCALENDAR
VERSION:2.0
PRODID:-//The Velvet Note - ECPv6.15.20//NONSGML v1.0//EN
CALSCALE:GREGORIAN
METHOD:PUBLISH
X-WR-CALNAME:The Velvet Note
X-ORIGINAL-URL:https://thevelvetnote.com
X-WR-CALDESC:Events for The Velvet Note
REFRESH-INTERVAL;VALUE=DURATION:PT1H
X-Robots-Tag:noindex
X-PUBLISHED-TTL:PT1H
BEGIN:VTIMEZONE
TZID:America/New_York
BEGIN:DAYLIGHT
TZOFFSETFROM:-0500
TZOFFSETTO:-0400
TZNAME:EDT
DTSTART:20240310T070000
END:DAYLIGHT
BEGIN:STANDARD
TZOFFSETFROM:-0400
TZOFFSETTO:-0500
TZNAME:EST
DTSTART:20241103T060000
END:STANDARD
BEGIN:DAYLIGHT
TZOFFSETFROM:-0500
TZOFFSETTO:-0400
TZNAME:EDT
DTSTART:20250309T070000
END:DAYLIGHT
BEGIN:STANDARD
TZOFFSETFROM:-0400
TZOFFSETTO:-0500
TZNAME:EST
DTSTART:20251102T060000
END:STANDARD
BEGIN:DAYLIGHT
TZOFFSETFROM:-0500
TZOFFSETTO:-0400
TZNAME:EDT
DTSTART:20260308T070000
END:DAYLIGHT
BEGIN:STANDARD
TZOFFSETFROM:-0400
TZOFFSETTO:-0500
TZNAME:EST
DTSTART:20261101T060000
END:STANDARD
END:VTIMEZONE
BEGIN:VEVENT
DTSTART;TZID=America/New_York:20251113T200000
DTEND;TZID=America/New_York:20251113T230000
DTSTAMP:20260421T232343
CREATED:20251109T181604Z
LAST-MODIFIED:20251111T230030Z
UID:31536-1763064000-1763074800@thevelvetnote.com
SUMMARY:Open Mic Jam - Hosted by Saxophonist Dwan Bosman
DESCRIPTION:Georgia’s LONGEST-RUNNING OPEN MIC JAM is at The Velvet Note\, and you are invited! Open Mic is a little like Karaoke\, but much\, much better\, with full bar and kitchen\, too. Tonight is special– with a full cast of characters in our house band\, including host Dwan Bosman! Come out and listen to or jam with our extraordinary house band\, or take the stage all on your own. Bring your talent\, bring date\, bring your instrument\, bring your clapping hands\, and join the fun. Often attended by club owner Tamara Fuller and she’s always on the hunt for talent! \n\n\n\n\nPurchase Tickets Now – $15
URL:https://thevelvetnote.com/event/thursday-november-13th-open-mic-jam-hosted-by-saxophonist-dwan-bosman/
ATTACH;FMTTYPE=image/jpeg:https://thevelvetnote.com/wp-content/uploads/2025/11/open-mic-jam-2.jpg
END:VEVENT
END:VCALENDAR