BEGIN:VCALENDAR
VERSION:2.0
PRODID:-//The Velvet Note - ECPv6.15.20//NONSGML v1.0//EN
CALSCALE:GREGORIAN
METHOD:PUBLISH
X-ORIGINAL-URL:https://thevelvetnote.com
X-WR-CALDESC:Events for The Velvet Note
REFRESH-INTERVAL;VALUE=DURATION:PT1H
X-Robots-Tag:noindex
X-PUBLISHED-TTL:PT1H
BEGIN:VTIMEZONE
TZID:America/New_York
BEGIN:DAYLIGHT
TZOFFSETFROM:-0500
TZOFFSETTO:-0400
TZNAME:EDT
DTSTART:20240310T070000
END:DAYLIGHT
BEGIN:STANDARD
TZOFFSETFROM:-0400
TZOFFSETTO:-0500
TZNAME:EST
DTSTART:20241103T060000
END:STANDARD
BEGIN:DAYLIGHT
TZOFFSETFROM:-0500
TZOFFSETTO:-0400
TZNAME:EDT
DTSTART:20250309T070000
END:DAYLIGHT
BEGIN:STANDARD
TZOFFSETFROM:-0400
TZOFFSETTO:-0500
TZNAME:EST
DTSTART:20251102T060000
END:STANDARD
BEGIN:DAYLIGHT
TZOFFSETFROM:-0500
TZOFFSETTO:-0400
TZNAME:EDT
DTSTART:20260308T070000
END:DAYLIGHT
BEGIN:STANDARD
TZOFFSETFROM:-0400
TZOFFSETTO:-0500
TZNAME:EST
DTSTART:20261101T060000
END:STANDARD
END:VTIMEZONE
BEGIN:VEVENT
DTSTART;TZID=America/New_York:20251107T193000
DTEND;TZID=America/New_York:20251107T230000
DTSTAMP:20260421T232824
CREATED:20251022T051813Z
LAST-MODIFIED:20251103T204053Z
UID:31401-1762543800-1762556400@thevelvetnote.com
SUMMARY:The Fox & The Dame
DESCRIPTION:SHOWTIMES: 7:30PM AND 9:30PM. Experience the explosive new duo The Fox & The Dame\, uniting America’s “Southern Siren” Cruz The Dame with Scotland’s award-winning rocker Luke La Volpe. This is a rare Georgia debut\, blending vintage gospel-rooted R&B with smoky\, blues-infused rock for a soul-stirring\, cinematic collaboration unlike anything in music today. \n\n\n\n\n    \n    \n\n\n\n\n\nA Cross-Cultural Supergroup: The explosive new act born from a legendary meeting in an Edinburgh\, Scotland club\, making its official Georgia debut.\n\n\n\nAward-Winning Rock: Features the powerful\, blues-infused vocals of Luke “The Fox” La Volpe\, winner of ‘Best Newcomer’ at the Scottish Alternative Music Awards and tour-mate of Lewis Capaldi.\n\n\n\nSouthern Soul: Stars the vintage\, gospel-rooted R&B sound of America’s “Southern Siren\,” Cruz The Dame\, known for her dynamic voice and magnetic stage presence.\n\n\n\nCinematic Sound: A raw\, soulful collaboration that blends the grit of Southern blues\, the ache of gospel\, and the swagger of vintage rock.\n\n\n\nThe Georgia Debut: Be the first in the state to experience one of the most exciting new duos in global soul\, live in our intimate acoustic room.\n\n\n\n\nSHOWTIMES: 7:30pm & 9:30pm \n\n\n\n\nPurchase Tickets Now – $40
URL:https://thevelvetnote.com/event/the-fox-the-dame/
ATTACH;FMTTYPE=image/jpeg:https://thevelvetnote.com/wp-content/uploads/2025/11/unnamed-1-edited.jpg
END:VEVENT
END:VCALENDAR