BEGIN:VCALENDAR
VERSION:2.0
PRODID:-//The Velvet Note - ECPv6.15.20//NONSGML v1.0//EN
CALSCALE:GREGORIAN
METHOD:PUBLISH
X-ORIGINAL-URL:https://thevelvetnote.com
X-WR-CALDESC:Events for The Velvet Note
REFRESH-INTERVAL;VALUE=DURATION:PT1H
X-Robots-Tag:noindex
X-PUBLISHED-TTL:PT1H
BEGIN:VTIMEZONE
TZID:America/New_York
BEGIN:DAYLIGHT
TZOFFSETFROM:-0500
TZOFFSETTO:-0400
TZNAME:EDT
DTSTART:20240310T070000
END:DAYLIGHT
BEGIN:STANDARD
TZOFFSETFROM:-0400
TZOFFSETTO:-0500
TZNAME:EST
DTSTART:20241103T060000
END:STANDARD
BEGIN:DAYLIGHT
TZOFFSETFROM:-0500
TZOFFSETTO:-0400
TZNAME:EDT
DTSTART:20250309T070000
END:DAYLIGHT
BEGIN:STANDARD
TZOFFSETFROM:-0400
TZOFFSETTO:-0500
TZNAME:EST
DTSTART:20251102T060000
END:STANDARD
BEGIN:DAYLIGHT
TZOFFSETFROM:-0500
TZOFFSETTO:-0400
TZNAME:EDT
DTSTART:20260308T070000
END:DAYLIGHT
BEGIN:STANDARD
TZOFFSETFROM:-0400
TZOFFSETTO:-0500
TZNAME:EST
DTSTART:20261101T060000
END:STANDARD
END:VTIMEZONE
BEGIN:VEVENT
DTSTART;TZID=America/New_York:20251102T190000
DTEND;TZID=America/New_York:20251102T203000
DTSTAMP:20260421T232648
CREATED:20250929T165039Z
LAST-MODIFIED:20251027T194758Z
UID:31143-1762110000-1762115400@thevelvetnote.com
SUMMARY:Bluesman Freddie B pays Tribute to Johnnie Taylor and Lou Rawls!
DESCRIPTION:DOORS OPEN AT 6:00PM.   ONE SHOW ONLY AT 7PM UNTIL 8:30PM.   Freddie B. Eckstine is a vocalist based in Stone Mountain\, Georgia\, known for his rich baritone voice and versatility across jazz and blues. Born and raised in Chicago\, he made his name with soulful\, smooth stylings in blues circuits\, later branching fully into jazz—especially standards and fusion—earning a reputation for memorable live performances and a vocal style that resonates with jazz\, pop\, blues and R&B fans alike. In this very special show\, Freddie will pay tribute to two of the greatest entertainers ever– Johnnie Taylor and Lou Rawls! \n\n\n\n\n    \n    \n\n\n\n\n\nPurchase Tickets Now – $35
URL:https://thevelvetnote.com/event/sunday-november-2nd-bluesman-freddy-b/
ATTACH;FMTTYPE=image/jpeg:https://thevelvetnote.com/wp-content/uploads/2025/09/Attachment.jpeg
END:VEVENT
END:VCALENDAR