BEGIN:VCALENDAR
VERSION:2.0
PRODID:-//The Velvet Note - ECPv6.15.20//NONSGML v1.0//EN
CALSCALE:GREGORIAN
METHOD:PUBLISH
X-WR-CALNAME:The Velvet Note
X-ORIGINAL-URL:https://thevelvetnote.com
X-WR-CALDESC:Events for The Velvet Note
REFRESH-INTERVAL;VALUE=DURATION:PT1H
X-Robots-Tag:noindex
X-PUBLISHED-TTL:PT1H
BEGIN:VTIMEZONE
TZID:America/New_York
BEGIN:DAYLIGHT
TZOFFSETFROM:-0500
TZOFFSETTO:-0400
TZNAME:EDT
DTSTART:20240310T070000
END:DAYLIGHT
BEGIN:STANDARD
TZOFFSETFROM:-0400
TZOFFSETTO:-0500
TZNAME:EST
DTSTART:20241103T060000
END:STANDARD
BEGIN:DAYLIGHT
TZOFFSETFROM:-0500
TZOFFSETTO:-0400
TZNAME:EDT
DTSTART:20250309T070000
END:DAYLIGHT
BEGIN:STANDARD
TZOFFSETFROM:-0400
TZOFFSETTO:-0500
TZNAME:EST
DTSTART:20251102T060000
END:STANDARD
BEGIN:DAYLIGHT
TZOFFSETFROM:-0500
TZOFFSETTO:-0400
TZNAME:EDT
DTSTART:20260308T070000
END:DAYLIGHT
BEGIN:STANDARD
TZOFFSETFROM:-0400
TZOFFSETTO:-0500
TZNAME:EST
DTSTART:20261101T060000
END:STANDARD
END:VTIMEZONE
BEGIN:VEVENT
DTSTART;TZID=America/New_York:20251101T193000
DTEND;TZID=America/New_York:20251101T230000
DTSTAMP:20260421T232310
CREATED:20251002T182804Z
LAST-MODIFIED:20251027T195110Z
UID:31159-1762025400-1762038000@thevelvetnote.com
SUMMARY:Legendary Cuban Drummer Calixto Oviedo
DESCRIPTION:SHOWTIMES: 7:30PM AND 9:30PM. Experience the authentic heartbeat of Afro-Cuban jazz as Legendary Drummer Calixto Oviedo\, the pioneering force behind the “Timba” sound\, graces The Velvet Note’s stage for a night of masterful\, complex percussion and thrilling Latin jazz. \n\n\n\n\n    \n    \n\n\n\n\n\nPioneer of Cuban Timba: He is a chief innovator and driving force behind Timba\, the complex and dynamic style of modern Cuban music\, translating its traditional rhythms onto the modern drum set.\n\n\n\nA Drummer for Jazz Royalty: Oviedo has performed and recorded with a stunning list of legends\, including Paquito D’Rivera\, Arturo Sandoval\, Chucho Valdés\, Gonzalo Rubalcaba\, and Danilo Pérez.\n\n\n\nThe Original NG La Banda Engine: He was the drummer for the iconic Cuban orchestra NG La Banda during the period that produced their greatest recordings\, such as “Santa Palabra” and “Échale Limón.”\n\n\n\nInternational Recognition: Calixto Oviedo has received Latin and American Grammy nominations for his exceptional work\, affirming his status as a world-class musician.\n\n\n\nCultural Ambassador: His four-decade career has established him as a “cultural ambassador” of Cuban rhythm\, bridging traditional Afro-Cuban grooves with modern jazz and fusion.\n\n\n\n\nSHOWTIMES: 7:30pm & 9:30pm \n\n\n\n\nPurchase Tickets Now – $42
URL:https://thevelvetnote.com/event/saturday-november-1st-legendary-cuban-drummer-calixto-oviedo/
ATTACH;FMTTYPE=image/jpeg:https://thevelvetnote.com/wp-content/uploads/2025/10/20160919_164925.jpeg
END:VEVENT
END:VCALENDAR