BEGIN:VCALENDAR
VERSION:2.0
PRODID:-//The Velvet Note - ECPv6.15.20//NONSGML v1.0//EN
CALSCALE:GREGORIAN
METHOD:PUBLISH
X-ORIGINAL-URL:https://thevelvetnote.com
X-WR-CALDESC:Events for The Velvet Note
REFRESH-INTERVAL;VALUE=DURATION:PT1H
X-Robots-Tag:noindex
X-PUBLISHED-TTL:PT1H
BEGIN:VTIMEZONE
TZID:America/New_York
BEGIN:DAYLIGHT
TZOFFSETFROM:-0500
TZOFFSETTO:-0400
TZNAME:EDT
DTSTART:20240310T070000
END:DAYLIGHT
BEGIN:STANDARD
TZOFFSETFROM:-0400
TZOFFSETTO:-0500
TZNAME:EST
DTSTART:20241103T060000
END:STANDARD
BEGIN:DAYLIGHT
TZOFFSETFROM:-0500
TZOFFSETTO:-0400
TZNAME:EDT
DTSTART:20250309T070000
END:DAYLIGHT
BEGIN:STANDARD
TZOFFSETFROM:-0400
TZOFFSETTO:-0500
TZNAME:EST
DTSTART:20251102T060000
END:STANDARD
BEGIN:DAYLIGHT
TZOFFSETFROM:-0500
TZOFFSETTO:-0400
TZNAME:EDT
DTSTART:20260308T070000
END:DAYLIGHT
BEGIN:STANDARD
TZOFFSETFROM:-0400
TZOFFSETTO:-0500
TZNAME:EST
DTSTART:20261101T060000
END:STANDARD
END:VTIMEZONE
BEGIN:VEVENT
DTSTART;TZID=America/New_York:20251031T193000
DTEND;TZID=America/New_York:20251031T230000
DTSTAMP:20260421T232825
CREATED:20250924T163355Z
LAST-MODIFIED:20251031T211659Z
UID:31139-1761939000-1761951600@thevelvetnote.com
SUMMARY:Toni Redd and Leonard Julien ***SOLD OUT!!   SOLD OUT!!   SOLD OUT!!  ***
DESCRIPTION:Spellbinding vocals meet velvet-smooth music this Halloween as internationally acclaimed songstress Toni Redd and the velvet-voiced Leonard Julien III light up The Velvet Note for a night of soulful chills and thrilling grooves. Slip into your sharpest Halloween fashion and let this powerhouse duo cast a musical spell from the first note to the last. \n\n\n\n\n    \n    \n\n\n\n\n\n    \n    \n\n\n\n\n\nVocal Power: Featuring Toni Redd\, an intense vocalist and R&B/Contemporary Jazz powerhouse often compared to the great Phyllis Hyman.\n\n\n\nThe Soul Crooner: Starring Leonard Julien III\, the “vocal extraordinaire” and soul balladeer known for his tremendous range and smooth\, emotional delivery.\n\n\n\nLegendary Credits: Leonard Julien’s credits include touring with Peabo Bryson and singing the voice of David Ruffin in The Temptations TV miniseries; Toni Redd has performed with Najee and Angela Bofill.\n\n\n\nA Sophisticated Halloween: Two separate showtimes to create the most bewitching and romantic vibe in town—perfect for a stylish date night.\n\n\n\n\nSHOWTIMES: 7:30PM & 9:30PM \n\n\n\n\nPurchase Tickets Now – $40
URL:https://thevelvetnote.com/event/halloween-friday-october-31st-toni-redd-and-leonard-julien/
ATTACH;FMTTYPE=image/jpeg:https://thevelvetnote.com/wp-content/uploads/2025/09/Screenshot-2025-10-20-151529.jpg
END:VEVENT
END:VCALENDAR