BEGIN:VCALENDAR
VERSION:2.0
PRODID:-//The Velvet Note - ECPv6.15.20//NONSGML v1.0//EN
CALSCALE:GREGORIAN
METHOD:PUBLISH
X-ORIGINAL-URL:https://thevelvetnote.com
X-WR-CALDESC:Events for The Velvet Note
REFRESH-INTERVAL;VALUE=DURATION:PT1H
X-Robots-Tag:noindex
X-PUBLISHED-TTL:PT1H
BEGIN:VTIMEZONE
TZID:America/New_York
BEGIN:DAYLIGHT
TZOFFSETFROM:-0500
TZOFFSETTO:-0400
TZNAME:EDT
DTSTART:20240310T070000
END:DAYLIGHT
BEGIN:STANDARD
TZOFFSETFROM:-0400
TZOFFSETTO:-0500
TZNAME:EST
DTSTART:20241103T060000
END:STANDARD
BEGIN:DAYLIGHT
TZOFFSETFROM:-0500
TZOFFSETTO:-0400
TZNAME:EDT
DTSTART:20250309T070000
END:DAYLIGHT
BEGIN:STANDARD
TZOFFSETFROM:-0400
TZOFFSETTO:-0500
TZNAME:EST
DTSTART:20251102T060000
END:STANDARD
BEGIN:DAYLIGHT
TZOFFSETFROM:-0500
TZOFFSETTO:-0400
TZNAME:EDT
DTSTART:20260308T070000
END:DAYLIGHT
BEGIN:STANDARD
TZOFFSETFROM:-0400
TZOFFSETTO:-0500
TZNAME:EST
DTSTART:20261101T060000
END:STANDARD
END:VTIMEZONE
BEGIN:VEVENT
DTSTART;TZID=America/New_York:20251024T193000
DTEND;TZID=America/New_York:20251024T230000
DTSTAMP:20260422T004042
CREATED:20251018T120536Z
LAST-MODIFIED:20251020T205215Z
UID:31307-1761334200-1761346800@thevelvetnote.com
SUMMARY:The Bill Hart Band
DESCRIPTION:Immerse yourself in the dynamic world of Contemporary Jazz and World Fusion as the acclaimed Bill Hart Band takes the stage with their electrifying\, masterful sound. Led by the renowned guitarist and author\, this band delivers complex compositions and sizzling improvisations that will thrill both jazz aficionados and guitar enthusiasts. \n\n\n\n\n    \n    \n\n\n\n\n\nInternational Jazz Fusion: The band delivers a powerful mix of Contemporary Jazz and World musical genres\, with a sound that is both technically brilliant and emotionally engaging.\n\n\n\nAcclaimed Educator: Bill Hart is the author of the essential tutorial “Solo Jazz Guitar: The Complete Chord Melody Method” (published by Hal Leonard)\, showcasing his deep understanding of the instrument.\n\n\n\nSix Studio Albums: He leads the Bill Hart Band\, which boasts a string of six stunning recordings\, demonstrating his prolific and consistent output as a composer.\n\n\n\nBuilt a Music Program: He is credited with building the guitar program at the Atlanta Institute of Music (AIMM) from the ground up\, making him a major figure in the Atlanta music community.\n\n\n\nMusician’s Musician: His educational work and complex arrangements appeal directly to serious music students and guitarists who appreciate technical mastery.\n\n\n\n\nSHOWTIMES: 7:30pm & 9:30pm \n\n\n\n\nPurchase Tickets Now – $40
URL:https://thevelvetnote.com/event/friday-october-24th-the-bill-hart-group/
LOCATION:The Velvet Note Main Stage\, 4075 Old Milton Parkway\, Alpharetta\, 30005\, United States
ATTACH;FMTTYPE=image/jpeg:https://thevelvetnote.com/wp-content/uploads/2025/10/0813083D-99AD-4B89-B960-EFFAC107C931-edited-1.jpeg
END:VEVENT
END:VCALENDAR