BEGIN:VCALENDAR
VERSION:2.0
PRODID:-//The Velvet Note - ECPv6.15.20//NONSGML v1.0//EN
CALSCALE:GREGORIAN
METHOD:PUBLISH
X-WR-CALNAME:The Velvet Note
X-ORIGINAL-URL:https://thevelvetnote.com
X-WR-CALDESC:Events for The Velvet Note
REFRESH-INTERVAL;VALUE=DURATION:PT1H
X-Robots-Tag:noindex
X-PUBLISHED-TTL:PT1H
BEGIN:VTIMEZONE
TZID:America/New_York
BEGIN:DAYLIGHT
TZOFFSETFROM:-0500
TZOFFSETTO:-0400
TZNAME:EDT
DTSTART:20240310T070000
END:DAYLIGHT
BEGIN:STANDARD
TZOFFSETFROM:-0400
TZOFFSETTO:-0500
TZNAME:EST
DTSTART:20241103T060000
END:STANDARD
BEGIN:DAYLIGHT
TZOFFSETFROM:-0500
TZOFFSETTO:-0400
TZNAME:EDT
DTSTART:20250309T070000
END:DAYLIGHT
BEGIN:STANDARD
TZOFFSETFROM:-0400
TZOFFSETTO:-0500
TZNAME:EST
DTSTART:20251102T060000
END:STANDARD
BEGIN:DAYLIGHT
TZOFFSETFROM:-0500
TZOFFSETTO:-0400
TZNAME:EDT
DTSTART:20260308T070000
END:DAYLIGHT
BEGIN:STANDARD
TZOFFSETFROM:-0400
TZOFFSETTO:-0500
TZNAME:EST
DTSTART:20261101T060000
END:STANDARD
END:VTIMEZONE
BEGIN:VEVENT
DTSTART;TZID=America/New_York:20251017T193000
DTEND;TZID=America/New_York:20251018T230000
DTSTAMP:20260422T003801
CREATED:20251006T234421Z
LAST-MODIFIED:20251020T013733Z
UID:31174-1760729400-1760828400@thevelvetnote.com
SUMMARY:Legendary Trumpeter Longineau Parsons\, II
DESCRIPTION:FRIDAY AND SATURDAY SHOWTIMES:   7:30PM & 9:30PM.  Longineu Warren Parsons II is a highly accomplished and versatile musician whose life has been shaped by a deep love of both jazz and classical traditions. A classically trained trumpeter\, he holds degrees in music and composition (including advanced studies at the University of Florida)\, and has supplemented his grounding with jazz studies at Berklee. Over the course of a storied career\, he has performed and recorded with legends such as Nat Adderley\, Cab Calloway\, Sun Ra\, Branford Marsalis\, Nancy Wilson\, and Archie Shepp. Parsons is also an educator: he serves as an Associate Professor of Music at Florida A&M University\, where he mentors the next generation of musicians in trumpet\, composition\, and jazz studies.  \n\n\n\nWhen you come to see Longineu Parsons II perform\, you’ll experience a master interpreter\, one who not only honors musical traditions but also expands them. He often leads the Longineu Parsons Ensemble\, a band that has appeared at The Velvet Note in Alpharetta to great acclaim.  The ensemble has featured luminaries like Nat Adderley Jr. and talented supporting musicians drawn from Parsons’ rich musical network. Seeing him live at The Velvet Note means witnessing a dynamic\, soulful\, and deeply expressive concert — one that blends technical brilliance with emotional depth. I warmly encourage you to take in a show there: prepare to be moved by one of jazz’s truly multifaceted voices. \n\n\n\n\nPurchase Tickets Now – $44
URL:https://thevelvetnote.com/event/friday-and-saturday-october-17th-18th-legendary-trumpeter-longineau-parsons-ii/
LOCATION:The Velvet Note Main Stage\, 4075 Old Milton Parkway\, Alpharetta\, 30005\, United States
ATTACH;FMTTYPE=image/jpeg:https://thevelvetnote.com/wp-content/uploads/2025/10/465860373_28365554513044061_21378478536418488_n.jpeg
END:VEVENT
END:VCALENDAR