BEGIN:VCALENDAR
VERSION:2.0
PRODID:-//The Velvet Note - ECPv6.15.20//NONSGML v1.0//EN
CALSCALE:GREGORIAN
METHOD:PUBLISH
X-WR-CALNAME:The Velvet Note
X-ORIGINAL-URL:https://thevelvetnote.com
X-WR-CALDESC:Events for The Velvet Note
REFRESH-INTERVAL;VALUE=DURATION:PT1H
X-Robots-Tag:noindex
X-PUBLISHED-TTL:PT1H
BEGIN:VTIMEZONE
TZID:America/New_York
BEGIN:DAYLIGHT
TZOFFSETFROM:-0500
TZOFFSETTO:-0400
TZNAME:EDT
DTSTART:20240310T070000
END:DAYLIGHT
BEGIN:STANDARD
TZOFFSETFROM:-0400
TZOFFSETTO:-0500
TZNAME:EST
DTSTART:20241103T060000
END:STANDARD
BEGIN:DAYLIGHT
TZOFFSETFROM:-0500
TZOFFSETTO:-0400
TZNAME:EDT
DTSTART:20250309T070000
END:DAYLIGHT
BEGIN:STANDARD
TZOFFSETFROM:-0400
TZOFFSETTO:-0500
TZNAME:EST
DTSTART:20251102T060000
END:STANDARD
BEGIN:DAYLIGHT
TZOFFSETFROM:-0500
TZOFFSETTO:-0400
TZNAME:EDT
DTSTART:20260308T070000
END:DAYLIGHT
BEGIN:STANDARD
TZOFFSETFROM:-0400
TZOFFSETTO:-0500
TZNAME:EST
DTSTART:20261101T060000
END:STANDARD
END:VTIMEZONE
BEGIN:VEVENT
DTSTART;TZID=America/New_York:20251012T190000
DTEND;TZID=America/New_York:20251012T210000
DTSTAMP:20260422T003712
CREATED:20251006T012135Z
LAST-MODIFIED:20251008T191541Z
UID:31170-1760295600-1760302800@thevelvetnote.com
SUMMARY:Sunday\, October 12th:  Blues and Soul Artist Byron Henry Rose
DESCRIPTION:SHOWTIME: 7:00PM. Byron Henry Rose is a gifted vocalist and songwriter whose warm tone\, impeccable phrasing\, and soulful delivery have captivated audiences across the Southeast. Steeped in the traditions of jazz\, blues\, R&B\, and gospel\, Byron brings a fresh sensibility to every performance—effortlessly blending timeless standards with original compositions. His artistry reflects both a deep respect for the legends who came before him and a fearless commitment to creating music that speaks to today’s listeners. \n\n\n\nOn stage\, Byron exudes a magnetic presence that draws audiences into his world of rhythm and storytelling. Whether interpreting a classic ballad or delivering an upbeat groove\, he connects with listeners through both technical mastery and heartfelt emotion. With growing recognition as a rising voice in contemporary music\, Byron Henry Rose continues to establish himself as a dynamic performer who honors the past while shaping the future of the genre.
URL:https://thevelvetnote.com/event/sunday-october-12th-blues-and-soul-artist-byron-henry-rose/
LOCATION:The Velvet Note Main Stage\, 4075 Old Milton Parkway\, Alpharetta\, 30005\, United States
ATTACH;FMTTYPE=image/jpeg:https://thevelvetnote.com/wp-content/uploads/2025/09/8218901920683049573.jpeg
END:VEVENT
END:VCALENDAR