BEGIN:VCALENDAR
VERSION:2.0
PRODID:-//The Velvet Note - ECPv6.15.20//NONSGML v1.0//EN
CALSCALE:GREGORIAN
METHOD:PUBLISH
X-ORIGINAL-URL:https://thevelvetnote.com
X-WR-CALDESC:Events for The Velvet Note
REFRESH-INTERVAL;VALUE=DURATION:PT1H
X-Robots-Tag:noindex
X-PUBLISHED-TTL:PT1H
BEGIN:VTIMEZONE
TZID:America/New_York
BEGIN:DAYLIGHT
TZOFFSETFROM:-0500
TZOFFSETTO:-0400
TZNAME:EDT
DTSTART:20240310T070000
END:DAYLIGHT
BEGIN:STANDARD
TZOFFSETFROM:-0400
TZOFFSETTO:-0500
TZNAME:EST
DTSTART:20241103T060000
END:STANDARD
BEGIN:DAYLIGHT
TZOFFSETFROM:-0500
TZOFFSETTO:-0400
TZNAME:EDT
DTSTART:20250309T070000
END:DAYLIGHT
BEGIN:STANDARD
TZOFFSETFROM:-0400
TZOFFSETTO:-0500
TZNAME:EST
DTSTART:20251102T060000
END:STANDARD
BEGIN:DAYLIGHT
TZOFFSETFROM:-0500
TZOFFSETTO:-0400
TZNAME:EDT
DTSTART:20260308T070000
END:DAYLIGHT
BEGIN:STANDARD
TZOFFSETFROM:-0400
TZOFFSETTO:-0500
TZNAME:EST
DTSTART:20261101T060000
END:STANDARD
END:VTIMEZONE
BEGIN:VEVENT
DTSTART;TZID=America/New_York:20251011T193000
DTEND;TZID=America/New_York:20251011T230000
DTSTAMP:20260422T004128
CREATED:20251001T023540Z
LAST-MODIFIED:20251001T023541Z
UID:31151-1760211000-1760223600@thevelvetnote.com
SUMMARY:Saturday\, October 11th:  The Nat George Group Celebrates the Music of Al Jarreau
DESCRIPTION:SHOWTIMES: 7:30pm and 9:30pm. The Nat George Group brings the timeless music of the legendary Al Jarreau to life with passion\, precision\, and soul. Al Jarreau (1940–2017) was a seven-time Grammy Award–winning vocalist celebrated for his unmatched versatility across jazz\, pop\, and R&B. With a career spanning more than four decades\, his smooth\, expressive style and groundbreaking vocal improvisations made him one of the most distinctive and beloved voices in modern music. \n\n\n\nKnown for their dynamic performances and heartfelt musicianship\, this The Nat George Group captures the spirit of Jarreau’s groundbreaking career\, weaving together jazz\, pop\, and R&B in a way that delights both longtime fans and new audiences. With Nat George’s rich vocals at the center\, the group delivers beloved classics like We’re in This Love Together and After All while honoring the innovation and artistry that made Jarreau one of the most unique voices in modern music.
URL:https://thevelvetnote.com/event/saturday-october-11th-the-nat-george-group-celebrates-the-music-of-al-jarreau/
LOCATION:The Velvet Note Main Stage\, 4075 Old Milton Parkway\, Alpharetta\, 30005\, United States
ATTACH;FMTTYPE=image/jpeg:https://thevelvetnote.com/wp-content/uploads/2025/09/Saturday-October-11th-2.jpg
END:VEVENT
END:VCALENDAR