BEGIN:VCALENDAR
VERSION:2.0
PRODID:-//The Velvet Note - ECPv6.15.20//NONSGML v1.0//EN
CALSCALE:GREGORIAN
METHOD:PUBLISH
X-WR-CALNAME:The Velvet Note
X-ORIGINAL-URL:https://thevelvetnote.com
X-WR-CALDESC:Events for The Velvet Note
REFRESH-INTERVAL;VALUE=DURATION:PT1H
X-Robots-Tag:noindex
X-PUBLISHED-TTL:PT1H
BEGIN:VTIMEZONE
TZID:America/New_York
BEGIN:DAYLIGHT
TZOFFSETFROM:-0500
TZOFFSETTO:-0400
TZNAME:EDT
DTSTART:20240310T070000
END:DAYLIGHT
BEGIN:STANDARD
TZOFFSETFROM:-0400
TZOFFSETTO:-0500
TZNAME:EST
DTSTART:20241103T060000
END:STANDARD
BEGIN:DAYLIGHT
TZOFFSETFROM:-0500
TZOFFSETTO:-0400
TZNAME:EDT
DTSTART:20250309T070000
END:DAYLIGHT
BEGIN:STANDARD
TZOFFSETFROM:-0400
TZOFFSETTO:-0500
TZNAME:EST
DTSTART:20251102T060000
END:STANDARD
BEGIN:DAYLIGHT
TZOFFSETFROM:-0500
TZOFFSETTO:-0400
TZNAME:EDT
DTSTART:20260308T070000
END:DAYLIGHT
BEGIN:STANDARD
TZOFFSETFROM:-0400
TZOFFSETTO:-0500
TZNAME:EST
DTSTART:20261101T060000
END:STANDARD
END:VTIMEZONE
BEGIN:VEVENT
DTSTART;TZID=America/New_York:20251004T193000
DTEND;TZID=America/New_York:20251004T230000
DTSTAMP:20260422T003648
CREATED:20250716T052032Z
LAST-MODIFIED:20251003T143945Z
UID:30898-1759606200-1759618800@thevelvetnote.com
SUMMARY:Saturday\, October 4th:  The Afro-Caribbean Jazz Collective. *** SOLD OUT!!  SOLD OUT!!  SOLD OUT!!  SOLD OUT!!!***
DESCRIPTION:SHOWTIMES: 7:30PM AND 9:30PM. Led by guitarist Jose Guzman\, The Collective compositions reflect Guzman’s musical heritage with rhythms from Puerto Rico mixed with the sophistication of modern jazz. The ensemble’s third album\, “Fiesta at Caroga\,” has been making waves in the jazz world. It’s been featured on jazz radio stations across the country\, received glowing reviews from music critics\, and charted on JazzWeek’s Top 100 Jazz Albums of 2024. \n\n\n\nListen to the Collective HERE
URL:https://thevelvetnote.com/event/saturday-october-4th-the-afro-caribbean-jazz-collective/
LOCATION:The Velvet Note Main Stage\, 4075 Old Milton Parkway\, Alpharetta\, 30005\, United States
ATTACH;FMTTYPE=image/jpeg:https://thevelvetnote.com/wp-content/uploads/2025/07/a1823053092_10.jpeg
END:VEVENT
END:VCALENDAR