BEGIN:VCALENDAR
VERSION:2.0
PRODID:-//The Velvet Note - ECPv6.15.20//NONSGML v1.0//EN
CALSCALE:GREGORIAN
METHOD:PUBLISH
X-ORIGINAL-URL:https://thevelvetnote.com
X-WR-CALDESC:Events for The Velvet Note
REFRESH-INTERVAL;VALUE=DURATION:PT1H
X-Robots-Tag:noindex
X-PUBLISHED-TTL:PT1H
BEGIN:VTIMEZONE
TZID:America/New_York
BEGIN:DAYLIGHT
TZOFFSETFROM:-0500
TZOFFSETTO:-0400
TZNAME:EDT
DTSTART:20240310T070000
END:DAYLIGHT
BEGIN:STANDARD
TZOFFSETFROM:-0400
TZOFFSETTO:-0500
TZNAME:EST
DTSTART:20241103T060000
END:STANDARD
BEGIN:DAYLIGHT
TZOFFSETFROM:-0500
TZOFFSETTO:-0400
TZNAME:EDT
DTSTART:20250309T070000
END:DAYLIGHT
BEGIN:STANDARD
TZOFFSETFROM:-0400
TZOFFSETTO:-0500
TZNAME:EST
DTSTART:20251102T060000
END:STANDARD
BEGIN:DAYLIGHT
TZOFFSETFROM:-0500
TZOFFSETTO:-0400
TZNAME:EDT
DTSTART:20260308T070000
END:DAYLIGHT
BEGIN:STANDARD
TZOFFSETFROM:-0400
TZOFFSETTO:-0500
TZNAME:EST
DTSTART:20261101T060000
END:STANDARD
END:VTIMEZONE
BEGIN:VEVENT
DTSTART;TZID=America/New_York:20250919T193000
DTEND;TZID=America/New_York:20250919T230000
DTSTAMP:20260422T015936
CREATED:20250820T031706Z
LAST-MODIFIED:20250820T031707Z
UID:31033-1758310200-1758322800@thevelvetnote.com
SUMMARY:Friday\, September 19th:  Breakout Star of The Year--Nijah Poteat
DESCRIPTION:SHOWTIMES: 7:30PM AND 9:30PM. Nijah Poteat is a professional singer-songwriter based in Atlanta\, Georgia. Originally from North Carolina\, she studied music and creative writing at the UNC Chapel Hill\, class of 2024. Her love for singing and the arts is a family inheritance\, passed down from her mother. She considers her influences to be gospel\, jazz and R&B. Come out and see and hear our pick for Breakout Star of The Year!
URL:https://thevelvetnote.com/event/friday-september-19th-breakout-star-of-the-year-nijah-poteat/
LOCATION:The Velvet Note Main Stage\, 4075 Old Milton Parkway\, Alpharetta\, 30005\, United States
ATTACH;FMTTYPE=image/jpeg:https://thevelvetnote.com/wp-content/uploads/2025/08/Unknown-1.jpeg
END:VEVENT
END:VCALENDAR