BEGIN:VCALENDAR
VERSION:2.0
PRODID:-//The Velvet Note - ECPv6.15.20//NONSGML v1.0//EN
CALSCALE:GREGORIAN
METHOD:PUBLISH
X-ORIGINAL-URL:https://thevelvetnote.com
X-WR-CALDESC:Events for The Velvet Note
REFRESH-INTERVAL;VALUE=DURATION:PT1H
X-Robots-Tag:noindex
X-PUBLISHED-TTL:PT1H
BEGIN:VTIMEZONE
TZID:America/New_York
BEGIN:DAYLIGHT
TZOFFSETFROM:-0500
TZOFFSETTO:-0400
TZNAME:EDT
DTSTART:20240310T070000
END:DAYLIGHT
BEGIN:STANDARD
TZOFFSETFROM:-0400
TZOFFSETTO:-0500
TZNAME:EST
DTSTART:20241103T060000
END:STANDARD
BEGIN:DAYLIGHT
TZOFFSETFROM:-0500
TZOFFSETTO:-0400
TZNAME:EDT
DTSTART:20250309T070000
END:DAYLIGHT
BEGIN:STANDARD
TZOFFSETFROM:-0400
TZOFFSETTO:-0500
TZNAME:EST
DTSTART:20251102T060000
END:STANDARD
BEGIN:DAYLIGHT
TZOFFSETFROM:-0500
TZOFFSETTO:-0400
TZNAME:EDT
DTSTART:20260308T070000
END:DAYLIGHT
BEGIN:STANDARD
TZOFFSETFROM:-0400
TZOFFSETTO:-0500
TZNAME:EST
DTSTART:20261101T060000
END:STANDARD
END:VTIMEZONE
BEGIN:VEVENT
DTSTART;TZID=America/New_York:20250907T183000
DTEND;TZID=America/New_York:20250907T220000
DTSTAMP:20260422T015045
CREATED:20250825T192756Z
LAST-MODIFIED:20250907T175336Z
UID:31046-1757269800-1757282400@thevelvetnote.com
SUMMARY:Sunday\, September 7th:  Ben Flournoy
DESCRIPTION:SHOWTIMES: 6:30P & 8:30P. — ALL AGES WELCOMED– The Velvet Note spotlights the electrifying talent of Ben Flournoy\, a rising star in the blues and soul tradition. With roots that run deep in the Southern soundscape\, Flournoy brings a fiery blend of guitar mastery\, gritty vocals\, and raw emotional storytelling to the stage. His playing style channels the spirit of the great bluesmen while adding his own fresh edge—equal parts intensity and finesse—that keeps audiences hanging on every note. Well-known in his native Florida\, Ben is A Complete Unknown in the north Georgia area\, and fans look forward to him delivering a performance that is as authentic as it is unforgettable. \n\n\n\nEnjoy Ben’s video So Beautiful here: https://youtu.be/693JstYlhTc?si=Yzce0n7ru4_74RbK \n\n\n\nBeyond his technical brilliance\, Flournoy has built a reputation for connecting with his audiences in a way that feels both personal and powerful. Each song tells a story drawn from life\, love\, struggle\, and triumph\, and he brings those stories to life with honesty and passion. His shows are not just concerts—they’re experiences that invite listeners into the heart of the blues while leaving them energized and inspired. At The Velvet Note\, expect nothing less than a night of soul-stirring music and a performance that proves why Ben Flournoy is one to watch on today’s blues scene.
URL:https://thevelvetnote.com/event/sunday-september-7th-ben-flournoy/
LOCATION:The Velvet Note Main Stage\, 4075 Old Milton Parkway\, Alpharetta\, 30005\, United States
ATTACH;FMTTYPE=image/jpeg:https://thevelvetnote.com/wp-content/uploads/2025/08/Add-a-heading-4.jpg
END:VEVENT
END:VCALENDAR