BEGIN:VCALENDAR
VERSION:2.0
PRODID:-//The Velvet Note - ECPv6.15.20//NONSGML v1.0//EN
CALSCALE:GREGORIAN
METHOD:PUBLISH
X-ORIGINAL-URL:https://thevelvetnote.com
X-WR-CALDESC:Events for The Velvet Note
REFRESH-INTERVAL;VALUE=DURATION:PT1H
X-Robots-Tag:noindex
X-PUBLISHED-TTL:PT1H
BEGIN:VTIMEZONE
TZID:America/New_York
BEGIN:DAYLIGHT
TZOFFSETFROM:-0500
TZOFFSETTO:-0400
TZNAME:EDT
DTSTART:20240310T070000
END:DAYLIGHT
BEGIN:STANDARD
TZOFFSETFROM:-0400
TZOFFSETTO:-0500
TZNAME:EST
DTSTART:20241103T060000
END:STANDARD
BEGIN:DAYLIGHT
TZOFFSETFROM:-0500
TZOFFSETTO:-0400
TZNAME:EDT
DTSTART:20250309T070000
END:DAYLIGHT
BEGIN:STANDARD
TZOFFSETFROM:-0400
TZOFFSETTO:-0500
TZNAME:EST
DTSTART:20251102T060000
END:STANDARD
BEGIN:DAYLIGHT
TZOFFSETFROM:-0500
TZOFFSETTO:-0400
TZNAME:EDT
DTSTART:20260308T070000
END:DAYLIGHT
BEGIN:STANDARD
TZOFFSETFROM:-0400
TZOFFSETTO:-0500
TZNAME:EST
DTSTART:20261101T060000
END:STANDARD
END:VTIMEZONE
BEGIN:VEVENT
DTSTART;TZID=America/New_York:20250822T193000
DTEND;TZID=America/New_York:20250823T230000
DTSTAMP:20260422T031004
CREATED:20250624T225248Z
LAST-MODIFIED:20250815T163423Z
UID:30847-1755891000-1755990000@thevelvetnote.com
SUMMARY:Friday & Saturday\,  August 22nd and 23rd:  Timeless! Starring American Idol's LaToya London and Eric Moore *** SOLD OUT!!  ***
DESCRIPTION:SHOWTIMES: 7:30PM AND 9:30PM. “Timeless: A Soulful Evening of Classic Duets starring American Idol’s LaToya London & Eric Moore” \n\n\n\nLaToya London is an American singer\, songwriter\, and actress who rose to national prominence as a finalist on Season 3 of American Idol in 2004. Hailing from Oakland\, California\, London impressed audiences with her powerful voice and emotional range\, earning her a place among the season’s standout “Three Divas\,” alongside Fantasia Barrino and Jennifer Hudson. Her debut album\, Love & Life\, released in 2005\, showcased her blend of R&B\, soul\, and jazz\, and featured collaborations with artists like Black Thought. Since then\, she has continued to evolve artistically\, releasing music independently and maintaining a loyal fanbase through her label RS Music Group. \n\n\n\nIn addition to her musical accomplishments\, London has built a successful career on stage. She earned critical acclaim for her performances in major theatrical productions\, including The Color Purple\, where she portrayed both Nettie and Shug Avery\, and The Bodyguard\, where she starred as Rachel Marron. Her work has earned her Ovation Award recognition and NAACP Theater nominations. A vocal coach and mentor to rising artists\, LaToya London remains a dynamic presence in both the music and theater worlds\, known for her authenticity\, artistry\, and enduring passion for performance. \n\n\n\nEric Moore is an accomplished singer\, actor\, and musical director originally from Atlanta\, Georgia. He has been performing professionally since 1986\, showcasing a versatile vocal style that spans traditional and contemporary jazz\, gospel\, hip‑hop\, and even bluegrass thevelvetnote.com. In 1995\, he made his acting debut in Cotton Patch Gospel with Theatrical Outfit\, launching a prolific stage career that includes standout roles in regional and national productions such as Jesus Christ Superstar\, Once on This Island\, Big River\, Man of La Mancha\, and Tambourines to Glory thevelvetnote.com. Beyond the stage\, Eric has performed widely—on television\, radio\, and in high-profile live events like the 1996 Summer Olympics\, the 2004 Olympic Torch Relay celebration\, and numerous charity galas—cementing his reputation as a dynamic and engaging performer. \n\n\n\nThis is a one-of-a -kind show of duets that you want to be sure to catch!
URL:https://thevelvetnote.com/event/friday-saturday-august-22nd-and-23rd-timeless-starring-american-idols-latoya-london-and-eric-moore/
LOCATION:The Velvet Note Main Stage\, 4075 Old Milton Parkway\, Alpharetta\, 30005\, United States
ATTACH;FMTTYPE=image/jpeg:https://thevelvetnote.com/wp-content/uploads/2025/06/DC9F49E9-616E-44D1-A35E-0689A1A2355A.jpeg
END:VEVENT
END:VCALENDAR