BEGIN:VCALENDAR
VERSION:2.0
PRODID:-//The Velvet Note - ECPv6.15.20//NONSGML v1.0//EN
CALSCALE:GREGORIAN
METHOD:PUBLISH
X-WR-CALNAME:The Velvet Note
X-ORIGINAL-URL:https://thevelvetnote.com
X-WR-CALDESC:Events for The Velvet Note
REFRESH-INTERVAL;VALUE=DURATION:PT1H
X-Robots-Tag:noindex
X-PUBLISHED-TTL:PT1H
BEGIN:VTIMEZONE
TZID:America/New_York
BEGIN:DAYLIGHT
TZOFFSETFROM:-0500
TZOFFSETTO:-0400
TZNAME:EDT
DTSTART:20240310T070000
END:DAYLIGHT
BEGIN:STANDARD
TZOFFSETFROM:-0400
TZOFFSETTO:-0500
TZNAME:EST
DTSTART:20241103T060000
END:STANDARD
BEGIN:DAYLIGHT
TZOFFSETFROM:-0500
TZOFFSETTO:-0400
TZNAME:EDT
DTSTART:20250309T070000
END:DAYLIGHT
BEGIN:STANDARD
TZOFFSETFROM:-0400
TZOFFSETTO:-0500
TZNAME:EST
DTSTART:20251102T060000
END:STANDARD
BEGIN:DAYLIGHT
TZOFFSETFROM:-0500
TZOFFSETTO:-0400
TZNAME:EDT
DTSTART:20260308T070000
END:DAYLIGHT
BEGIN:STANDARD
TZOFFSETFROM:-0400
TZOFFSETTO:-0500
TZNAME:EST
DTSTART:20261101T060000
END:STANDARD
END:VTIMEZONE
BEGIN:VEVENT
DTSTART;TZID=America/New_York:20250816T193000
DTEND;TZID=America/New_York:20250816T230000
DTSTAMP:20260422T030852
CREATED:20250812T162622Z
LAST-MODIFIED:20250812T163034Z
UID:30985-1755372600-1755385200@thevelvetnote.com
SUMMARY:Saturday\, August 16th:  Cruz The Dame
DESCRIPTION:Showtimes: 7:30pm and 9:30pm. CRUZ The Dame is a rising recording artist and songwriter celebrated for her genre-defying music that blends the essence of old soul with a fresh\, contemporary sound. \n\n\n\nOn Saturday\, August 16th\, The Velvet Note turns up the heat with the arrival of Cruz The Dame\, the fearless songstress whose voice and presence command every inch of the room. Known for her bold\, genre-bending style\, Cruz blends elements of jazz\, soul\, blues\, and a hint of rock to create a sound that is as captivating as it is unpredictable. \n\n\n\nCruz The Dame doesn’t just perform—she owns the stage. With a smoky\, powerhouse voice and a magnetic energy that draws you in from the first note\, she delivers every song like it’s a personal confession. Whether she’s reimagining a jazz classic\, sliding into a slow-burning ballad\, or unleashing an up-tempo anthem\, Cruz infuses it with raw emotion and unmistakable style. \n\n\n\nThis is not background music. This is an immersive\, high-voltage performance that will make you feel every lyric\, every riff\, every beat. And in the intimate\, acoustically perfect setting of The Velvet Note\, you’ll be close enough to catch every wink\, smile\, and spontaneous moment that makes a Cruz The Dame show unforgettable.
URL:https://thevelvetnote.com/event/saturday-august-16th-cruz-the-dame/
LOCATION:The Velvet Note Main Stage\, 4075 Old Milton Parkway\, Alpharetta\, 30005\, United States
ATTACH;FMTTYPE=image/jpeg:https://thevelvetnote.com/wp-content/uploads/2025/08/images.jpeg
END:VEVENT
END:VCALENDAR