BEGIN:VCALENDAR
VERSION:2.0
PRODID:-//The Velvet Note - ECPv6.15.20//NONSGML v1.0//EN
CALSCALE:GREGORIAN
METHOD:PUBLISH
X-ORIGINAL-URL:https://thevelvetnote.com
X-WR-CALDESC:Events for The Velvet Note
REFRESH-INTERVAL;VALUE=DURATION:PT1H
X-Robots-Tag:noindex
X-PUBLISHED-TTL:PT1H
BEGIN:VTIMEZONE
TZID:America/New_York
BEGIN:DAYLIGHT
TZOFFSETFROM:-0500
TZOFFSETTO:-0400
TZNAME:EDT
DTSTART:20240310T070000
END:DAYLIGHT
BEGIN:STANDARD
TZOFFSETFROM:-0400
TZOFFSETTO:-0500
TZNAME:EST
DTSTART:20241103T060000
END:STANDARD
BEGIN:DAYLIGHT
TZOFFSETFROM:-0500
TZOFFSETTO:-0400
TZNAME:EDT
DTSTART:20250309T070000
END:DAYLIGHT
BEGIN:STANDARD
TZOFFSETFROM:-0400
TZOFFSETTO:-0500
TZNAME:EST
DTSTART:20251102T060000
END:STANDARD
BEGIN:DAYLIGHT
TZOFFSETFROM:-0500
TZOFFSETTO:-0400
TZNAME:EDT
DTSTART:20260308T070000
END:DAYLIGHT
BEGIN:STANDARD
TZOFFSETFROM:-0400
TZOFFSETTO:-0500
TZNAME:EST
DTSTART:20261101T060000
END:STANDARD
END:VTIMEZONE
BEGIN:VEVENT
DTSTART;TZID=America/New_York:20250725T193000
DTEND;TZID=America/New_York:20250725T230000
DTSTAMP:20260422T043601
CREATED:20250716T132730Z
LAST-MODIFIED:20250716T132751Z
UID:30905-1753471800-1753484400@thevelvetnote.com
SUMMARY:Friday\, July 25th:   Jennifer Wrobleski
DESCRIPTION:SHOWTIMES: 7:30PM AND 9:30PM. With Louis Heriveaux Kevin Smith and Dave Potter. Born in Pittsburgh\, PA\, Ms. Wrobleski has lived up and down the east coast. She studied opera at the New England Conservatory of Music and musical theatre at the Boston Conservatory of Music.  \n\n\n\nAfter school\, she began her singing career with The Walt Disney Company in Orlando\, FL. As the character\, Cinderella\, she sang and danced in the Magic Kingdom’s Cinderella Surprise Celebration show. She also played the role of Belle in MGM’s Beauty & The Beast show. \n\n\n\nIn early 2005\, she formed a jazz quartet and performed throughout Florida and Georgia\, including Downtown Disney’s Pleasure Island Jazz Company\, the House of Blues Orlando\, Nikki Beach Miami\, Churchill Grounds Atlanta and Sambuca in Buckhead. \n\n\n\nLater\, having moved to NYC\, Ms. Wrobleski performed regularly with Harold Mabern Jr\, Joseph Farnsworth\, Eric Alexander\, John Webber\, Sharp Radway and Anthony Wonsey. Oftentimes\, she was a featured vocalist with the Harold Mabern Jr Trio at the Village Vanguard\, Dizzy’s Coca-Cola Club and clubs around the world including Greece\, Vienna\, Russia and Italy.  \n\n\n\nIn addition to the music\, Ms. Wrobleski is an avid painter. Her portrait of jazz legend\, Harold Mabern Jr is on display at Smalls Jazz Club NYC\, a portrait of Teddy Wilson is hanging on the walls at Mezzrow Jazz Club in NYC\, as well as a mural at the famed Harlem restaurant\, Charlie’s Bar & Kitchen.
URL:https://thevelvetnote.com/event/friday-july-25th-jennifer-wrobleski/
LOCATION:The Velvet Note Main Stage\, 4075 Old Milton Parkway\, Alpharetta\, 30005\, United States
ATTACH;FMTTYPE=image/jpeg:https://thevelvetnote.com/wp-content/uploads/2025/07/download.jpeg
END:VEVENT
END:VCALENDAR