BEGIN:VCALENDAR
VERSION:2.0
PRODID:-//The Velvet Note - ECPv6.15.20//NONSGML v1.0//EN
CALSCALE:GREGORIAN
METHOD:PUBLISH
X-WR-CALNAME:The Velvet Note
X-ORIGINAL-URL:https://thevelvetnote.com
X-WR-CALDESC:Events for The Velvet Note
REFRESH-INTERVAL;VALUE=DURATION:PT1H
X-Robots-Tag:noindex
X-PUBLISHED-TTL:PT1H
BEGIN:VTIMEZONE
TZID:America/New_York
BEGIN:DAYLIGHT
TZOFFSETFROM:-0500
TZOFFSETTO:-0400
TZNAME:EDT
DTSTART:20240310T070000
END:DAYLIGHT
BEGIN:STANDARD
TZOFFSETFROM:-0400
TZOFFSETTO:-0500
TZNAME:EST
DTSTART:20241103T060000
END:STANDARD
BEGIN:DAYLIGHT
TZOFFSETFROM:-0500
TZOFFSETTO:-0400
TZNAME:EDT
DTSTART:20250309T070000
END:DAYLIGHT
BEGIN:STANDARD
TZOFFSETFROM:-0400
TZOFFSETTO:-0500
TZNAME:EST
DTSTART:20251102T060000
END:STANDARD
BEGIN:DAYLIGHT
TZOFFSETFROM:-0500
TZOFFSETTO:-0400
TZNAME:EDT
DTSTART:20260308T070000
END:DAYLIGHT
BEGIN:STANDARD
TZOFFSETFROM:-0400
TZOFFSETTO:-0500
TZNAME:EST
DTSTART:20261101T060000
END:STANDARD
END:VTIMEZONE
BEGIN:VEVENT
DTSTART;TZID=America/New_York:20250720T193000
DTEND;TZID=America/New_York:20250720T220000
DTSTAMP:20260422T043402
CREATED:20250714T200440Z
LAST-MODIFIED:20250714T200702Z
UID:30889-1753039800-1753048800@thevelvetnote.com
SUMMARY:Sunday\, July 20th:  Sunday Night Blues Starring the ATL Blues Cartel
DESCRIPTION:ONE SHOW ONLY! 7:30! Atlanta’s blues scene just got a major upgrade\, and you don’t want to miss it. Introducing The ATL BluesCartel\, a powerhouse collaboration between two of the city’s most exciting blues artists: Garrett Collins of the Garrett Collins Project\, and Cannonball Red of Cannonball Red & the Head Hunters. Oh…and we’ve also got Saxophonist Steve Arnold! \n\n\n\nThese two seasoned bandleaders have already made waves in the Atlanta music scene\, and now they’ve joined forces to bring you an unforgettable live blues experience. Garrett Collins recently won the prestigious 2024 Atlanta Blues Challenge and competed in Memphis for the 2025 International BluesCompetition\, and Cannonball Red just rocked the Juke Joint Blues Festival in Clarksdale\, Mississippi\, you know you’re in for something special when these two take the stage together. \n\n\n\nThe ATL Blues Cartel has secured a residency at The Velvet Note\, an award-winning jazz club in Alpharetta\, GA. Every Sunday night (except major holidays)\, this dynamic duo will be bringing you raw\, soulful blues at its finest. Doors open at 6:30 PM\, with the music starting at 7:30 PM. Whether you’re a long-time bluesaficionado or a newcomer to the scene\, this is your chance to experience the heart and soul of real bluesmusic in an intimate\, unforgettable setting. \n\n\n\nTell your friends\, grab your seats\, and be part of the magic! The Velvet Note offers the perfect atmosphere to vibe out to the incredible guitar slinging of Cannonball Red and Garrett Collins\, and we promise you’ll want to come back for more. \n\n\n\nDon’t miss out on what’s sure to become a legendary residency. Mark your calendars\, spread the word\, and let’s make Sunday nights at The Velvet Note the place to be for blues lovers!
URL:https://thevelvetnote.com/event/sunday-july-20th-sunday-night-blues-starring-the-atl-blues-cartel/
LOCATION:The Velvet Note Main Stage\, 4075 Old Milton Parkway\, Alpharetta\, 30005\, United States
ATTACH;FMTTYPE=image/png:https://thevelvetnote.com/wp-content/uploads/2025/05/live-1.png-1.png
END:VEVENT
END:VCALENDAR