BEGIN:VCALENDAR
VERSION:2.0
PRODID:-//The Velvet Note - ECPv6.15.20//NONSGML v1.0//EN
CALSCALE:GREGORIAN
METHOD:PUBLISH
X-ORIGINAL-URL:https://thevelvetnote.com
X-WR-CALDESC:Events for The Velvet Note
REFRESH-INTERVAL;VALUE=DURATION:PT1H
X-Robots-Tag:noindex
X-PUBLISHED-TTL:PT1H
BEGIN:VTIMEZONE
TZID:America/New_York
BEGIN:DAYLIGHT
TZOFFSETFROM:-0500
TZOFFSETTO:-0400
TZNAME:EDT
DTSTART:20240310T070000
END:DAYLIGHT
BEGIN:STANDARD
TZOFFSETFROM:-0400
TZOFFSETTO:-0500
TZNAME:EST
DTSTART:20241103T060000
END:STANDARD
BEGIN:DAYLIGHT
TZOFFSETFROM:-0500
TZOFFSETTO:-0400
TZNAME:EDT
DTSTART:20250309T070000
END:DAYLIGHT
BEGIN:STANDARD
TZOFFSETFROM:-0400
TZOFFSETTO:-0500
TZNAME:EST
DTSTART:20251102T060000
END:STANDARD
BEGIN:DAYLIGHT
TZOFFSETFROM:-0500
TZOFFSETTO:-0400
TZNAME:EDT
DTSTART:20260308T070000
END:DAYLIGHT
BEGIN:STANDARD
TZOFFSETFROM:-0400
TZOFFSETTO:-0500
TZNAME:EST
DTSTART:20261101T060000
END:STANDARD
END:VTIMEZONE
BEGIN:VEVENT
DTSTART;TZID=America/New_York:20250718T193000
DTEND;TZID=America/New_York:20250718T230000
DTSTAMP:20260422T043601
CREATED:20250716T035200Z
LAST-MODIFIED:20250716T035315Z
UID:30895-1752867000-1752879600@thevelvetnote.com
SUMMARY:Friday\, July 18th:  The Tony Hightower Show
DESCRIPTION:SHOWTIMES: 7:30PM AND 9:30PM. Singer/Songwriter Tony Hightower is taking up the mantle to be a bridge that ushers R&B audiences into Jazz…Real Jazz. With years of experience as a musical performer and actor with familial roots that place him firmly within the music’s firmament\, Atlanta-native Hightower is still just getting started on this benevolent turn in his journey. And he is bringing a lot of young people with him. \n\n\n\nGrowing up in Atlanta with a local legend mother who was a Funk-Rock singer but could sing anything and mentored many singers coming behind her\, Tony learned music first-hand from Bobby Blue Bland and the Platters to Mother’s Finest\, S.O.S. Band and Brick. “My first jazz musical loves were Nat King Cole and Frank Sinatra\, This show explores the depth of that music\, and much more\, with some of my favorite band mates!”
URL:https://thevelvetnote.com/event/friday-july-18th-the-tony-hightower-show/
LOCATION:The Velvet Note Main Stage\, 4075 Old Milton Parkway\, Alpharetta\, 30005\, United States
ATTACH;FMTTYPE=image/jpeg:https://thevelvetnote.com/wp-content/uploads/2025/06/images-1.jpeg
END:VEVENT
END:VCALENDAR