BEGIN:VCALENDAR
VERSION:2.0
PRODID:-//The Velvet Note - ECPv6.15.20//NONSGML v1.0//EN
CALSCALE:GREGORIAN
METHOD:PUBLISH
X-ORIGINAL-URL:https://thevelvetnote.com
X-WR-CALDESC:Events for The Velvet Note
REFRESH-INTERVAL;VALUE=DURATION:PT1H
X-Robots-Tag:noindex
X-PUBLISHED-TTL:PT1H
BEGIN:VTIMEZONE
TZID:America/New_York
BEGIN:DAYLIGHT
TZOFFSETFROM:-0500
TZOFFSETTO:-0400
TZNAME:EDT
DTSTART:20240310T070000
END:DAYLIGHT
BEGIN:STANDARD
TZOFFSETFROM:-0400
TZOFFSETTO:-0500
TZNAME:EST
DTSTART:20241103T060000
END:STANDARD
BEGIN:DAYLIGHT
TZOFFSETFROM:-0500
TZOFFSETTO:-0400
TZNAME:EDT
DTSTART:20250309T070000
END:DAYLIGHT
BEGIN:STANDARD
TZOFFSETFROM:-0400
TZOFFSETTO:-0500
TZNAME:EST
DTSTART:20251102T060000
END:STANDARD
BEGIN:DAYLIGHT
TZOFFSETFROM:-0500
TZOFFSETTO:-0400
TZNAME:EDT
DTSTART:20260308T070000
END:DAYLIGHT
BEGIN:STANDARD
TZOFFSETFROM:-0400
TZOFFSETTO:-0500
TZNAME:EST
DTSTART:20261101T060000
END:STANDARD
END:VTIMEZONE
BEGIN:VEVENT
DTSTART;TZID=America/New_York:20250711T193000
DTEND;TZID=America/New_York:20250711T230000
DTSTAMP:20260422T043601
CREATED:20250616T194517Z
LAST-MODIFIED:20250710T172806Z
UID:30833-1752262200-1752274800@thevelvetnote.com
SUMMARY:Friday\, July 11th:  The Music of Chaka Khan Meets Jazz.   *** SOLD OUT!!  SOLD OUT!!  SOLD OUT!!  ***
DESCRIPTION:SHOWTIMES: 7:30PM AND 9:30PM. \n\n\n\nJoin us for a blend of Chaka Khan’s greatest hits and jazz covers with Jazz standards! \n\n\n\nChaka Khan grew up on Chicago’s South Side in a musical family. From a young age\, she was exposed to jazz legends like Miles Davis\, Billie Holiday\, John Coltrane\, and Dinah Washington—artists her parents listened to regularly. This early exposure shaped her musical sensibility\, especially her sense of phrasing\, vocal improvisation\, and harmonic complexity. \n\n\n\nAlthough Chaka Khan is best known for her work in funk\, soul\, and R&B—especially with Rufus and hits like “Tell Me Something Good”—her vocal style is deeply jazz-influenced. Her phrasing\, scatting ability\, and tonal control often reflect jazz traditions\, even in mainstream hits. \n\n\n\nPersonnel: \n\n\n\n-Edwin Williams\, bass \n\n\n\n-Walter B\, piano \n\n\n\n-Kenito Murray\, drums \n\n\n\n-Dennis Springer\, tenor sax \n\n\n\n-Tamika Howard\, MD\, flute and tenor sax  \n\n\n\n-Talein\, lead vocals \n\n\n\n-Travis “Songbird” Dillard\, back up vocals \n\n\n\n****.  SOLD OUT!!   SOLD OUT!!  SOLD OUT!!  ***
URL:https://thevelvetnote.com/event/friday-july-11th-the-music-of-chaka-khan-meets-jazz/
LOCATION:The Velvet Note Main Stage\, 4075 Old Milton Parkway\, Alpharetta\, 30005\, United States
ATTACH;FMTTYPE=image/jpeg:https://thevelvetnote.com/wp-content/uploads/2025/06/THE-MUSIC-OF.jpg
END:VEVENT
END:VCALENDAR