BEGIN:VCALENDAR
VERSION:2.0
PRODID:-//The Velvet Note - ECPv6.15.20//NONSGML v1.0//EN
CALSCALE:GREGORIAN
METHOD:PUBLISH
X-WR-CALNAME:The Velvet Note
X-ORIGINAL-URL:https://thevelvetnote.com
X-WR-CALDESC:Events for The Velvet Note
REFRESH-INTERVAL;VALUE=DURATION:PT1H
X-Robots-Tag:noindex
X-PUBLISHED-TTL:PT1H
BEGIN:VTIMEZONE
TZID:America/New_York
BEGIN:DAYLIGHT
TZOFFSETFROM:-0500
TZOFFSETTO:-0400
TZNAME:EDT
DTSTART:20240310T070000
END:DAYLIGHT
BEGIN:STANDARD
TZOFFSETFROM:-0400
TZOFFSETTO:-0500
TZNAME:EST
DTSTART:20241103T060000
END:STANDARD
BEGIN:DAYLIGHT
TZOFFSETFROM:-0500
TZOFFSETTO:-0400
TZNAME:EDT
DTSTART:20250309T070000
END:DAYLIGHT
BEGIN:STANDARD
TZOFFSETFROM:-0400
TZOFFSETTO:-0500
TZNAME:EST
DTSTART:20251102T060000
END:STANDARD
BEGIN:DAYLIGHT
TZOFFSETFROM:-0500
TZOFFSETTO:-0400
TZNAME:EDT
DTSTART:20260308T070000
END:DAYLIGHT
BEGIN:STANDARD
TZOFFSETFROM:-0400
TZOFFSETTO:-0500
TZNAME:EST
DTSTART:20261101T060000
END:STANDARD
END:VTIMEZONE
BEGIN:VEVENT
DTSTART;TZID=America/New_York:20250628T193000
DTEND;TZID=America/New_York:20250628T230000
DTSTAMP:20260422T055433
CREATED:20250625T230834Z
LAST-MODIFIED:20250625T230834Z
UID:30857-1751139000-1751151600@thevelvetnote.com
SUMMARY:Saturday\, June 28th:  Jazz on a G String
DESCRIPTION:SHOWTIMES:  7:30P AND 9:30P.     Two extraordinary musicians speak the musical language of strings in a night to remember at The Velvet Note! \n\n\n\nBill Hart is a celebrated jazz‑fusion guitarist\, composer\, bandleader\, and educator. He began playing guitar at age nine\, moved to the U.S. in his early teens\, and by 16 was performing professionally in theater pit bands. After studying at the Musicians Institute in Hollywood\, he forged a distinctive path influenced by rock\, blues\, and jazz\, and has released six full‑length albums as leader of the Bill Hart Band. For over 25 years\, Hart led the guitar department at the Atlanta Institute of Music & Media\, teaching thousands of students and conducting masterclasses alongside icons like Mike Stern\, Scott Henderson\, and Steve Khan. He has shared stages with jazz luminaries such as Herbie Hancock\, Marcus Miller\, Norman Brown\, Joey DeFrancesco\, the Yellowjackets\, and the Rippingtons.  \n\n\n\nTerrell Montgomery is a dynamic Arkansas‑born bassist whose deep roots in jazz\, R&B\, soul\, and blues have shaped a vibrant career as a versatile performer and collaborator. A member of the Cincinnati music scene\, Montgomery earned his MM from the University of Cincinnati’s College‑Conservatory of Music following his 2016 bachelor’s from Arkansas State\, and had already been playing bass for over thirteen years. Initially trained on guitar\, he shifted to bass in junior high orchestra and quickly found his passion in ensemble work and has had a stunning trajectory upon relocating to Georgia.
URL:https://thevelvetnote.com/event/saturday-june-28th-jazz-on-a-g-string/
LOCATION:The Velvet Note Main Stage\, 4075 Old Milton Parkway\, Alpharetta\, 30005\, United States
ATTACH;FMTTYPE=image/jpeg:https://thevelvetnote.com/wp-content/uploads/2025/06/Add-a-subheading-3.jpg
END:VEVENT
END:VCALENDAR