BEGIN:VCALENDAR
VERSION:2.0
PRODID:-//The Velvet Note - ECPv6.15.20//NONSGML v1.0//EN
CALSCALE:GREGORIAN
METHOD:PUBLISH
X-ORIGINAL-URL:https://thevelvetnote.com
X-WR-CALDESC:Events for The Velvet Note
REFRESH-INTERVAL;VALUE=DURATION:PT1H
X-Robots-Tag:noindex
X-PUBLISHED-TTL:PT1H
BEGIN:VTIMEZONE
TZID:America/New_York
BEGIN:DAYLIGHT
TZOFFSETFROM:-0500
TZOFFSETTO:-0400
TZNAME:EDT
DTSTART:20240310T070000
END:DAYLIGHT
BEGIN:STANDARD
TZOFFSETFROM:-0400
TZOFFSETTO:-0500
TZNAME:EST
DTSTART:20241103T060000
END:STANDARD
BEGIN:DAYLIGHT
TZOFFSETFROM:-0500
TZOFFSETTO:-0400
TZNAME:EDT
DTSTART:20250309T070000
END:DAYLIGHT
BEGIN:STANDARD
TZOFFSETFROM:-0400
TZOFFSETTO:-0500
TZNAME:EST
DTSTART:20251102T060000
END:STANDARD
BEGIN:DAYLIGHT
TZOFFSETFROM:-0500
TZOFFSETTO:-0400
TZNAME:EDT
DTSTART:20260308T070000
END:DAYLIGHT
BEGIN:STANDARD
TZOFFSETFROM:-0400
TZOFFSETTO:-0500
TZNAME:EST
DTSTART:20261101T060000
END:STANDARD
END:VTIMEZONE
BEGIN:VEVENT
DTSTART;TZID=America/New_York:20250627T193000
DTEND;TZID=America/New_York:20250627T230000
DTSTAMP:20260422T055703
CREATED:20250318T033646Z
LAST-MODIFIED:20250627T163229Z
UID:30676-1751052600-1751065200@thevelvetnote.com
SUMMARY:Friday\, June 27th:  The Sammy Hanson Group [LIVE ALBUM RECORDING]
DESCRIPTION:7:30pm and 9:30pm Showtimes. A PASSIONATE PIANIST; SPECIALIZING IN JAZZ\, FUNK\, R&B\, COMPOSITION\, AND FILM SCORING. \n\n\n\nSammy Hanson is a jazz pianist and has been playing piano for 16 years. He is currently pursuing a Bachelors degree in Jazz Performance at Florida State University. Sammy has been performing in the Tampa/St. Petersburg area\, and Tallahassee. Sammy has competed in the Savannah Swing Central Jazz Festival twice\, performed in Carnegie Hall\, competed in the Essentially Ellington competition twice at Lincoln Center\, as well as the Jack Rudin championship at Lincoln Center. His music is all improvised live\, making each performance something special!
URL:https://thevelvetnote.com/event/friday-april-4th-the-sammy-hanson-group/
LOCATION:The Velvet Note Main Stage\, 4075 Old Milton Parkway\, Alpharetta\, 30005\, United States
ATTACH;FMTTYPE=image/jpeg:https://thevelvetnote.com/wp-content/uploads/2025/03/280f4d_4b9844c70c854acea60162f1b827ff3fmv2-1.jpg.jpg
END:VEVENT
END:VCALENDAR