BEGIN:VCALENDAR
VERSION:2.0
PRODID:-//The Velvet Note - ECPv6.15.20//NONSGML v1.0//EN
CALSCALE:GREGORIAN
METHOD:PUBLISH
X-ORIGINAL-URL:https://thevelvetnote.com
X-WR-CALDESC:Events for The Velvet Note
REFRESH-INTERVAL;VALUE=DURATION:PT1H
X-Robots-Tag:noindex
X-PUBLISHED-TTL:PT1H
BEGIN:VTIMEZONE
TZID:America/New_York
BEGIN:DAYLIGHT
TZOFFSETFROM:-0500
TZOFFSETTO:-0400
TZNAME:EDT
DTSTART:20240310T070000
END:DAYLIGHT
BEGIN:STANDARD
TZOFFSETFROM:-0400
TZOFFSETTO:-0500
TZNAME:EST
DTSTART:20241103T060000
END:STANDARD
BEGIN:DAYLIGHT
TZOFFSETFROM:-0500
TZOFFSETTO:-0400
TZNAME:EDT
DTSTART:20250309T070000
END:DAYLIGHT
BEGIN:STANDARD
TZOFFSETFROM:-0400
TZOFFSETTO:-0500
TZNAME:EST
DTSTART:20251102T060000
END:STANDARD
BEGIN:DAYLIGHT
TZOFFSETFROM:-0500
TZOFFSETTO:-0400
TZNAME:EDT
DTSTART:20260308T070000
END:DAYLIGHT
BEGIN:STANDARD
TZOFFSETFROM:-0400
TZOFFSETTO:-0500
TZNAME:EST
DTSTART:20261101T060000
END:STANDARD
END:VTIMEZONE
BEGIN:VEVENT
DTSTART;TZID=America/New_York:20250615T183000
DTEND;TZID=America/New_York:20250615T220000
DTSTAMP:20260422T055702
CREATED:20250528T205611Z
LAST-MODIFIED:20250528T205804Z
UID:30816-1750012200-1750024800@thevelvetnote.com
SUMMARY:Sunday\, June 15th:  Father's Day w/ The ATL Blues Cartel and Special Guest Saxophonist Steve Arnold
DESCRIPTION:SHOWTIMES:  6:30PM AND 8:30PM.    Celebrate Father’s Day with a night of powerful live blues at The Velvet Note. The ATL Blues Cartel returns for a double-header evening\, delivering raw soul and electrifying musicianship in one of the South’s most intimate venues. \n\n\n\nThis special event features: \n\n\n\n    •    Cannonball Red – rising bluesman and storyteller\, celebrating the release of his latest single “Put My Blues On You” \n\n\n\n    •    Garrett Collins – 2024 Atlanta Blues Challenge winner\, known for his searing guitar work and deep groove \n\n\n\n    •    Steve Arnold – special guest on saxophone\, known for his rich tone and fiery phrasing \n\n\n\nThis is modern Southern blues at its finest—gritty\, soulful\, and deeply moving. Perfect for blues lovers\, music fans\, and anyone looking to make this Father’s Day something special.
URL:https://thevelvetnote.com/event/sunday-june-15th-fathers-day-w-the-atl-blues-cartel-and-special-guest-saxophonist-steve-arnold/
LOCATION:The Velvet Note Main Stage\, 4075 Old Milton Parkway\, Alpharetta\, 30005\, United States
ATTACH;FMTTYPE=image/png:https://thevelvetnote.com/wp-content/uploads/2025/05/Untitled-1000-x-1200-px.png
END:VEVENT
END:VCALENDAR