BEGIN:VCALENDAR
VERSION:2.0
PRODID:-//The Velvet Note - ECPv6.15.20//NONSGML v1.0//EN
CALSCALE:GREGORIAN
METHOD:PUBLISH
X-WR-CALNAME:The Velvet Note
X-ORIGINAL-URL:https://thevelvetnote.com
X-WR-CALDESC:Events for The Velvet Note
REFRESH-INTERVAL;VALUE=DURATION:PT1H
X-Robots-Tag:noindex
X-PUBLISHED-TTL:PT1H
BEGIN:VTIMEZONE
TZID:America/New_York
BEGIN:DAYLIGHT
TZOFFSETFROM:-0500
TZOFFSETTO:-0400
TZNAME:EDT
DTSTART:20240310T070000
END:DAYLIGHT
BEGIN:STANDARD
TZOFFSETFROM:-0400
TZOFFSETTO:-0500
TZNAME:EST
DTSTART:20241103T060000
END:STANDARD
BEGIN:DAYLIGHT
TZOFFSETFROM:-0500
TZOFFSETTO:-0400
TZNAME:EDT
DTSTART:20250309T070000
END:DAYLIGHT
BEGIN:STANDARD
TZOFFSETFROM:-0400
TZOFFSETTO:-0500
TZNAME:EST
DTSTART:20251102T060000
END:STANDARD
BEGIN:DAYLIGHT
TZOFFSETFROM:-0500
TZOFFSETTO:-0400
TZNAME:EDT
DTSTART:20260308T070000
END:DAYLIGHT
BEGIN:STANDARD
TZOFFSETFROM:-0400
TZOFFSETTO:-0500
TZNAME:EST
DTSTART:20261101T060000
END:STANDARD
END:VTIMEZONE
BEGIN:VEVENT
DTSTART;TZID=America/New_York:20250613T193000
DTEND;TZID=America/New_York:20250613T211500
DTSTAMP:20260422T055519
CREATED:20250528T162223Z
LAST-MODIFIED:20250528T162223Z
UID:30808-1749843000-1749849300@thevelvetnote.com
SUMMARY:Friday\, June 13th:  The Misha Stefanuk Group
DESCRIPTION:ONE SHOW ONLY! 7:30PM. The Misha Stefanuk Group represents the culmination of years of musical evolution\, tracing its lineage through legendary piano trios from Nashville’s Mooseknows to Atlanta’s Sargent Caldwell Stefanuk. This ensemble not only delivers an entertaining experience but also deepens our appreciation for music as a vital and profound human endeavor. \n\n\n\nAt the helm is Misha Stefanuk\, a renowned jazz and classical pianist\, organist\, and composer whose dynamic presence has left an indelible mark on the music industry. With over a hundred TV credits to his name\, including appearances on Good Morning America and One Life to Live\, Stefanuk’s versatility and mastery across diverse musical styles have made him a highly sought-after performer and composer. \n\n\n\nJoining Stefanuk are two accomplished musicians: Alex Blumenthaler\, a seasoned upright bassist with over two decades of experience performing with various jazz combos and big bands across the United States\, and Dan Callender\, a skilled drummer who has been a fixture in Detroit and Atlanta’s jazz and funk scenes since the early 1990s\, with a particular passion for intimate combo settings. \n\n\n\nTogether\, the Misha Stefanuk Group continues to push the boundaries of musical expression\, inviting audiences to join them on a captivating journey through sound. Keep the music going!
URL:https://thevelvetnote.com/event/friday-june-13th-the-misha-stefanuk-group/
LOCATION:The Velvet Note Main Stage\, 4075 Old Milton Parkway\, Alpharetta\, 30005\, United States
ATTACH;FMTTYPE=image/jpeg:https://thevelvetnote.com/wp-content/uploads/2025/05/IMG_5048.jpeg
END:VEVENT
END:VCALENDAR