BEGIN:VCALENDAR
VERSION:2.0
PRODID:-//The Velvet Note - ECPv6.15.20//NONSGML v1.0//EN
CALSCALE:GREGORIAN
METHOD:PUBLISH
X-ORIGINAL-URL:https://thevelvetnote.com
X-WR-CALDESC:Events for The Velvet Note
REFRESH-INTERVAL;VALUE=DURATION:PT1H
X-Robots-Tag:noindex
X-PUBLISHED-TTL:PT1H
BEGIN:VTIMEZONE
TZID:America/New_York
BEGIN:DAYLIGHT
TZOFFSETFROM:-0500
TZOFFSETTO:-0400
TZNAME:EDT
DTSTART:20240310T070000
END:DAYLIGHT
BEGIN:STANDARD
TZOFFSETFROM:-0400
TZOFFSETTO:-0500
TZNAME:EST
DTSTART:20241103T060000
END:STANDARD
BEGIN:DAYLIGHT
TZOFFSETFROM:-0500
TZOFFSETTO:-0400
TZNAME:EDT
DTSTART:20250309T070000
END:DAYLIGHT
BEGIN:STANDARD
TZOFFSETFROM:-0400
TZOFFSETTO:-0500
TZNAME:EST
DTSTART:20251102T060000
END:STANDARD
BEGIN:DAYLIGHT
TZOFFSETFROM:-0500
TZOFFSETTO:-0400
TZNAME:EDT
DTSTART:20260308T070000
END:DAYLIGHT
BEGIN:STANDARD
TZOFFSETFROM:-0400
TZOFFSETTO:-0500
TZNAME:EST
DTSTART:20261101T060000
END:STANDARD
END:VTIMEZONE
BEGIN:VEVENT
DTSTART;TZID=America/New_York:20250606T193000
DTEND;TZID=America/New_York:20250606T230000
DTSTAMP:20260422T055617
CREATED:20250528T020708Z
LAST-MODIFIED:20250528T020731Z
UID:30796-1749238200-1749250800@thevelvetnote.com
SUMMARY:Friday\, June 6th:  Singer/Guitarist Zach Person
DESCRIPTION:Zach Person is an American indie-rock guitarist and singer-songwriter known for his electrifying performances and genre-blending sound\, who got his initial surge of fame in Season 15 of American Idol. Emerging from Austin\, Texas\, he fuses elements of jazz\, blues\, rock\, and soul\, drawing inspiration from artists like Jimi Hendrix\, The Black Keys\, and Jack White. His debut self-titled album\, released in 2021\, garnered critical acclaim\, leading to features in publications such as American Songwriter and Guitar World. Person has toured extensively across North America and Europe\, sharing stages with renowned acts like Buddy Guy\, Larkin Poe\, and Robert Cray.
URL:https://thevelvetnote.com/event/friday-june-6th-singer-guitarist-zach-person/
LOCATION:The Velvet Note Main Stage\, 4075 Old Milton Parkway\, Alpharetta\, 30005\, United States
ATTACH;FMTTYPE=image/jpeg:https://thevelvetnote.com/wp-content/uploads/2025/05/Untitled-design-8.jpg
END:VEVENT
END:VCALENDAR