BEGIN:VCALENDAR
VERSION:2.0
PRODID:-//The Velvet Note - ECPv6.15.20//NONSGML v1.0//EN
CALSCALE:GREGORIAN
METHOD:PUBLISH
X-WR-CALNAME:The Velvet Note
X-ORIGINAL-URL:https://thevelvetnote.com
X-WR-CALDESC:Events for The Velvet Note
REFRESH-INTERVAL;VALUE=DURATION:PT1H
X-Robots-Tag:noindex
X-PUBLISHED-TTL:PT1H
BEGIN:VTIMEZONE
TZID:America/New_York
BEGIN:DAYLIGHT
TZOFFSETFROM:-0500
TZOFFSETTO:-0400
TZNAME:EDT
DTSTART:20240310T070000
END:DAYLIGHT
BEGIN:STANDARD
TZOFFSETFROM:-0400
TZOFFSETTO:-0500
TZNAME:EST
DTSTART:20241103T060000
END:STANDARD
BEGIN:DAYLIGHT
TZOFFSETFROM:-0500
TZOFFSETTO:-0400
TZNAME:EDT
DTSTART:20250309T070000
END:DAYLIGHT
BEGIN:STANDARD
TZOFFSETFROM:-0400
TZOFFSETTO:-0500
TZNAME:EST
DTSTART:20251102T060000
END:STANDARD
BEGIN:DAYLIGHT
TZOFFSETFROM:-0500
TZOFFSETTO:-0400
TZNAME:EDT
DTSTART:20260308T070000
END:DAYLIGHT
BEGIN:STANDARD
TZOFFSETFROM:-0400
TZOFFSETTO:-0500
TZNAME:EST
DTSTART:20261101T060000
END:STANDARD
END:VTIMEZONE
BEGIN:VEVENT
DTSTART;TZID=America/New_York:20250517T193000
DTEND;TZID=America/New_York:20250517T230000
DTSTAMP:20260422T072657
CREATED:20250513T044732Z
LAST-MODIFIED:20250517T230834Z
UID:30765-1747510200-1747522800@thevelvetnote.com
SUMMARY:Saturday\, May 17th:  TrapJazz\, Featuring Chris Moten
DESCRIPTION:SHOWTIMES: 7:30PM AND 9:30PM. To Atlanta audiophiles\, Chris’s best known for his force as an arranger and Musical Director for multiple prominent celebrity artists. Chris has work as a leader and as a follower. From working side by side on shows containing some of the best musicians in the business\, including two of the nation’s greatest Band Leaders\, Jay Leno’s Band Leader\, Ricky Minor and Justin Timberlake/Janet Jackson’s Musical Director\, Adam Blackstone. While touring with B.o.B.\, Chris was featured in Bob’s 2010 video Don’t Let Me Fall\, as the pianist in his street band. Chris also studied Jazz Composition and Improvisation at Clark Atlanta University where he also won first seat in the acclaimed IAJE HBCU all-star band in which potential members would create and send an audition tape to be considered to travel and perform with the all-star unit. Chris picked up yet another first place trophy for winning the 2005 Margaret A. Guthman keyboard competing\, taking the competition by storm as aspiring pianist all over the world would participate. While touring\, Moten developed skills that would allow him to create high energy musical transitions\, moving intros\, outros and segues the keep the crowd on the edge of their seat until the very last note. It was while touring that Chris built several bands for artists like Kelly Rowland\, Joe Jonas\, and Flo-Rida just to name a few. The bands created by Chris are relentless at how fierce and energetic the players are while performing the Artists original music both in studio and out.
URL:https://thevelvetnote.com/event/saturday-may-17th-trapjazz-featuring-chris-moten/
LOCATION:The Velvet Note Main Stage\, 4075 Old Milton Parkway\, Alpharetta\, 30005\, United States
ATTACH;FMTTYPE=image/jpeg:https://thevelvetnote.com/wp-content/uploads/2025/05/Add-a-heading-2.jpg
END:VEVENT
END:VCALENDAR