BEGIN:VCALENDAR
VERSION:2.0
PRODID:-//The Velvet Note - ECPv6.15.20//NONSGML v1.0//EN
CALSCALE:GREGORIAN
METHOD:PUBLISH
X-WR-CALNAME:The Velvet Note
X-ORIGINAL-URL:https://thevelvetnote.com
X-WR-CALDESC:Events for The Velvet Note
REFRESH-INTERVAL;VALUE=DURATION:PT1H
X-Robots-Tag:noindex
X-PUBLISHED-TTL:PT1H
BEGIN:VTIMEZONE
TZID:America/New_York
BEGIN:DAYLIGHT
TZOFFSETFROM:-0500
TZOFFSETTO:-0400
TZNAME:EDT
DTSTART:20240310T070000
END:DAYLIGHT
BEGIN:STANDARD
TZOFFSETFROM:-0400
TZOFFSETTO:-0500
TZNAME:EST
DTSTART:20241103T060000
END:STANDARD
BEGIN:DAYLIGHT
TZOFFSETFROM:-0500
TZOFFSETTO:-0400
TZNAME:EDT
DTSTART:20250309T070000
END:DAYLIGHT
BEGIN:STANDARD
TZOFFSETFROM:-0400
TZOFFSETTO:-0500
TZNAME:EST
DTSTART:20251102T060000
END:STANDARD
BEGIN:DAYLIGHT
TZOFFSETFROM:-0500
TZOFFSETTO:-0400
TZNAME:EDT
DTSTART:20260308T070000
END:DAYLIGHT
BEGIN:STANDARD
TZOFFSETFROM:-0400
TZOFFSETTO:-0500
TZNAME:EST
DTSTART:20261101T060000
END:STANDARD
END:VTIMEZONE
BEGIN:VEVENT
DTSTART;TZID=America/New_York:20250510T193000
DTEND;TZID=America/New_York:20250511T210000
DTSTAMP:20260422T072707
CREATED:20250427T190301Z
LAST-MODIFIED:20250427T190529Z
UID:30738-1746905400-1746997200@thevelvetnote.com
SUMMARY:Saturday and Sunday\, May 10th & 11th:  Mother's Day Weekend with The Bosman Twins!
DESCRIPTION:SATURDAY SHOWTIMES: 7:30PM AND 9:30PM \n\n\n\nSUNDAY SHOWTIMES: 5:30PM AND 7:30PM \n\n\n\nBorn in St. Louis\, Missouri\, Dwayne’s and Dwight’s passion for jazz started at an early age. They grew up listening to the sounds of great jazz artists such as Earl “Fatha” Hines\, Count Basie\, Duke Ellington and their father Lloyd Smith\, who was a well known businessman and a side man in Basie’s and Ellington’s orchestras. They are both Florida A&M University music scholars\, composers\, arrangers\, jazz artists and music educators. Over the years\, The Bosman Twins have shared their love of music and the stage with entertainment legends Freddie Cole\, Branford Marsalis\, Fontella Bass\, Roy Ayers\, David Peaston and the late trumpeter\, Lester Bowie. Whether performing with their own band or accompanying other notable jazz professionals\, their unique style and renditions of jazz\, rhythm and blues\, funk and gospel have earned them national and international acclaim. \n\n\n\nGet to know The Bosman Twins and their music by clicking HERE. \n\n\n\nThe Bosmans play an array of woodwind instruments\, ranging from tenor and alto saxophone (Dwayne and Dwight’s primary instruments) to soprano sax and a variety of clarinets and flutes. They always bring an infectious enthusiasm and energy to the stage\, an approach they learned from their father\, Lloyd Smith\, an alto saxophonist and flute player who worked with such famous St. Louis bandleaders as Fate Marable\, Charles Creath and Dewey Jackson – and later played with legends like Earl Hines and Duke Ellington on the national jazz scene.
URL:https://thevelvetnote.com/event/saturday-and-sunday-may-10th-11th-mothers-day-weekend-with-the-bosman-twins/
LOCATION:The Velvet Note Main Stage\, 4075 Old Milton Parkway\, Alpharetta\, 30005\, United States
ATTACH;FMTTYPE=image/jpeg:https://thevelvetnote.com/wp-content/uploads/2025/04/Untitled-design-4.jpg
END:VEVENT
END:VCALENDAR