BEGIN:VCALENDAR
VERSION:2.0
PRODID:-//The Velvet Note - ECPv6.15.20//NONSGML v1.0//EN
CALSCALE:GREGORIAN
METHOD:PUBLISH
X-ORIGINAL-URL:https://thevelvetnote.com
X-WR-CALDESC:Events for The Velvet Note
REFRESH-INTERVAL;VALUE=DURATION:PT1H
X-Robots-Tag:noindex
X-PUBLISHED-TTL:PT1H
BEGIN:VTIMEZONE
TZID:America/New_York
BEGIN:DAYLIGHT
TZOFFSETFROM:-0500
TZOFFSETTO:-0400
TZNAME:EDT
DTSTART:20240310T070000
END:DAYLIGHT
BEGIN:STANDARD
TZOFFSETFROM:-0400
TZOFFSETTO:-0500
TZNAME:EST
DTSTART:20241103T060000
END:STANDARD
BEGIN:DAYLIGHT
TZOFFSETFROM:-0500
TZOFFSETTO:-0400
TZNAME:EDT
DTSTART:20250309T070000
END:DAYLIGHT
BEGIN:STANDARD
TZOFFSETFROM:-0400
TZOFFSETTO:-0500
TZNAME:EST
DTSTART:20251102T060000
END:STANDARD
BEGIN:DAYLIGHT
TZOFFSETFROM:-0500
TZOFFSETTO:-0400
TZNAME:EDT
DTSTART:20260308T070000
END:DAYLIGHT
BEGIN:STANDARD
TZOFFSETFROM:-0400
TZOFFSETTO:-0500
TZNAME:EST
DTSTART:20261101T060000
END:STANDARD
END:VTIMEZONE
BEGIN:VEVENT
DTSTART;TZID=America/New_York:20250509T193000
DTEND;TZID=America/New_York:20250509T230000
DTSTAMP:20260422T072829
CREATED:20250409T194913Z
LAST-MODIFIED:20250409T195433Z
UID:30698-1746819000-1746831600@thevelvetnote.com
SUMMARY:Friday\, May 9th:  Singer Songwriter Stella Rockwitz
DESCRIPTION:SHOWTIMES:  7:30pm and 9:30pm.  Stella Rockwitz is a multi-faceted vocalist and songwriter based in Nashville\, TN\, seamlessly blending elements of jazz\, rock\, indie/alternative\, and pop. A recent graduate of Belmont University\, she was a member of the university’s premier jazz vocal ensemble\, Jazzmin\, which was featured in Christmas at Belmont on Amazon Prime. \n\n\n\nA rocker at heart\, Stella brings a modern\, youthful edge to jazz—reimagining well-known commercial hits with fresh\, dynamic interpretations while honoring time-tested standards. Her original music features introspective lyrics and earworm melodies infused with indie rock/pop energy. Her warm\, emotive voice captivates audiences\, bridging genres with authenticity and soul. \n\n\n\nStella’s debut pop-rock single\, Puppydog\, is set for release this May.
URL:https://thevelvetnote.com/event/friday-april-9th-singer-songwriter-stella-rockwitz/
LOCATION:The Velvet Note Main Stage\, 4075 Old Milton Parkway\, Alpharetta\, 30005\, United States
ATTACH;FMTTYPE=image/jpeg:https://thevelvetnote.com/wp-content/uploads/2025/04/0-1.jpeg
END:VEVENT
END:VCALENDAR