BEGIN:VCALENDAR
VERSION:2.0
PRODID:-//The Velvet Note - ECPv6.15.20//NONSGML v1.0//EN
CALSCALE:GREGORIAN
METHOD:PUBLISH
X-ORIGINAL-URL:https://thevelvetnote.com
X-WR-CALDESC:Events for The Velvet Note
REFRESH-INTERVAL;VALUE=DURATION:PT1H
X-Robots-Tag:noindex
X-PUBLISHED-TTL:PT1H
BEGIN:VTIMEZONE
TZID:America/New_York
BEGIN:DAYLIGHT
TZOFFSETFROM:-0500
TZOFFSETTO:-0400
TZNAME:EDT
DTSTART:20240310T070000
END:DAYLIGHT
BEGIN:STANDARD
TZOFFSETFROM:-0400
TZOFFSETTO:-0500
TZNAME:EST
DTSTART:20241103T060000
END:STANDARD
BEGIN:DAYLIGHT
TZOFFSETFROM:-0500
TZOFFSETTO:-0400
TZNAME:EDT
DTSTART:20250309T070000
END:DAYLIGHT
BEGIN:STANDARD
TZOFFSETFROM:-0400
TZOFFSETTO:-0500
TZNAME:EST
DTSTART:20251102T060000
END:STANDARD
BEGIN:DAYLIGHT
TZOFFSETFROM:-0500
TZOFFSETTO:-0400
TZNAME:EDT
DTSTART:20260308T070000
END:DAYLIGHT
BEGIN:STANDARD
TZOFFSETFROM:-0400
TZOFFSETTO:-0500
TZNAME:EST
DTSTART:20261101T060000
END:STANDARD
END:VTIMEZONE
BEGIN:VEVENT
DTSTART;TZID=America/New_York:20250502T073000
DTEND;TZID=America/New_York:20250503T230000
DTSTAMP:20260422T072742
CREATED:20250427T023655Z
LAST-MODIFIED:20250427T023656Z
UID:30734-1746171000-1746313200@thevelvetnote.com
SUMMARY:Friday and Saturday\, May 2nd &3rd:  Saxophonist and Singer Marcus Adams
DESCRIPTION:SHOWTIMES: 7:30PM AND 8:30PM. Just when urban jazz fans thought every show\, cruise and festival would always include the same lineup of veterans they’ve seen a million times—Suddenly\, there’s Marcus Adams\, a fresh\, dynamic voice on the scene\, ready to funk things up and inspire them to fall in love with the sax all over again.  oul Jazz artist Marcus Adams is starting the summer of 2025 with a smoking hot entrance! His solo show will be featured at newvenues across the US. Don’t miss the soul\, style\, and experience of Marcus Adams.
URL:https://thevelvetnote.com/event/friday-and-saturday-may-2nd-3rd-saxophonist-and-singer-marcus-adams/
ATTACH;FMTTYPE=image/jpeg:https://thevelvetnote.com/wp-content/uploads/2025/04/Unknown.jpeg
END:VEVENT
END:VCALENDAR