BEGIN:VCALENDAR
VERSION:2.0
PRODID:-//The Velvet Note - ECPv6.15.20//NONSGML v1.0//EN
CALSCALE:GREGORIAN
METHOD:PUBLISH
X-ORIGINAL-URL:https://thevelvetnote.com
X-WR-CALDESC:Events for The Velvet Note
REFRESH-INTERVAL;VALUE=DURATION:PT1H
X-Robots-Tag:noindex
X-PUBLISHED-TTL:PT1H
BEGIN:VTIMEZONE
TZID:America/New_York
BEGIN:DAYLIGHT
TZOFFSETFROM:-0500
TZOFFSETTO:-0400
TZNAME:EDT
DTSTART:20240310T070000
END:DAYLIGHT
BEGIN:STANDARD
TZOFFSETFROM:-0400
TZOFFSETTO:-0500
TZNAME:EST
DTSTART:20241103T060000
END:STANDARD
BEGIN:DAYLIGHT
TZOFFSETFROM:-0500
TZOFFSETTO:-0400
TZNAME:EDT
DTSTART:20250309T070000
END:DAYLIGHT
BEGIN:STANDARD
TZOFFSETFROM:-0400
TZOFFSETTO:-0500
TZNAME:EST
DTSTART:20251102T060000
END:STANDARD
BEGIN:DAYLIGHT
TZOFFSETFROM:-0500
TZOFFSETTO:-0400
TZNAME:EDT
DTSTART:20260308T070000
END:DAYLIGHT
BEGIN:STANDARD
TZOFFSETFROM:-0400
TZOFFSETTO:-0500
TZNAME:EST
DTSTART:20261101T060000
END:STANDARD
END:VTIMEZONE
BEGIN:VEVENT
DTSTART;TZID=America/New_York:20250322T193000
DTEND;TZID=America/New_York:20250322T230000
DTSTAMP:20260422T101546
CREATED:20250224T192903Z
LAST-MODIFIED:20250224T192905Z
UID:30609-1742671800-1742684400@thevelvetnote.com
SUMMARY:Saturday\, March 22nd:  Saxophonist Dee Lucas--Twenty Tour
DESCRIPTION:SHOWTIMES:  7:30pm and 9:30pm.   International recording artist\, saxophonist Dee Lucas has reached a monumental landmark celebrating 20 years as a recording artist / entrepreneur who so happens to own his master catalog of music. As much as he is a visionary\, Dee never thought he would see 20 years of longevity in this tough and competitive music industry. But after releasing 10 charting albums internationally as an independent artist and touring across the country as a performer\, he is still here. \n\n\n\nThe journey continues with a brand new album “TWENTY” and the hot new title track single \n\n\n\nfeaturing 20+ number one hit making sensation Michael Broening. \n\n\n\n“TWENTY” is a pure reflection of Dee Lucas’s consistency of the PAST\, fresh ideas and \n\n\n\nstaying power to the PRESENT\, and his optimism of the FUTURE.
URL:https://thevelvetnote.com/event/saturday-march-22nd-saxophonist-dee-lucas-twenty-tour/
ATTACH;FMTTYPE=image/jpeg:https://thevelvetnote.com/wp-content/uploads/2025/02/CopyofTwentyFrontCover.jpeg
END:VEVENT
END:VCALENDAR