BEGIN:VCALENDAR
VERSION:2.0
PRODID:-//The Velvet Note - ECPv6.15.20//NONSGML v1.0//EN
CALSCALE:GREGORIAN
METHOD:PUBLISH
X-WR-CALNAME:The Velvet Note
X-ORIGINAL-URL:https://thevelvetnote.com
X-WR-CALDESC:Events for The Velvet Note
REFRESH-INTERVAL;VALUE=DURATION:PT1H
X-Robots-Tag:noindex
X-PUBLISHED-TTL:PT1H
BEGIN:VTIMEZONE
TZID:America/New_York
BEGIN:DAYLIGHT
TZOFFSETFROM:-0500
TZOFFSETTO:-0400
TZNAME:EDT
DTSTART:20240310T070000
END:DAYLIGHT
BEGIN:STANDARD
TZOFFSETFROM:-0400
TZOFFSETTO:-0500
TZNAME:EST
DTSTART:20241103T060000
END:STANDARD
BEGIN:DAYLIGHT
TZOFFSETFROM:-0500
TZOFFSETTO:-0400
TZNAME:EDT
DTSTART:20250309T070000
END:DAYLIGHT
BEGIN:STANDARD
TZOFFSETFROM:-0400
TZOFFSETTO:-0500
TZNAME:EST
DTSTART:20251102T060000
END:STANDARD
BEGIN:DAYLIGHT
TZOFFSETFROM:-0500
TZOFFSETTO:-0400
TZNAME:EDT
DTSTART:20260308T070000
END:DAYLIGHT
BEGIN:STANDARD
TZOFFSETFROM:-0400
TZOFFSETTO:-0500
TZNAME:EST
DTSTART:20261101T060000
END:STANDARD
END:VTIMEZONE
BEGIN:VEVENT
DTSTART;TZID=America/New_York:20250314T193000
DTEND;TZID=America/New_York:20250315T230000
DTSTAMP:20260422T101431
CREATED:20250226T161914Z
LAST-MODIFIED:20250226T162013Z
UID:30625-1741980600-1742079600@thevelvetnote.com
SUMMARY:Friday and Saturday\, March 14th & 15th:  Joe Granden's Chet Baker Sings!
DESCRIPTION:SHOWTIMES:  7:30PM AND 9:30PM.  Chet Baker was an American jazz trumpeter and vocalist. He is known for major innovations in cool jazz that led him to be nicknamed the “Prince of Cool”.  Baker earned much attention and critical praise through the 1950s\, particularly for albums featuring his vocals: Chet Baker Sings (1954) The similarities between Baker and Atlanta Jazz icon Joe Gransden are haunting. Join us for an exclusive\, romantic evening of Gransden’s translation of Chet Baker’s seminal work.
URL:https://thevelvetnote.com/event/friday-and-saturday-march-14th-15th-joe-grandens-chet-baker-sings/
LOCATION:The Velvet Note Main Stage\, 4075 Old Milton Parkway\, Alpharetta\, 30005\, United States
ATTACH;FMTTYPE=image/jpeg:https://thevelvetnote.com/wp-content/uploads/2025/02/Joe-Gransden-3.jpg
END:VEVENT
END:VCALENDAR