BEGIN:VCALENDAR
VERSION:2.0
PRODID:-//The Velvet Note - ECPv6.15.20//NONSGML v1.0//EN
CALSCALE:GREGORIAN
METHOD:PUBLISH
X-WR-CALNAME:The Velvet Note
X-ORIGINAL-URL:https://thevelvetnote.com
X-WR-CALDESC:Events for The Velvet Note
REFRESH-INTERVAL;VALUE=DURATION:PT1H
X-Robots-Tag:noindex
X-PUBLISHED-TTL:PT1H
BEGIN:VTIMEZONE
TZID:America/New_York
BEGIN:DAYLIGHT
TZOFFSETFROM:-0500
TZOFFSETTO:-0400
TZNAME:EDT
DTSTART:20240310T070000
END:DAYLIGHT
BEGIN:STANDARD
TZOFFSETFROM:-0400
TZOFFSETTO:-0500
TZNAME:EST
DTSTART:20241103T060000
END:STANDARD
BEGIN:DAYLIGHT
TZOFFSETFROM:-0500
TZOFFSETTO:-0400
TZNAME:EDT
DTSTART:20250309T070000
END:DAYLIGHT
BEGIN:STANDARD
TZOFFSETFROM:-0400
TZOFFSETTO:-0500
TZNAME:EST
DTSTART:20251102T060000
END:STANDARD
BEGIN:DAYLIGHT
TZOFFSETFROM:-0500
TZOFFSETTO:-0400
TZNAME:EDT
DTSTART:20260308T070000
END:DAYLIGHT
BEGIN:STANDARD
TZOFFSETFROM:-0400
TZOFFSETTO:-0500
TZNAME:EST
DTSTART:20261101T060000
END:STANDARD
END:VTIMEZONE
BEGIN:VEVENT
DTSTART;TZID=America/New_York:20250308T193000
DTEND;TZID=America/New_York:20250308T230000
DTSTAMP:20260422T101411
CREATED:20250305T065535Z
LAST-MODIFIED:20250305T065536Z
UID:30638-1741462200-1741474800@thevelvetnote.com
SUMMARY:Saturday\, March 8th:  Cafe Au Lait
DESCRIPTION:Cafè Au Lait is a vibrant and dynamic music collective that effortlessly blends genres to create a unique and captivating sound. The New Orleans-grown\, Atlanta based group specializes in original and classic arrangements of R&B\, Soul\, Rock\, Funk\, Afro-Reggae and Jazz tunes. \n\n\n\nOur mission is to bring people of all creeds and colors together with our infectious melodies and heartfelt lyrics. During a time in which violence\, ignorance\, and stress are killing us\, music brings us together regardless of our differences\, to dance\, be free\, and heal our community. \n\n\n\nCafe Au Lait’s show is crafted to be dynamic\, stirring\, and energetic! With soulful vocalists and a funky rhythm section\, Cafè Au Lait takes listeners on an emotive and transformative musical adventure\, evoking a range of feelings from blissful euphoria to bittersweet nostalgia.
URL:https://thevelvetnote.com/event/saturday-march-8th-cafe-au-lait/
ATTACH;FMTTYPE=image/jpeg:https://thevelvetnote.com/wp-content/uploads/2025/03/IMG-20250301-WA0004.jpg
END:VEVENT
END:VCALENDAR