BEGIN:VCALENDAR
VERSION:2.0
PRODID:-//The Velvet Note - ECPv6.15.20//NONSGML v1.0//EN
CALSCALE:GREGORIAN
METHOD:PUBLISH
X-WR-CALNAME:The Velvet Note
X-ORIGINAL-URL:https://thevelvetnote.com
X-WR-CALDESC:Events for The Velvet Note
REFRESH-INTERVAL;VALUE=DURATION:PT1H
X-Robots-Tag:noindex
X-PUBLISHED-TTL:PT1H
BEGIN:VTIMEZONE
TZID:America/New_York
BEGIN:DAYLIGHT
TZOFFSETFROM:-0500
TZOFFSETTO:-0400
TZNAME:EDT
DTSTART:20240310T070000
END:DAYLIGHT
BEGIN:STANDARD
TZOFFSETFROM:-0400
TZOFFSETTO:-0500
TZNAME:EST
DTSTART:20241103T060000
END:STANDARD
BEGIN:DAYLIGHT
TZOFFSETFROM:-0500
TZOFFSETTO:-0400
TZNAME:EDT
DTSTART:20250309T070000
END:DAYLIGHT
BEGIN:STANDARD
TZOFFSETFROM:-0400
TZOFFSETTO:-0500
TZNAME:EST
DTSTART:20251102T060000
END:STANDARD
BEGIN:DAYLIGHT
TZOFFSETFROM:-0500
TZOFFSETTO:-0400
TZNAME:EDT
DTSTART:20260308T070000
END:DAYLIGHT
BEGIN:STANDARD
TZOFFSETFROM:-0400
TZOFFSETTO:-0500
TZNAME:EST
DTSTART:20261101T060000
END:STANDARD
END:VTIMEZONE
BEGIN:VEVENT
DTSTART;TZID=America/New_York:20250216T190000
DTEND;TZID=America/New_York:20250216T224500
DTSTAMP:20260422T113905
CREATED:20250131T183631Z
LAST-MODIFIED:20250216T210245Z
UID:30571-1739732400-1739745900@thevelvetnote.com
SUMMARY:Sunday\, February 16th:  Roman Street-Seating Available
DESCRIPTION:SHOWTIMES: 7:00pm and 9:00pm. These top fan favorites are back with their quartet at The Velvet Note for an evening of great festivity and song! \n\n\n\nBrothers Noah and Josh Thompson put their guitars together to form Roman Street. Since the college years\, this brotherly jam session has developed into a Billboard/iTunes charting band who many have dubbed ‘the next generation’ of Jazz Fusion. Roman Street\, named for an old roman street in the Alps where they studied guitar\, is an internationally trained instrumental band specializing in improvisational fusion of Classical\, Gypsy and Contemporary Jazz\, Latin\, and Nuevo Flamenco. A departure from the over-produced music that is out there today\, they keep it simple—the beautifully organic sound of acoustic instruments played by talented people who love what they are doing. Whether performing as a guitar duo\, or with a backing band\, Roman Street astounds with music that appeals to fans of many genres.
URL:https://thevelvetnote.com/event/sunday-february-16th-valentines-weekend-special-roman-street/
LOCATION:The Velvet Note Main Stage\, 4075 Old Milton Parkway\, Alpharetta\, 30005\, United States
ATTACH;FMTTYPE=image/jpeg:https://thevelvetnote.com/wp-content/uploads/2014/07/RomanStreetHiRes.jpg
END:VEVENT
END:VCALENDAR